BEGIN:VCALENDAR
VERSION:2.0
PRODID:-//Round Valley Area Municipal Advisory Council - ECPv6.15.3//NONSGML v1.0//EN
CALSCALE:GREGORIAN
METHOD:PUBLISH
X-WR-CALNAME:Round Valley Area Municipal Advisory Council
X-ORIGINAL-URL:https://mac.roundvalley.org
X-WR-CALDESC:Events for Round Valley Area Municipal Advisory Council
REFRESH-INTERVAL;VALUE=DURATION:PT1H
X-Robots-Tag:noindex
X-PUBLISHED-TTL:PT1H
BEGIN:VTIMEZONE
TZID:America/Los_Angeles
BEGIN:DAYLIGHT
TZOFFSETFROM:-0800
TZOFFSETTO:-0700
TZNAME:PDT
DTSTART:20230312T100000
END:DAYLIGHT
BEGIN:STANDARD
TZOFFSETFROM:-0700
TZOFFSETTO:-0800
TZNAME:PST
DTSTART:20231105T090000
END:STANDARD
END:VTIMEZONE
BEGIN:VEVENT
DTSTART;TZID=America/Los_Angeles:20231021T170000
DTEND;TZID=America/Los_Angeles:20231021T230000
DTSTAMP:20260425T071300
CREATED:20231004T204936Z
LAST-MODIFIED:20231004T225345Z
UID:1008-1697907600-1697929200@mac.roundvalley.org
SUMMARY:Benefit Gala for Skatepark Project
DESCRIPTION:Music\, Dinner\, Dancing\, silent Auction. \nPre order tickets:  $25 entry fee for adults $10 for kids.
URL:https://mac.roundvalley.org/event/benefit-gala-for-skatepark-project/
LOCATION:Round Valley Library Commons\, 23925 Howard Street\, Covelo\, 95428
END:VEVENT
END:VCALENDAR