BEGIN:VCALENDAR
VERSION:2.0
PRODID:-//Round Valley Area Municipal Advisory Council - ECPv6.15.3//NONSGML v1.0//EN
CALSCALE:GREGORIAN
METHOD:PUBLISH
X-ORIGINAL-URL:https://mac.roundvalley.org
X-WR-CALDESC:Events for Round Valley Area Municipal Advisory Council
REFRESH-INTERVAL;VALUE=DURATION:PT1H
X-Robots-Tag:noindex
X-PUBLISHED-TTL:PT1H
BEGIN:VTIMEZONE
TZID:America/Los_Angeles
BEGIN:DAYLIGHT
TZOFFSETFROM:-0800
TZOFFSETTO:-0700
TZNAME:PDT
DTSTART:20240310T100000
END:DAYLIGHT
BEGIN:STANDARD
TZOFFSETFROM:-0700
TZOFFSETTO:-0800
TZNAME:PST
DTSTART:20241103T090000
END:STANDARD
END:VTIMEZONE
BEGIN:VEVENT
DTSTART;TZID=America/Los_Angeles:20240921T150000
DTEND;TZID=America/Los_Angeles:20240921T165000
DTSTAMP:20260424T142931
CREATED:20240817T232706Z
LAST-MODIFIED:20240817T233023Z
UID:1691-1726930800-1726937400@mac.roundvalley.org
SUMMARY:Saturday Movie Matinee at the Library:  "The Garfield Movie"
DESCRIPTION:The Garfield Movie is a 2024 animated adventure/comedy film based on the comic strip\, Garfield\, created by Jim Davis. In the film\, Garfield is reunited with his long-lost father\, a street cat named Vic\, and is forced into joining him on a high-stakes adventure. The film is rated PG. \nEnjoy this movie with friends and family in the library’s community room. Popcorn and water provided. \nPlease arrive a few minutes early as we will start the film on time.\nRemember\, children under 9 years of age may not be let unattended anywhere in the library and must be accompanied and directly supervised by a responsible adult. \nGarfield: The Movie
URL:https://mac.roundvalley.org/event/saturday-movie-matinee-at-the-library-the-garfield-movie/
END:VEVENT
END:VCALENDAR