BEGIN:VCALENDAR
VERSION:2.0
PRODID:-//Round Valley Area Municipal Advisory Council - ECPv6.15.3//NONSGML v1.0//EN
CALSCALE:GREGORIAN
METHOD:PUBLISH
X-WR-CALNAME:Round Valley Area Municipal Advisory Council
X-ORIGINAL-URL:https://mac.roundvalley.org
X-WR-CALDESC:Events for Round Valley Area Municipal Advisory Council
REFRESH-INTERVAL;VALUE=DURATION:PT1H
X-Robots-Tag:noindex
X-PUBLISHED-TTL:PT1H
BEGIN:VTIMEZONE
TZID:America/Los_Angeles
BEGIN:DAYLIGHT
TZOFFSETFROM:-0800
TZOFFSETTO:-0700
TZNAME:PDT
DTSTART:20240310T100000
END:DAYLIGHT
BEGIN:STANDARD
TZOFFSETFROM:-0700
TZOFFSETTO:-0800
TZNAME:PST
DTSTART:20241103T090000
END:STANDARD
END:VTIMEZONE
BEGIN:VEVENT
DTSTART;TZID=America/Los_Angeles:20241102T110000
DTEND;TZID=America/Los_Angeles:20241102T130000
DTSTAMP:20260424T112428
CREATED:20241010T153707Z
LAST-MODIFIED:20241010T153707Z
UID:1811-1730545200-1730552400@mac.roundvalley.org
SUMMARY:Gathering of Seed Savers/Seed Returns Celebration
DESCRIPTION:This event is for north inland Mendocino County seed savers\, especially those who signed up for “One Seed\, One Community\,” the Seed Circle\, and/or the “Round Valley Landrace Project.” It’s time to show off and share our seeds! Bring clean seed or seed that needs cleaning\, we’ll have screens and other tools on hand.\nJoin other seed savers\, share your successes and failures. There will be time for show and tell.\nIf you didn’t grow seed but want to support those who did\, come help us clean seed! We are hoping to bring together new and established seed growers\, gardeners\, and community members who are interested in growing food.\nYou can also bring fall fruit/food to share while working.\nExperienced seed savers\, can you show newbies how to clean seed? (Let us know!) ###\nReunión de guardianes de semillas\nCelebremos el retorno de las semillasLimpieza de semillas | Compartamos historias y saberes de las semillas\nTrae tu cosecha de semillas para compartir con otros. Contamos con diferentes herramientas y tamices para limpiar semillas secas.\nPuedes traer también fruta/comida de otoño para compartir mientras se trabaja.\nSabado\, 2 de Noviembre11:00 am – 2:00 PM
URL:https://mac.roundvalley.org/event/gathering-of-seed-savers-seed-returns-celebration/
LOCATION:Round Valley Public Library\, Covelo\, 95428
END:VEVENT
BEGIN:VEVENT
DTSTART;TZID=America/Los_Angeles:20241102T170000
DTEND;TZID=America/Los_Angeles:20241102T230000
DTSTAMP:20260424T112428
CREATED:20241011T165610Z
LAST-MODIFIED:20241011T165821Z
UID:1819-1730566800-1730588400@mac.roundvalley.org
SUMMARY:Skatepark Project : Art & Soul Fiesta
DESCRIPTION:  \n  \n   \nGet tickets for our fundraiser dinner and bid for the skate boards all in the same location\, online.\nhttps://event.auctria.com/fa28f825-7a9e-45a4-8e21…/
URL:https://mac.roundvalley.org/event/skatepark-project-art-soul-fiesta/
LOCATION:Covelo Rec Center\, 22830 South Airport Road\, Covelo\, 95428
END:VEVENT
END:VCALENDAR