BEGIN:VCALENDAR
VERSION:2.0
PRODID:-//Round Valley Area Municipal Advisory Council - ECPv6.15.3//NONSGML v1.0//EN
CALSCALE:GREGORIAN
METHOD:PUBLISH
X-WR-CALNAME:Round Valley Area Municipal Advisory Council
X-ORIGINAL-URL:https://mac.roundvalley.org
X-WR-CALDESC:Events for Round Valley Area Municipal Advisory Council
REFRESH-INTERVAL;VALUE=DURATION:PT1H
X-Robots-Tag:noindex
X-PUBLISHED-TTL:PT1H
BEGIN:VTIMEZONE
TZID:America/Los_Angeles
BEGIN:DAYLIGHT
TZOFFSETFROM:-0800
TZOFFSETTO:-0700
TZNAME:PDT
DTSTART:20240310T100000
END:DAYLIGHT
BEGIN:STANDARD
TZOFFSETFROM:-0700
TZOFFSETTO:-0800
TZNAME:PST
DTSTART:20241103T090000
END:STANDARD
END:VTIMEZONE
BEGIN:VEVENT
DTSTART;TZID=America/Los_Angeles:20241218T120000
DTEND;TZID=America/Los_Angeles:20241218T133000
DTSTAMP:20260424T095108
CREATED:20240112T183132Z
LAST-MODIFIED:20240112T183132Z
UID:1392-1734523200-1734528600@mac.roundvalley.org
SUMMARY:Sheriff's Community Meeting in Round Valley
DESCRIPTION:
URL:https://mac.roundvalley.org/event/sheriffs-community-meeting-in-round-valley-12/
LOCATION:Covelo Rec Center\, 22830 South Airport Road\, Covelo\, 95428
END:VEVENT
END:VCALENDAR