BEGIN:VCALENDAR
VERSION:2.0
PRODID:-//Round Valley Area Municipal Advisory Council - ECPv6.15.3//NONSGML v1.0//EN
CALSCALE:GREGORIAN
METHOD:PUBLISH
X-WR-CALNAME:Round Valley Area Municipal Advisory Council
X-ORIGINAL-URL:https://mac.roundvalley.org
X-WR-CALDESC:Events for Round Valley Area Municipal Advisory Council
REFRESH-INTERVAL;VALUE=DURATION:PT1H
X-Robots-Tag:noindex
X-PUBLISHED-TTL:PT1H
BEGIN:VTIMEZONE
TZID:America/Los_Angeles
BEGIN:DAYLIGHT
TZOFFSETFROM:-0800
TZOFFSETTO:-0700
TZNAME:PDT
DTSTART:20250309T100000
END:DAYLIGHT
BEGIN:STANDARD
TZOFFSETFROM:-0700
TZOFFSETTO:-0800
TZNAME:PST
DTSTART:20251102T090000
END:STANDARD
END:VTIMEZONE
BEGIN:VEVENT
DTSTART;TZID=America/Los_Angeles:20250214T130000
DTEND;TZID=America/Los_Angeles:20250214T180000
DTSTAMP:20260424T065223
CREATED:20250206T232406Z
LAST-MODIFIED:20250207T161546Z
UID:2054-1739538000-1739556000@mac.roundvalley.org
SUMMARY:Valentine's Day Spaghetti Dinner at the American Legion
DESCRIPTION:  \n \nThe Covelo American Legion will be hosting a Spaghetti Dinner on Valentine’s Day\, 14 FEB 2025\, from 1-6 PM\, at the American Legion building\, 23900 Howard Street. $10.00 a plate. We look forward to seeing you!
URL:https://mac.roundvalley.org/event/valentines-day-spaghetti-dinner-at-the-american-legion/
LOCATION:American Legion Hall\, 23900 Howard Street\, Covelo\, California\, 95428
END:VEVENT
END:VCALENDAR