BEGIN:VCALENDAR
VERSION:2.0
PRODID:-//Round Valley Area Municipal Advisory Council - ECPv6.15.3//NONSGML v1.0//EN
CALSCALE:GREGORIAN
METHOD:PUBLISH
X-WR-CALNAME:Round Valley Area Municipal Advisory Council
X-ORIGINAL-URL:https://mac.roundvalley.org
X-WR-CALDESC:Events for Round Valley Area Municipal Advisory Council
REFRESH-INTERVAL;VALUE=DURATION:PT1H
X-Robots-Tag:noindex
X-PUBLISHED-TTL:PT1H
BEGIN:VTIMEZONE
TZID:America/Los_Angeles
BEGIN:DAYLIGHT
TZOFFSETFROM:-0800
TZOFFSETTO:-0700
TZNAME:PDT
DTSTART:20250309T100000
END:DAYLIGHT
BEGIN:STANDARD
TZOFFSETFROM:-0700
TZOFFSETTO:-0800
TZNAME:PST
DTSTART:20251102T090000
END:STANDARD
END:VTIMEZONE
BEGIN:VEVENT
DTSTART;TZID=America/Los_Angeles:20250404T150000
DTEND;TZID=America/Los_Angeles:20250404T163000
DTSTAMP:20260424T034752
CREATED:20250319T150218Z
LAST-MODIFIED:20250319T150343Z
UID:2154-1743778800-1743784200@mac.roundvalley.org
SUMMARY:Book Signing at the Library - Kate Marianchild
DESCRIPTION:Join Us for an Inspiring Afternoon with Kate Marianchild! \n\n\nWe’re thrilled to welcome Kate Marianchild\, author of Secrets of the Oak Woodlands\, for an engaging author talk and book signing!\n\n\nDiscover the vital role oak trees play in supporting a rich web of wildlife\, from acorn woodpeckers to tiny caterpillars. Kate’s deep knowledge and captivating storytelling will leave you with a newfound appreciation for these incredible ecosystems.\n\n\nBooks will be available for purchase and signing. Don’t miss this opportunity to connect with a leading naturalist and author!
URL:https://mac.roundvalley.org/event/book-signing-at-the-library-kate-marianchild/
LOCATION:Round Valley Public Library\, Covelo\, 95428
END:VEVENT
END:VCALENDAR