BEGIN:VCALENDAR
VERSION:2.0
PRODID:-//Round Valley Area Municipal Advisory Council - ECPv6.15.3//NONSGML v1.0//EN
CALSCALE:GREGORIAN
METHOD:PUBLISH
X-ORIGINAL-URL:https://mac.roundvalley.org
X-WR-CALDESC:Events for Round Valley Area Municipal Advisory Council
REFRESH-INTERVAL;VALUE=DURATION:PT1H
X-Robots-Tag:noindex
X-PUBLISHED-TTL:PT1H
BEGIN:VTIMEZONE
TZID:America/Los_Angeles
BEGIN:DAYLIGHT
TZOFFSETFROM:-0800
TZOFFSETTO:-0700
TZNAME:PDT
DTSTART:20250309T100000
END:DAYLIGHT
BEGIN:STANDARD
TZOFFSETFROM:-0700
TZOFFSETTO:-0800
TZNAME:PST
DTSTART:20251102T090000
END:STANDARD
END:VTIMEZONE
BEGIN:VEVENT
DTSTART;TZID=America/Los_Angeles:20250406T100000
DTEND;TZID=America/Los_Angeles:20250406T120000
DTSTAMP:20260424T034950
CREATED:20250309T182443Z
LAST-MODIFIED:20250309T182524Z
UID:2115-1743933600-1743940800@mac.roundvalley.org
SUMMARY:Round Valley Library Commons Cleanup Day
DESCRIPTION:Library Commons Cleanup – Join Us!Community\, it’s time to give our beloved library some extra love! The Friends of the Library are hosting a cleanup event on Sunday\, April 6th\, from 10 AM to 12 Noon\, and we need your help to make our space shine!Whether it’s wiping down windows\, sweeping the sidewalks\, or sprucing up the Commons\, every little bit helps. Bring your favorite cleaning supplies—rags\, glass cleaner\, brooms\, buckets\, sponges—and yard tools\, like a rake\, shovel\, clippers\, or trowel!Let’s come together\, make our Library Commons sparkle\, and enjoy some fun in the process. See you there!(We’ve scheduled future Cleanups for Sunday\, August 3rd\, and Sunday\, November 2nd)
URL:https://mac.roundvalley.org/event/round-valley-library-commons-cleanup-day/
LOCATION:Round Valley Library Commons\, 23925 Howard Street\, Covelo\, 95428
END:VEVENT
END:VCALENDAR