BEGIN:VCALENDAR
VERSION:2.0
PRODID:-//Round Valley Area Municipal Advisory Council - ECPv6.15.3//NONSGML v1.0//EN
CALSCALE:GREGORIAN
METHOD:PUBLISH
X-ORIGINAL-URL:https://mac.roundvalley.org
X-WR-CALDESC:Events for Round Valley Area Municipal Advisory Council
REFRESH-INTERVAL;VALUE=DURATION:PT1H
X-Robots-Tag:noindex
X-PUBLISHED-TTL:PT1H
BEGIN:VTIMEZONE
TZID:America/Los_Angeles
BEGIN:DAYLIGHT
TZOFFSETFROM:-0800
TZOFFSETTO:-0700
TZNAME:PDT
DTSTART:20250309T100000
END:DAYLIGHT
BEGIN:STANDARD
TZOFFSETFROM:-0700
TZOFFSETTO:-0800
TZNAME:PST
DTSTART:20251102T090000
END:STANDARD
END:VTIMEZONE
BEGIN:VEVENT
DTSTART;TZID=America/Los_Angeles:20250510T100000
DTEND;TZID=America/Los_Angeles:20250510T170000
DTSTAMP:20260424T023205
CREATED:20250410T015528Z
LAST-MODIFIED:20250424T155613Z
UID:2201-1746871200-1746896400@mac.roundvalley.org
SUMMARY:Covelo FFA Field Day
DESCRIPTION:It’s almost that time of year again. Please join us for our Annual Mothers day weekend Field Day Rodeo Saturday May 10th!!!!! “Back to Our Roots in Cowboy Boots!” We look forward to see you there. \nhttps://www.facebook.com/events/1375688913569883/?acontext=%7B%22event_action_history%22%3A[%7B%22mechanism%22%3A%22attachment%22%2C%22surface%22%3A%22newsfeed%22%7D]%2C%22ref_notif_type%22%3Anull%7D \n 
URL:https://mac.roundvalley.org/event/covelo-ffa-field-day/
LOCATION:CA
END:VEVENT
END:VCALENDAR