BEGIN:VCALENDAR
VERSION:2.0
PRODID:-//Round Valley Area Municipal Advisory Council - ECPv6.15.3//NONSGML v1.0//EN
CALSCALE:GREGORIAN
METHOD:PUBLISH
X-ORIGINAL-URL:https://mac.roundvalley.org
X-WR-CALDESC:Events for Round Valley Area Municipal Advisory Council
REFRESH-INTERVAL;VALUE=DURATION:PT1H
X-Robots-Tag:noindex
X-PUBLISHED-TTL:PT1H
BEGIN:VTIMEZONE
TZID:America/Los_Angeles
BEGIN:DAYLIGHT
TZOFFSETFROM:-0800
TZOFFSETTO:-0700
TZNAME:PDT
DTSTART:20260308T100000
END:DAYLIGHT
BEGIN:STANDARD
TZOFFSETFROM:-0700
TZOFFSETTO:-0800
TZNAME:PST
DTSTART:20261101T090000
END:STANDARD
END:VTIMEZONE
BEGIN:VEVENT
DTSTART;TZID=America/Los_Angeles:20260213T190000
DTEND;TZID=America/Los_Angeles:20260213T203000
DTSTAMP:20260423T142946
CREATED:20260111T205746Z
LAST-MODIFIED:20260202T210031Z
UID:2508-1771009200-1771014600@mac.roundvalley.org
SUMMARY:Sequoias of the Sea Movie
DESCRIPTION:Join us for a screening of Sequoias of the Sea\, a documentary that dives beneath the surface to explore the towering kelp forests—often called the sequoias of the ocean—off the coast of Mendocino County. Discover the beauty\, fragility\, and importance of this remarkable underwater ecosystem. Friday\, Feb 13\, 6:45 PM at the Library Commons.
URL:https://mac.roundvalley.org/event/sequoias-of-the-sea-movie/
LOCATION:Round Valley Library Commons\, 23925 Howard Street\, Covelo\, 95428
END:VEVENT
END:VCALENDAR