BEGIN:VCALENDAR
VERSION:2.0
PRODID:-//Round Valley Area Municipal Advisory Council - ECPv6.15.3//NONSGML v1.0//EN
CALSCALE:GREGORIAN
METHOD:PUBLISH
X-WR-CALNAME:Round Valley Area Municipal Advisory Council
X-ORIGINAL-URL:https://mac.roundvalley.org
X-WR-CALDESC:Events for Round Valley Area Municipal Advisory Council
REFRESH-INTERVAL;VALUE=DURATION:PT1H
X-Robots-Tag:noindex
X-PUBLISHED-TTL:PT1H
BEGIN:VTIMEZONE
TZID:America/Los_Angeles
BEGIN:DAYLIGHT
TZOFFSETFROM:-0800
TZOFFSETTO:-0700
TZNAME:PDT
DTSTART:20260308T100000
END:DAYLIGHT
BEGIN:STANDARD
TZOFFSETFROM:-0700
TZOFFSETTO:-0800
TZNAME:PST
DTSTART:20261101T090000
END:STANDARD
END:VTIMEZONE
BEGIN:VEVENT
DTSTART;TZID=America/Los_Angeles:20260328T090000
DTEND;TZID=America/Los_Angeles:20260328T120000
DTSTAMP:20260423T142301
CREATED:20260302T202827Z
LAST-MODIFIED:20260302T202827Z
UID:2761-1774688400-1774699200@mac.roundvalley.org
SUMMARY:Valley View Cemetery Spring Cleaning
DESCRIPTION:
URL:https://mac.roundvalley.org/event/valley-view-cemetery-spring-cleaning/
LOCATION:Valley View Cemetery\, 23501 Cemetery Lane\, Covelo\, CA\, 95428
END:VEVENT
END:VCALENDAR