BEGIN:VCALENDAR
VERSION:2.0
PRODID:-//Round Valley Area Municipal Advisory Council - ECPv6.15.3//NONSGML v1.0//EN
CALSCALE:GREGORIAN
METHOD:PUBLISH
X-WR-CALNAME:Round Valley Area Municipal Advisory Council
X-ORIGINAL-URL:https://mac.roundvalley.org
X-WR-CALDESC:Events for Round Valley Area Municipal Advisory Council
REFRESH-INTERVAL;VALUE=DURATION:PT1H
X-Robots-Tag:noindex
X-PUBLISHED-TTL:PT1H
BEGIN:VTIMEZONE
TZID:America/Los_Angeles
BEGIN:DAYLIGHT
TZOFFSETFROM:-0800
TZOFFSETTO:-0700
TZNAME:PDT
DTSTART:20250309T100000
END:DAYLIGHT
BEGIN:STANDARD
TZOFFSETFROM:-0700
TZOFFSETTO:-0800
TZNAME:PST
DTSTART:20251102T090000
END:STANDARD
BEGIN:DAYLIGHT
TZOFFSETFROM:-0800
TZOFFSETTO:-0700
TZNAME:PDT
DTSTART:20260308T100000
END:DAYLIGHT
BEGIN:STANDARD
TZOFFSETFROM:-0700
TZOFFSETTO:-0800
TZNAME:PST
DTSTART:20261101T090000
END:STANDARD
END:VTIMEZONE
BEGIN:VEVENT
DTSTART;TZID=America/Los_Angeles:20260211T120000
DTEND;TZID=America/Los_Angeles:20260211T130000
DTSTAMP:20260423T171517
CREATED:20260124T171214Z
LAST-MODIFIED:20260124T171214Z
UID:2598-1770811200-1770814800@mac.roundvalley.org
SUMMARY:Covelo Cemetery District Board Meeting
DESCRIPTION:
URL:https://mac.roundvalley.org/event/covelo-cemetery-district-board-meeting-2/
LOCATION:Round Valley Library Commons\, 23925 Howard Street\, Covelo\, 95428
END:VEVENT
BEGIN:VEVENT
DTSTART;TZID=America/Los_Angeles:20260207T110000
DTEND;TZID=America/Los_Angeles:20260207T130000
DTSTAMP:20260423T171517
CREATED:20260111T205353Z
LAST-MODIFIED:20260111T205647Z
UID:2503-1770462000-1770469200@mac.roundvalley.org
SUMMARY:Medicine Chest Garden Talk
DESCRIPTION:Grow Your Own Medicine Chest Garden\nJoin us at the library for a special presentation with Donna d’Terra\, founder and director of Motherland Botanical Sanctuary and Herb School\, located in the hills outside of Willits. Donna has been teaching herbal medicine since 1989\, with a focus on local\, sustainable\, and restorative herbalism.\nThis beginner-friendly program explores how to grow a home “medicine chest” garden tailored to your family’s needs. Donna will discuss the sun\, soil\, and growing conditions required for each plant\, and how different herbs can support everyday situations—whether you have a carpenter in the family prone to cuts and bruises\, children who need gentle plant allies\, or loved ones with respiratory concerns.\nAll herbs discussed are safe to grow around children and pets\, making this an ideal introduction for home gardeners of all experience levels. Featured plants include calendula\, mullein\, peppermint\, comfrey\, echinacea\, California poppy\, lemon balm\, catnip\, valerian\, yarrow\, rosemary\, and grindelia.\nCome learn how to cultivate healing plants right outside your door and reconnect with the traditional wisdom of herbal self-care.\nSaturday\, February 7\, 11-1 PM\, at the Library Commons
URL:https://mac.roundvalley.org/event/medicine-chest-garden-talk/
LOCATION:Round Valley Public Library\, Covelo\, 95428
END:VEVENT
BEGIN:VEVENT
DTSTART;TZID=America/Los_Angeles:20260205T170000
DTEND;TZID=America/Los_Angeles:20260205T193000
DTSTAMP:20260423T171517
CREATED:20260128T182753Z
LAST-MODIFIED:20260128T182753Z
UID:2650-1770310800-1770319800@mac.roundvalley.org
SUMMARY:Round Valley Skate Night
DESCRIPTION:
URL:https://mac.roundvalley.org/event/round-valley-skate-night-3/
LOCATION:Covelo Rec Center\, 22830 South Airport Road\, Covelo\, 95428
END:VEVENT
BEGIN:VEVENT
DTSTART;TZID=America/Los_Angeles:20260204T180000
DTEND;TZID=America/Los_Angeles:20260204T200000
DTSTAMP:20260423T171517
CREATED:20260128T183808Z
LAST-MODIFIED:20260128T185605Z
UID:2652-1770228000-1770235200@mac.roundvalley.org
SUMMARY:Round Valley Area Municipal Advisory Council Regular Meeting
DESCRIPTION:The RVAMAC was formed to help our community by being the liaison between our community and the Mendocino County Board of Supervisors\, and County and State agencies\, by presenting our needs and ideas to better serve our community. \nYou can find the current meeting agenda on the “Home” page of this website\, and the previous meeting information on “Agendas\, Minutes and Zoom Recordings” page.
URL:https://mac.roundvalley.org/event/round-valley-area-municipal-advisory-council-regular-meeting/
LOCATION:Round Valley Library Commons\, 23925 Howard Street\, Covelo\, 95428
END:VEVENT
BEGIN:VEVENT
DTSTART;TZID=America/Los_Angeles:20260202T133000
DTEND;TZID=America/Los_Angeles:20260202T170000
DTSTAMP:20260423T171517
CREATED:20260124T173229Z
LAST-MODIFIED:20260124T173229Z
UID:2622-1770039000-1770051600@mac.roundvalley.org
SUMMARY:County Unmet Transit Needs Public Hearing
DESCRIPTION:
URL:https://mac.roundvalley.org/event/county-unmet-transit-needs-public-hearing/
LOCATION:County BOS Hearing Room\, 951 Low Gap Road\, Ukiah\, CA\, 95482\, United States
END:VEVENT
BEGIN:VEVENT
DTSTART;TZID=America/Los_Angeles:20260201T123000
DTEND;TZID=America/Los_Angeles:20260201T140000
DTSTAMP:20260423T171517
CREATED:20260125T193802Z
LAST-MODIFIED:20260128T181427Z
UID:2641-1769949000-1769954400@mac.roundvalley.org
SUMMARY:Buffey Wright Bourassa - 3rd District Supervisor Candidate in Town
DESCRIPTION:You’re invited! Please join me\, Buffey Wright Bourassa\, candidate for Mendocino County Supervisor\, District 3\, for a community luncheon and listening session in Covelo.\nThis gathering is a chance for us to come together\, share a meal\, and talk about the future of our community. I will briefly share my campaign platform and priorities — but most importantly\, I will be hosting a listening session to hear directly from Covelo community members and Round Valley Tribal members about:\n Community needs and priorities Local issues and concerns Ideas for solutions and stronger county leadership What you want to see from your District 3 Supervisor\n RSVP requested: Please RSVP via comment / message / phone (707) 354-2696/ email: district3@teambuffey.com so we can plan for food.\nI hope you’ll join us and bring your voice to the table.
URL:https://mac.roundvalley.org/event/buffey-bourassa-3rd-district-supervisor-candidate-in-town/
LOCATION:Round Valley Library Commons\, 23925 Howard Street\, Covelo\, 95428
END:VEVENT
BEGIN:VEVENT
DTSTART;TZID=America/Los_Angeles:20260128T180000
DTEND;TZID=America/Los_Angeles:20260128T190000
DTSTAMP:20260423T171517
CREATED:20260111T211509Z
LAST-MODIFIED:20260111T211509Z
UID:2534-1769623200-1769626800@mac.roundvalley.org
SUMMARY:Round Valley County Water District Board Meeting
DESCRIPTION:Regular Board Meeting
URL:https://mac.roundvalley.org/event/round-valley-county-water-district-board-meeting-13/
LOCATION:District Building\, 23950 Grange Street\, Covelo\, CA\, 95428
END:VEVENT
BEGIN:VEVENT
DTSTART;TZID=America/Los_Angeles:20260124T150000
DTEND;TZID=America/Los_Angeles:20260124T173000
DTSTAMP:20260423T171517
CREATED:20260118T172757Z
LAST-MODIFIED:20260118T172757Z
UID:2593-1769266800-1769275800@mac.roundvalley.org
SUMMARY:Expressive Arts and Movement Workshop - Free
DESCRIPTION:Free Expressive Arts & Movement Workshop \n\n\nWe are excited to support the arts and bring our community a FREE Expressive Arts and Movement Workshop led by Kiersten Morgan.\n\n\n Friday\, January 24\n 3:00 PM – 5:30 PM\n\n\nThis workshop is free to the community\, but space is limited\, so RSVP is required by Jan 22nd.\n\n\n To RSVP:\n Email: kierstenmorgan25@gmail.com\n Call/Text: 310-210-6042\n\n\nThis program is presented by The Art Committee of the Friends of the Round Valley Public Library and generously sponsored by the Mendocino County Foundation – Arts & Culture Grant.\n\n\nCome move\, create\, and connect through expressive arts in a welcoming community space. All are welcome!
URL:https://mac.roundvalley.org/event/expressive-arts-and-movement-workshop-free/
LOCATION:Round Valley Library Commons\, 23925 Howard Street\, Covelo\, 95428
END:VEVENT
BEGIN:VEVENT
DTSTART;TZID=America/Los_Angeles:20260121T120000
DTEND;TZID=America/Los_Angeles:20260121T130000
DTSTAMP:20260423T171517
CREATED:20260111T210001Z
LAST-MODIFIED:20260111T210001Z
UID:2510-1768996800-1769000400@mac.roundvalley.org
SUMMARY:Sheriff's Monthly Meeting
DESCRIPTION:January meeting with the MCSO
URL:https://mac.roundvalley.org/event/sheriffs-monthly-meeting/
LOCATION:Covelo Rec Center\, 22830 South Airport Road\, Covelo\, 95428
END:VEVENT
BEGIN:VEVENT
DTSTART;TZID=America/Los_Angeles:20260116T120000
DTEND;TZID=America/Los_Angeles:20260116T160000
DTSTAMP:20260423T171517
CREATED:20260111T215039Z
LAST-MODIFIED:20260111T215746Z
UID:2585-1768564800-1768579200@mac.roundvalley.org
SUMMARY:Farmer's Market
DESCRIPTION:
URL:https://mac.roundvalley.org/event/farmers-market/
LOCATION:The Walnut Grove\, 23925 Howard Street\, Covelo\, CA\, 95428\, United States
CATEGORIES:Farmers Market
END:VEVENT
BEGIN:VEVENT
DTSTART;TZID=America/Los_Angeles:20260115T190000
DTEND;TZID=America/Los_Angeles:20260115T210000
DTSTAMP:20260423T171517
CREATED:20260111T213309Z
LAST-MODIFIED:20260111T213309Z
UID:2560-1768503600-1768510800@mac.roundvalley.org
SUMMARY:Mic Night Covelo
DESCRIPTION:
URL:https://mac.roundvalley.org/event/mic-night-covelo/
LOCATION:Round Valley Library Commons\, 23925 Howard Street\, Covelo\, 95428
END:VEVENT
BEGIN:VEVENT
DTSTART;TZID=America/Los_Angeles:20251231T180000
DTEND;TZID=America/Los_Angeles:20251231T190000
DTSTAMP:20260423T171517
CREATED:20241212T214431Z
LAST-MODIFIED:20241212T214431Z
UID:1901-1767204000-1767207600@mac.roundvalley.org
SUMMARY:Round Valley County Water District Board Meeting
DESCRIPTION:
URL:https://mac.roundvalley.org/event/round-valley-county-water-district-board-meeting-12/
LOCATION:District Building\, 23950 Grange Street\, Covelo\, CA\, 95428
END:VEVENT
BEGIN:VEVENT
DTSTART;TZID=America/Los_Angeles:20251217T120000
DTEND;TZID=America/Los_Angeles:20251217T130000
DTSTAMP:20260423T171517
CREATED:20250318T193456Z
LAST-MODIFIED:20250318T193456Z
UID:2148-1765972800-1765976400@mac.roundvalley.org
SUMMARY:MCSO Sheriff Community Meeting
DESCRIPTION:Monthly Sheriff’s meeting with the community
URL:https://mac.roundvalley.org/event/mcso-sheriff-community-meeting-9/
LOCATION:Covelo Rec Center\, 22830 South Airport Road\, Covelo\, 95428
END:VEVENT
BEGIN:VEVENT
DTSTART;TZID=America/Los_Angeles:20251126T180000
DTEND;TZID=America/Los_Angeles:20251126T190000
DTSTAMP:20260423T171517
CREATED:20241212T214354Z
LAST-MODIFIED:20241212T214354Z
UID:1899-1764180000-1764183600@mac.roundvalley.org
SUMMARY:Round Valley County Water District Board Meeting
DESCRIPTION:
URL:https://mac.roundvalley.org/event/round-valley-county-water-district-board-meeting-11/
LOCATION:District Building\, 23950 Grange Street\, Covelo\, CA\, 95428
END:VEVENT
BEGIN:VEVENT
DTSTART;TZID=America/Los_Angeles:20251119T120000
DTEND;TZID=America/Los_Angeles:20251119T130000
DTSTAMP:20260423T171517
CREATED:20250318T193409Z
LAST-MODIFIED:20250318T193409Z
UID:2146-1763553600-1763557200@mac.roundvalley.org
SUMMARY:MCSO Sheriff Community Meeting
DESCRIPTION:Monthly Sheriff’s meeting with the community
URL:https://mac.roundvalley.org/event/mcso-sheriff-community-meeting-8/
LOCATION:Covelo Rec Center\, 22830 South Airport Road\, Covelo\, 95428
END:VEVENT
BEGIN:VEVENT
DTSTART;TZID=America/Los_Angeles:20251114T184500
DTEND;TZID=America/Los_Angeles:20251114T203000
DTSTAMP:20260423T171517
CREATED:20251103T002925Z
LAST-MODIFIED:20251103T002925Z
UID:2438-1763145900-1763152200@mac.roundvalley.org
SUMMARY:Free Movie -- The Last Class
DESCRIPTION:Free Film Screening at the Library!\n\n\nJoin us Friday\, November 14 at 6:45 PM for a free showing of The Last Class\, the new documentary from Robert Reich — former U.S. Secretary of Labor\, advisor to several presidential administrations\, and longtime Professor of Economics at UC Berkeley.\n\n\nThe film is a personal and emotional look at his career\, his thoughts on wealth inequality\, and his final semester before retiring from teaching after more than 40 years. It highlights his passion for education and his belief in the younger generation’s ability to effect change.
URL:https://mac.roundvalley.org/event/free-movie-the-last-class/
LOCATION:Round Valley Library Commons\, 23925 Howard Street\, Covelo\, 95428
END:VEVENT
BEGIN:VEVENT
DTSTART;TZID=America/Los_Angeles:20251108T110000
DTEND;TZID=America/Los_Angeles:20251108T140000
DTSTAMP:20260423T171517
CREATED:20251014T155223Z
LAST-MODIFIED:20251014T155223Z
UID:2411-1762599600-1762610400@mac.roundvalley.org
SUMMARY:Seed Savers at the Library!
DESCRIPTION:
URL:https://mac.roundvalley.org/event/seed-savers-at-the-library-2/
LOCATION:Round Valley Public Library\, Covelo\, 95428
END:VEVENT
BEGIN:VEVENT
DTSTART;TZID=America/Los_Angeles:20251029T180000
DTEND;TZID=America/Los_Angeles:20251029T190000
DTSTAMP:20260423T171517
CREATED:20241212T214312Z
LAST-MODIFIED:20241212T214312Z
UID:1897-1761760800-1761764400@mac.roundvalley.org
SUMMARY:Round Valley County Water District Board Meeting
DESCRIPTION:
URL:https://mac.roundvalley.org/event/round-valley-county-water-district-board-meeting-10/
LOCATION:District Building\, 23950 Grange Street\, Covelo\, CA\, 95428
END:VEVENT
BEGIN:VEVENT
DTSTART;TZID=America/Los_Angeles:20251018T140000
DTEND;TZID=America/Los_Angeles:20251018T140000
DTSTAMP:20260423T171517
CREATED:20251014T155114Z
LAST-MODIFIED:20251014T161330Z
UID:2409-1760796000-1760796000@mac.roundvalley.org
SUMMARY:Four Shillings Short -- free concert!
DESCRIPTION:
URL:https://mac.roundvalley.org/event/four-shillings-short-free-concert/
LOCATION:Round Valley Library Commons\, 23925 Howard Street\, Covelo\, 95428
END:VEVENT
BEGIN:VEVENT
DTSTART;TZID=America/Los_Angeles:20251015T120000
DTEND;TZID=America/Los_Angeles:20251015T130000
DTSTAMP:20260423T171517
CREATED:20250318T193312Z
LAST-MODIFIED:20250318T193312Z
UID:2144-1760529600-1760533200@mac.roundvalley.org
SUMMARY:MCSO Sheriff Community Meeting
DESCRIPTION:Monthly Sheriff’s meeting with the community
URL:https://mac.roundvalley.org/event/mcso-sheriff-community-meeting-7/
LOCATION:Covelo Rec Center\, 22830 South Airport Road\, Covelo\, 95428
END:VEVENT
BEGIN:VEVENT
DTSTART;TZID=America/Los_Angeles:20251008T080000
DTEND;TZID=America/Los_Angeles:20251008T170000
DTSTAMP:20260423T171517
CREATED:20251008T191700Z
LAST-MODIFIED:20251008T191700Z
UID:2407-1759910400-1759942800@mac.roundvalley.org
SUMMARY:Gathering of Seed Savers
DESCRIPTION:Gathering of Seed Savers/Seed Returns Celebration\n11 AM-2 PM\, Saturday\, November 8th\n \n\n\nCalling all seed lovers! Whether you’re a seasoned seed saver or just curious about how it all works\, join us for the 2025 Gathering of Seed Savers — a community celebration of seeds\, sharing\, and the stories behind them.\nThis gathering is especially for inland Mendocino County seed savers\, but all are welcome!\nBring your seeds!\n• Bring cleaned seed or dry seed that still needs cleaning\n• We’ll have seed screens and tools available\n• Informal seed swapping encouraged\n• Show off your seed saving successes (and lessons learned!)\nNo seeds? No problem!\nCome support local seed savers by helping clean seed\, learning techniques\, or just soaking up the knowledge and community. If you have fall fruit or snacks to share while we work\, bring those too!\nThere will be time for show and tell\, hands-on seed cleaning\, and great conversations with fellow growers and gardeners.\n\n\n  \n 
URL:https://mac.roundvalley.org/event/gathering-of-seed-savers/
LOCATION:CA
END:VEVENT
BEGIN:VEVENT
DTSTART;TZID=America/Los_Angeles:20250924T180000
DTEND;TZID=America/Los_Angeles:20250924T190000
DTSTAMP:20260423T171517
CREATED:20241212T214232Z
LAST-MODIFIED:20241212T214232Z
UID:1895-1758736800-1758740400@mac.roundvalley.org
SUMMARY:Round Valley County Water District Board Meeting
DESCRIPTION:
URL:https://mac.roundvalley.org/event/round-valley-county-water-district-board-meeting-9/
LOCATION:CA
END:VEVENT
BEGIN:VEVENT
DTSTART;TZID=America/Los_Angeles:20250918T190000
DTEND;TZID=America/Los_Angeles:20250918T210000
DTSTAMP:20260423T171517
CREATED:20250318T194027Z
LAST-MODIFIED:20250318T194027Z
UID:2152-1758222000-1758229200@mac.roundvalley.org
SUMMARY:Mic Night Cafe
DESCRIPTION:
URL:https://mac.roundvalley.org/event/mic-night-cafe-10/
LOCATION:Round Valley Library Commons\, 23925 Howard Street\, Covelo\, 95428
END:VEVENT
BEGIN:VEVENT
DTSTART;TZID=America/Los_Angeles:20250917T120000
DTEND;TZID=America/Los_Angeles:20250917T130000
DTSTAMP:20260423T171517
CREATED:20250318T193223Z
LAST-MODIFIED:20250318T193223Z
UID:2142-1758110400-1758114000@mac.roundvalley.org
SUMMARY:MCSO Sheriff Community Meeting
DESCRIPTION:Monthly Sheriff’s meeting with the community
URL:https://mac.roundvalley.org/event/mcso-sheriff-community-meeting-6/
LOCATION:Covelo Rec Center\, 22830 South Airport Road\, Covelo\, 95428
END:VEVENT
BEGIN:VEVENT
DTSTART;TZID=America/Los_Angeles:20250827T180000
DTEND;TZID=America/Los_Angeles:20250827T190000
DTSTAMP:20260423T171517
CREATED:20241212T214151Z
LAST-MODIFIED:20241212T214151Z
UID:1893-1756317600-1756321200@mac.roundvalley.org
SUMMARY:Round Valley County Water District Board Meeting
DESCRIPTION:
URL:https://mac.roundvalley.org/event/round-valley-county-water-district-board-meeting-8/
LOCATION:District Building\, 23950 Grange Street\, Covelo\, CA\, 95428
END:VEVENT
BEGIN:VEVENT
DTSTART;TZID=America/Los_Angeles:20250821T190000
DTEND;TZID=America/Los_Angeles:20250821T210000
DTSTAMP:20260423T171517
CREATED:20250318T193918Z
LAST-MODIFIED:20250318T193918Z
UID:2150-1755802800-1755810000@mac.roundvalley.org
SUMMARY:Mic Night Cafe
DESCRIPTION:
URL:https://mac.roundvalley.org/event/mic-night-cafe-9/
LOCATION:Round Valley Library Commons\, 23925 Howard Street\, Covelo\, 95428
END:VEVENT
BEGIN:VEVENT
DTSTART;TZID=America/Los_Angeles:20250820T120000
DTEND;TZID=America/Los_Angeles:20250820T130000
DTSTAMP:20260423T171517
CREATED:20250318T193135Z
LAST-MODIFIED:20250318T193135Z
UID:2140-1755691200-1755694800@mac.roundvalley.org
SUMMARY:MCSO Sheriff Community Meeting
DESCRIPTION:Monthly Sheriff’s meeting with the community
URL:https://mac.roundvalley.org/event/mcso-sheriff-community-meeting-5/
LOCATION:Covelo Rec Center\, 22830 South Airport Road\, Covelo\, 95428
END:VEVENT
BEGIN:VEVENT
DTSTART;TZID=America/Los_Angeles:20250816T100000
DTEND;TZID=America/Los_Angeles:20250817T170000
DTSTAMP:20260423T171517
CREATED:20250716T201209Z
LAST-MODIFIED:20250716T201209Z
UID:2348-1755338400-1755450000@mac.roundvalley.org
SUMMARY:Blackberry Festival
DESCRIPTION:
URL:https://mac.roundvalley.org/event/blackberry-festival/
LOCATION:CA
END:VEVENT
BEGIN:VEVENT
DTSTART;TZID=America/Los_Angeles:20250802T080000
DTEND;TZID=America/Los_Angeles:20250802T170000
DTSTAMP:20260423T171517
CREATED:20250305T230643Z
LAST-MODIFIED:20250305T231703Z
UID:2108-1754121600-1754154000@mac.roundvalley.org
SUMMARY:68th Annual Ruth Rodeo
DESCRIPTION:
URL:https://mac.roundvalley.org/event/68th-annual-ruth-rodeo-2/
LOCATION:Ruth Rodeo Grounds\, Rodeo Drive\, Mad River\, 95552\, United States
END:VEVENT
BEGIN:VEVENT
DTSTART;TZID=America/Los_Angeles:20250801T080000
DTEND;TZID=America/Los_Angeles:20250801T170000
DTSTAMP:20260423T171517
CREATED:20250305T230544Z
LAST-MODIFIED:20250305T230544Z
UID:2105-1754035200-1754067600@mac.roundvalley.org
SUMMARY:68th Annual Ruth Rodeo
DESCRIPTION:
URL:https://mac.roundvalley.org/event/68th-annual-ruth-rodeo/
LOCATION:Ruth Rodeo Grounds\, Rodeo Drive\, Mad River\, 95552\, United States
END:VEVENT
END:VCALENDAR