BEGIN:VCALENDAR
VERSION:2.0
PRODID:-//Round Valley Area Municipal Advisory Council - ECPv6.15.3//NONSGML v1.0//EN
CALSCALE:GREGORIAN
METHOD:PUBLISH
X-ORIGINAL-URL:https://mac.roundvalley.org
X-WR-CALDESC:Events for Round Valley Area Municipal Advisory Council
REFRESH-INTERVAL;VALUE=DURATION:PT1H
X-Robots-Tag:noindex
X-PUBLISHED-TTL:PT1H
BEGIN:VTIMEZONE
TZID:America/Los_Angeles
BEGIN:DAYLIGHT
TZOFFSETFROM:-0800
TZOFFSETTO:-0700
TZNAME:PDT
DTSTART:20230312T100000
END:DAYLIGHT
BEGIN:STANDARD
TZOFFSETFROM:-0700
TZOFFSETTO:-0800
TZNAME:PST
DTSTART:20231105T090000
END:STANDARD
END:VTIMEZONE
BEGIN:VEVENT
DTSTART;TZID=America/Los_Angeles:20230929T180000
DTEND;TZID=America/Los_Angeles:20230929T200000
DTSTAMP:20260425T085921
CREATED:20230919T182747Z
LAST-MODIFIED:20230919T183910Z
UID:915-1696010400-1696017600@mac.roundvalley.org
SUMMARY:RVHS Football: Mustangs v. Roseland Prep
DESCRIPTION:Home and League Game
URL:https://mac.roundvalley.org/event/rvhs-football-mustangs-v-roseland-prep/
LOCATION:Round Valley High School\, 76270 High School Street\, Covelo\, 95428
END:VEVENT
BEGIN:VEVENT
DTSTART;TZID=America/Los_Angeles:20230930T100000
DTEND;TZID=America/Los_Angeles:20230930T150000
DTSTAMP:20260425T085921
CREATED:20230918T184617Z
LAST-MODIFIED:20230918T214103Z
UID:875-1696068000-1696086000@mac.roundvalley.org
SUMMARY:Covelo Flea Market
DESCRIPTION:Second Day of Event:  10/1/2023 from 10:00am to 3:00pm
URL:https://mac.roundvalley.org/event/covelo-flea-market/
LOCATION:Covelo Rec Center\, 22830 South Airport Road\, Covelo\, 95428
END:VEVENT
BEGIN:VEVENT
DTSTART;TZID=America/Los_Angeles:20231001T100000
DTEND;TZID=America/Los_Angeles:20231001T150000
DTSTAMP:20260425T085921
CREATED:20230919T181453Z
LAST-MODIFIED:20230919T181453Z
UID:908-1696154400-1696172400@mac.roundvalley.org
SUMMARY:Covelo Flea Market
DESCRIPTION:
URL:https://mac.roundvalley.org/event/covelo-flea-market-2/
LOCATION:Covelo Rec Center\, 22830 South Airport Road\, Covelo\, 95428
END:VEVENT
BEGIN:VEVENT
DTSTART;TZID=America/Los_Angeles:20231004T180000
DTEND;TZID=America/Los_Angeles:20231004T193000
DTSTAMP:20260425T085921
CREATED:20230918T174418Z
LAST-MODIFIED:20230918T174418Z
UID:871-1696442400-1696447800@mac.roundvalley.org
SUMMARY:RVAMAC Meeting
DESCRIPTION:Join us for our monthly Round Valley Area Municipal Advisory Council meeting.
URL:https://mac.roundvalley.org/event/rvamac-meeting/
LOCATION:Round Valley Library Commons\, 23925 Howard Street\, Covelo\, 95428
END:VEVENT
BEGIN:VEVENT
DTSTART;TZID=America/Los_Angeles:20231005T080000
DTEND;TZID=America/Los_Angeles:20231005T170000
DTSTAMP:20260425T085921
CREATED:20231004T201544Z
LAST-MODIFIED:20231004T201544Z
UID:996-1696492800-1696525200@mac.roundvalley.org
SUMMARY:RVHS Picture Day
DESCRIPTION:
URL:https://mac.roundvalley.org/event/rvhs-picture-day/
END:VEVENT
BEGIN:VEVENT
DTSTART;TZID=America/Los_Angeles:20231005T160000
DTEND;TZID=America/Los_Angeles:20231005T170000
DTSTAMP:20260425T085921
CREATED:20231004T195753Z
LAST-MODIFIED:20231004T195753Z
UID:979-1696521600-1696525200@mac.roundvalley.org
SUMMARY:RVHS Volleyball
DESCRIPTION:Away game v. Point Arena
URL:https://mac.roundvalley.org/event/rvhs-volleyball/
END:VEVENT
BEGIN:VEVENT
DTSTART;TZID=America/Los_Angeles:20231005T170000
DTEND;TZID=America/Los_Angeles:20231005T193000
DTSTAMP:20260425T085921
CREATED:20231004T192239Z
LAST-MODIFIED:20231004T192730Z
UID:951-1696525200-1696534200@mac.roundvalley.org
SUMMARY:Skate Night!
DESCRIPTION:
URL:https://mac.roundvalley.org/event/skate-night/
LOCATION:Covelo Rec Center\, 22830 South Airport Road\, Covelo\, 95428
END:VEVENT
BEGIN:VEVENT
DTSTART;TZID=America/Los_Angeles:20231006T144500
DTEND;TZID=America/Los_Angeles:20231006T144500
DTSTAMP:20260425T085921
CREATED:20231004T201512Z
LAST-MODIFIED:20231005T153912Z
UID:994-1696603500-1696603500@mac.roundvalley.org
SUMMARY:Comedy at the Old Gym
DESCRIPTION:Lil Mike & Funnybone
URL:https://mac.roundvalley.org/event/comedy-at-the-old-gym/
LOCATION:Round Valley High School\, 76270 High School Street\, Covelo\, 95428
END:VEVENT
BEGIN:VEVENT
DTSTART;TZID=America/Los_Angeles:20231006T180000
DTEND;TZID=America/Los_Angeles:20231006T200000
DTSTAMP:20260425T085921
CREATED:20230919T182843Z
LAST-MODIFIED:20230919T183840Z
UID:918-1696615200-1696622400@mac.roundvalley.org
SUMMARY:RVHS Football: Mustangs v. Anderson Valley
DESCRIPTION:Away and League Game
URL:https://mac.roundvalley.org/event/rvhs-football-mustangs-v-anderson-valley/
END:VEVENT
BEGIN:VEVENT
DTSTART;TZID=America/Los_Angeles:20231007T100000
DTEND;TZID=America/Los_Angeles:20231007T170000
DTSTAMP:20260425T085921
CREATED:20231005T150144Z
LAST-MODIFIED:20231005T182618Z
UID:1025-1696672800-1696698000@mac.roundvalley.org
SUMMARY:Day of Wellness at Hidden Oaks
DESCRIPTION:
URL:https://mac.roundvalley.org/event/day-of-wellness-at-hidden-oaks/
LOCATION:Hidden Oaks Park\, 76699 Covelo Road\, Covelo\, 95428
END:VEVENT
BEGIN:VEVENT
DTSTART;TZID=America/Los_Angeles:20231008T110000
DTEND;TZID=America/Los_Angeles:20231008T180000
DTSTAMP:20260425T085921
CREATED:20231004T193249Z
LAST-MODIFIED:20231004T193249Z
UID:955-1696762800-1696788000@mac.roundvalley.org
SUMMARY:Celebration of Life for Richard A. Wilson
DESCRIPTION:
URL:https://mac.roundvalley.org/event/celebration-of-life-for-richard-a-wilson/
LOCATION:Round Valley Library Commons\, 23925 Howard Street\, Covelo\, 95428
END:VEVENT
BEGIN:VEVENT
DTSTART;TZID=America/Los_Angeles:20231012T120000
DTEND;TZID=America/Los_Angeles:20231012T130000
DTSTAMP:20260425T085921
CREATED:20231012T133230Z
LAST-MODIFIED:20231012T133254Z
UID:1035-1697112000-1697115600@mac.roundvalley.org
SUMMARY:Mendo Food &  Nutrition Program Food Pop-Up
DESCRIPTION:
URL:https://mac.roundvalley.org/event/mendo-food-nutrition-program-food-pop-up/
LOCATION:RVIT Health & Safety Complex\, 76300 Grange Street\, Covelo\, 95428
END:VEVENT
BEGIN:VEVENT
DTSTART;TZID=America/Los_Angeles:20231012T160000
DTEND;TZID=America/Los_Angeles:20231012T170000
DTSTAMP:20260425T085921
CREATED:20231004T201330Z
LAST-MODIFIED:20231004T201330Z
UID:989-1697126400-1697130000@mac.roundvalley.org
SUMMARY:RVHS Volleyball
DESCRIPTION:Away game v. Potter Valley
URL:https://mac.roundvalley.org/event/rvhs-volleyball-4/
END:VEVENT
BEGIN:VEVENT
DTSTART;TZID=America/Los_Angeles:20231012T180000
DTEND;TZID=America/Los_Angeles:20231012T200000
DTSTAMP:20260425T085921
CREATED:20230919T182946Z
LAST-MODIFIED:20230919T183818Z
UID:920-1697133600-1697140800@mac.roundvalley.org
SUMMARY:RVHS Football:  Mustangs v. Cornerstone
DESCRIPTION:Home and League Game
URL:https://mac.roundvalley.org/event/rvhs-football-mustangs-v-cornerstone/
LOCATION:Round Valley High School\, 76270 High School Street\, Covelo\, 95428
END:VEVENT
BEGIN:VEVENT
DTSTART;TZID=America/Los_Angeles:20231013T080000
DTEND;TZID=America/Los_Angeles:20231013T170000
DTSTAMP:20260425T085921
CREATED:20231004T201407Z
LAST-MODIFIED:20231004T201407Z
UID:991-1697184000-1697216400@mac.roundvalley.org
SUMMARY:Indigenous People's Day Celebration
DESCRIPTION:
URL:https://mac.roundvalley.org/event/indigenous-peoples-day-celebration/
END:VEVENT
BEGIN:VEVENT
DTSTART;TZID=America/Los_Angeles:20231013T184500
DTEND;TZID=America/Los_Angeles:20231013T194500
DTSTAMP:20260425T085921
CREATED:20231004T193506Z
LAST-MODIFIED:20231004T210457Z
UID:958-1697222700-1697226300@mac.roundvalley.org
SUMMARY:Free Movie Night - "Kiss the Ground"
DESCRIPTION:
URL:https://mac.roundvalley.org/event/free-movie-night-kiss-the-ground/
LOCATION:Round Valley Library Commons\, 23925 Howard Street\, Covelo\, 95428
END:VEVENT
BEGIN:VEVENT
DTSTART;TZID=America/Los_Angeles:20231016T173000
DTEND;TZID=America/Los_Angeles:20231016T193000
DTSTAMP:20260425T085921
CREATED:20231004T200959Z
LAST-MODIFIED:20231004T200959Z
UID:983-1697477400-1697484600@mac.roundvalley.org
SUMMARY:Regular Board Meeting - RVUSD
DESCRIPTION:
URL:https://mac.roundvalley.org/event/regular-board-meeting-rvusd/
LOCATION:Round Valley High School\, 76270 High School Street\, Covelo\, 95428
END:VEVENT
BEGIN:VEVENT
DTSTART;TZID=America/Los_Angeles:20231017T160000
DTEND;TZID=America/Los_Angeles:20231017T170000
DTSTAMP:20260425T085921
CREATED:20231004T201105Z
LAST-MODIFIED:20231004T201105Z
UID:985-1697558400-1697562000@mac.roundvalley.org
SUMMARY:RVHS Volleyball
DESCRIPTION:Home game v. Laytonville
URL:https://mac.roundvalley.org/event/rvhs-volleyball-2/
LOCATION:Round Valley High School\, 76270 High School Street\, Covelo\, 95428
END:VEVENT
BEGIN:VEVENT
DTSTART;TZID=America/Los_Angeles:20231021T120000
DTEND;TZID=America/Los_Angeles:20231021T120000
DTSTAMP:20260425T085921
CREATED:20231004T202033Z
LAST-MODIFIED:20231004T202250Z
UID:1002-1697889600-1697889600@mac.roundvalley.org
SUMMARY:RVEMS Volleyball
DESCRIPTION:Home game v. Point Arena
URL:https://mac.roundvalley.org/event/rvems-volleyball/
LOCATION:Round Valley Elementary/Middle School\, Airport & Foothill Road\, Covelo
END:VEVENT
BEGIN:VEVENT
DTSTART;TZID=America/Los_Angeles:20231019T130000
DTEND;TZID=America/Los_Angeles:20231019T170000
DTSTAMP:20260425T085921
CREATED:20231018T021316Z
LAST-MODIFIED:20231018T205653Z
UID:1045-1697720400-1697734800@mac.roundvalley.org
SUMMARY:Old Growth Log Celebration and Salmon Feed
DESCRIPTION:Humboldt Redwoods State Park is donating an Old Growth Redwood for the RVIT to carve into a canoe. Celebrate its arrival with a feast of 70 pounds of salmon from 1-5 PM at Hidden Oaks Park. No charge! Call Michelle if you want to help cook at 707-621-2004. Sponsored by Native Way and co-sponsored by Eel River Recovery Project with help from a Cereus Fund grant.
URL:https://mac.roundvalley.org/event/old-growth-log-celebration-and-salmon-feed/
LOCATION:Hidden Oaks Park\, 76699 Covelo Road\, Covelo\, 95428
END:VEVENT
BEGIN:VEVENT
DTSTART;TZID=America/Los_Angeles:20231019T160000
DTEND;TZID=America/Los_Angeles:20231019T170000
DTSTAMP:20260425T085921
CREATED:20231004T201159Z
LAST-MODIFIED:20231004T201159Z
UID:987-1697731200-1697734800@mac.roundvalley.org
SUMMARY:RVHS Volleyball
DESCRIPTION:Home game v. Mendocino
URL:https://mac.roundvalley.org/event/rvhs-volleyball-3/
LOCATION:Round Valley High School\, 76270 High School Street\, Covelo\, 95428
END:VEVENT
BEGIN:VEVENT
DTSTART;TZID=America/Los_Angeles:20231019T173000
DTEND;TZID=America/Los_Angeles:20231019T193000
DTSTAMP:20260425T085921
CREATED:20231012T130939Z
LAST-MODIFIED:20231012T132606Z
UID:1033-1697736600-1697743800@mac.roundvalley.org
SUMMARY:Community Potluck Dinner
DESCRIPTION:
URL:https://mac.roundvalley.org/event/community-potluck-dinner/
LOCATION:Round Valley Library Commons\, 23925 Howard Street\, Covelo\, 95428
END:VEVENT
BEGIN:VEVENT
DTSTART;TZID=America/Los_Angeles:20231020T180000
DTEND;TZID=America/Los_Angeles:20231020T200000
DTSTAMP:20260425T085921
CREATED:20230919T183036Z
LAST-MODIFIED:20230919T183759Z
UID:922-1697824800-1697832000@mac.roundvalley.org
SUMMARY:RVHS Football: Mustangs v. Potter Valley
DESCRIPTION:Away and League Game
URL:https://mac.roundvalley.org/event/rvhs-football-mustangs-v-potter-valley/
END:VEVENT
BEGIN:VEVENT
DTSTART;TZID=America/Los_Angeles:20231021T170000
DTEND;TZID=America/Los_Angeles:20231021T230000
DTSTAMP:20260425T085921
CREATED:20231004T204936Z
LAST-MODIFIED:20231004T225345Z
UID:1008-1697907600-1697929200@mac.roundvalley.org
SUMMARY:Benefit Gala for Skatepark Project
DESCRIPTION:Music\, Dinner\, Dancing\, silent Auction. \nPre order tickets:  $25 entry fee for adults $10 for kids.
URL:https://mac.roundvalley.org/event/benefit-gala-for-skatepark-project/
LOCATION:Round Valley Library Commons\, 23925 Howard Street\, Covelo\, 95428
END:VEVENT
BEGIN:VEVENT
DTSTART;TZID=America/Los_Angeles:20231022T110000
DTEND;TZID=America/Los_Angeles:20231022T110000
DTSTAMP:20260425T085921
CREATED:20231018T205947Z
LAST-MODIFIED:20231018T210922Z
UID:1057-1697972400-1697972400@mac.roundvalley.org
SUMMARY:Battle of the Colts II
DESCRIPTION:
URL:https://mac.roundvalley.org/event/battle-of-the-colts-ii/
LOCATION:Round Valley High School\, 76270 High School Street\, Covelo\, 95428
END:VEVENT
BEGIN:VEVENT
DTSTART;TZID=America/Los_Angeles:20231024T171500
DTEND;TZID=America/Los_Angeles:20231024T181500
DTSTAMP:20260425T085921
CREATED:20231004T205135Z
LAST-MODIFIED:20231004T205135Z
UID:1011-1698167700-1698171300@mac.roundvalley.org
SUMMARY:Skatepark Project Community Meeting
DESCRIPTION:Community Meeting 5:15pm-6:15pm at The Library Commons.
URL:https://mac.roundvalley.org/event/skatepark-project-community-meeting/
LOCATION:Round Valley Library Commons\, 23925 Howard Street\, Covelo\, 95428
END:VEVENT
BEGIN:VEVENT
DTSTART;TZID=America/Los_Angeles:20231026T160000
DTEND;TZID=America/Los_Angeles:20231026T180000
DTSTAMP:20260425T085921
CREATED:20231026T020519Z
LAST-MODIFIED:20231026T020519Z
UID:1067-1698336000-1698343200@mac.roundvalley.org
SUMMARY:RV Middle School Volleyball\, Cheerleading & Football Homecoming/Volleyball home game v. Anderson Valley
DESCRIPTION:
URL:https://mac.roundvalley.org/event/rv-middle-school-volleyball-cheerleading-football-homecoming-volleyball-home-game-v-anderson-valley/
LOCATION:Round Valley High School\, 76270 High School Street\, Covelo\, 95428
END:VEVENT
BEGIN:VEVENT
DTSTART;TZID=America/Los_Angeles:20231027T180000
DTEND;TZID=America/Los_Angeles:20231027T200000
DTSTAMP:20260425T085921
CREATED:20230919T183123Z
LAST-MODIFIED:20230919T183707Z
UID:924-1698429600-1698436800@mac.roundvalley.org
SUMMARY:RVHS Football: Mustangs v. Laytonville
DESCRIPTION:Away and League Game
URL:https://mac.roundvalley.org/event/rvhs-football-mustangs-v-laytonville/
END:VEVENT
BEGIN:VEVENT
DTSTART;TZID=America/Los_Angeles:20231028T100000
DTEND;TZID=America/Los_Angeles:20231028T160000
DTSTAMP:20260425T085921
CREATED:20231025T180149Z
LAST-MODIFIED:20231025T180306Z
UID:1063-1698487200-1698508800@mac.roundvalley.org
SUMMARY:Round Valley Stream Cleanup Days
DESCRIPTION:BBQ AT LIBRARY COMMONS STARTING 3PM
URL:https://mac.roundvalley.org/event/round-valley-stream-cleanup-days/
LOCATION:Round Valley Library Commons\, 23925 Howard Street\, Covelo\, 95428
END:VEVENT
BEGIN:VEVENT
DTSTART;TZID=America/Los_Angeles:20231028T130000
DTEND;TZID=America/Los_Angeles:20231028T150000
DTSTAMP:20260425T085921
CREATED:20231004T193705Z
LAST-MODIFIED:20231004T211143Z
UID:960-1698498000-1698505200@mac.roundvalley.org
SUMMARY:Free Family Matinee - "Hotel Transylvania - Transformania"
DESCRIPTION:Children must be accompanied by an adult
URL:https://mac.roundvalley.org/event/free-family-matinee-hotel-transyvania-transformania/
LOCATION:Round Valley Library Commons\, 23925 Howard Street\, Covelo\, 95428
END:VEVENT
END:VCALENDAR