BEGIN:VCALENDAR
VERSION:2.0
PRODID:-//Round Valley Area Municipal Advisory Council - ECPv6.15.3//NONSGML v1.0//EN
CALSCALE:GREGORIAN
METHOD:PUBLISH
X-WR-CALNAME:Round Valley Area Municipal Advisory Council
X-ORIGINAL-URL:https://mac.roundvalley.org
X-WR-CALDESC:Events for Round Valley Area Municipal Advisory Council
REFRESH-INTERVAL;VALUE=DURATION:PT1H
X-Robots-Tag:noindex
X-PUBLISHED-TTL:PT1H
BEGIN:VTIMEZONE
TZID:America/Los_Angeles
BEGIN:DAYLIGHT
TZOFFSETFROM:-0800
TZOFFSETTO:-0700
TZNAME:PDT
DTSTART:20230312T100000
END:DAYLIGHT
BEGIN:STANDARD
TZOFFSETFROM:-0700
TZOFFSETTO:-0800
TZNAME:PST
DTSTART:20231105T090000
END:STANDARD
END:VTIMEZONE
BEGIN:VEVENT
DTSTART;TZID=America/Los_Angeles:20231216T170000
DTEND;TZID=America/Los_Angeles:20231216T170000
DTSTAMP:20260425T073108
CREATED:20231207T131253Z
LAST-MODIFIED:20231217T005904Z
UID:1239-1702746000-1702746000@mac.roundvalley.org
SUMMARY:Trucker's Light Parade
DESCRIPTION:
URL:https://mac.roundvalley.org/event/covelo-christmas-light-parade/
END:VEVENT
BEGIN:VEVENT
DTSTART;TZID=America/Los_Angeles:20231215T130000
DTEND;TZID=America/Los_Angeles:20231215T140000
DTSTAMP:20260425T073108
CREATED:20231213T015736Z
LAST-MODIFIED:20231213T015818Z
UID:1247-1702645200-1702648800@mac.roundvalley.org
SUMMARY:CalTrans Ribbon-Cutting
DESCRIPTION:
URL:https://mac.roundvalley.org/event/caltrans-ribbon-cutting/
END:VEVENT
BEGIN:VEVENT
DTSTART;TZID=America/Los_Angeles:20231215T120000
DTEND;TZID=America/Los_Angeles:20231215T170000
DTSTAMP:20260425T073108
CREATED:20231115T150644Z
LAST-MODIFIED:20231115T150644Z
UID:1122-1702641600-1702659600@mac.roundvalley.org
SUMMARY:Holiday Bazaar at the Farmer's Market
DESCRIPTION:
URL:https://mac.roundvalley.org/event/holiday-bazaar-at-the-farmers-market-2/
LOCATION:Round Valley Library Commons\, 23925 Howard Street\, Covelo\, 95428
END:VEVENT
BEGIN:VEVENT
DTSTART;TZID=America/Los_Angeles:20231215T120000
DTEND;TZID=America/Los_Angeles:20231215T130000
DTSTAMP:20260425T073108
CREATED:20231213T015318Z
LAST-MODIFIED:20231213T015603Z
UID:1243-1702641600-1702645200@mac.roundvalley.org
SUMMARY:Our State Assembly Candidates Meet-and-Greet
DESCRIPTION:
URL:https://mac.roundvalley.org/event/our-state-assembly-candidates-meet-and-greet/
LOCATION:American Legion Hall\, 23900 Howard Street\, Covelo\, California\, 95428
END:VEVENT
BEGIN:VEVENT
DTSTART;TZID=America/Los_Angeles:20231214T120000
DTEND;TZID=America/Los_Angeles:20231214T130000
DTSTAMP:20260425T073108
CREATED:20231012T133455Z
LAST-MODIFIED:20231012T133455Z
UID:1041-1702555200-1702558800@mac.roundvalley.org
SUMMARY:Mendo Food & Nutrition Program  Food Pop-Up
DESCRIPTION:
URL:https://mac.roundvalley.org/event/mendo-food-nutrition-program-food-pop-up-3/
LOCATION:RVIT Health & Safety Complex\, 76300 Grange Street\, Covelo\, 95428
END:VEVENT
BEGIN:VEVENT
DTSTART;TZID=America/Los_Angeles:20231212T163000
DTEND;TZID=America/Los_Angeles:20231212T183000
DTSTAMP:20260425T073108
CREATED:20231129T210310Z
LAST-MODIFIED:20231129T210508Z
UID:1166-1702398600-1702405800@mac.roundvalley.org
SUMMARY:Holiday Bazaar: Round Valley Elementary and Middle School
DESCRIPTION:The community is welcome to join us at our RVEMS Holiday Bazaar on Tuesday\, December 12th from 4:30 – 6:30 PM in the Cafeteria.\n\n\nThe 8th grade class will be hosting the event and will also be selling dinner plates. Various RVEMS classes will be selling arts & crafts\, baked goods\, and more! We hope to see you there!
URL:https://mac.roundvalley.org/event/holiday-bazaar-round-valley-elementary-and-middle-school/
LOCATION:Round Valley Elementary/Middle School\, Airport & Foothill Road\, Covelo
END:VEVENT
BEGIN:VEVENT
DTSTART;TZID=America/Los_Angeles:20231209T180000
DTEND;TZID=America/Los_Angeles:20231209T220000
DTSTAMP:20260425T073108
CREATED:20231117T164248Z
LAST-MODIFIED:20231205T165657Z
UID:1128-1702144800-1702159200@mac.roundvalley.org
SUMMARY:KYBU Anniversary Party
DESCRIPTION:KYBU Round Valley Community Radio in Covelo\, CA  \nCelebrates 10 Years On The Air on Saturday\, December 9\, 2023 \nOn December 11\, 2011\, the volunteers of KYBU Round Valley Community Radio powered up the transmitters and began broadcasting to listeners at 96.9FM in Round Valley. KYBU is now celebrating its 12th year broadcasting with a Supporter Appreciation Party on Saturday\, December 9 from 6pm-10pm at the Round Valley Library Commons\, featuring a silent auction\, live music by Round Valley’s favorite funk band\, The Funkateers\, food and beverages for sale\, and fun with fellow KYBU supporters. Members and underwriters can renew at the door or at www.kyburadio.org prior to the event. \nThis event is sponsored through generous contributions from Keith’s Family Foods and M&M Feed and Supply. Enjoy local wine and beer thanks to donations from the North Coast Brewing Company and Mendocino WineGrowers Inc. Silent auction contributors include M&M Feed and Supply\, Vichy Springs Resort\, Benbow Inn\, Husch Vineyards\, MacCallum House\, Fog Bottle Shop\, Folk Life Farm\, Little River Inn\, Yoga with Kiersten and more! Outside drinks\, food\, or dogs are not permitted. \nKYBU Round Valley Community Radio is an all volunteer\, member supported community radio station that began broadcasting to Covelo/Round Valley listeners at 96.9 FM in 2011\, and now streams online at www.kyburadio.org thanks to a grant from the Mendocino Community Foundation’s Fund for Round Valley. KYBU broadcasts a mix of music\, talk and public affairs programming. Everyone is invited to join! KYBU is a project of the 501(c)3 nonprofit\, Friends of the Round Valley Public Library. For more information\, contact KYBU at mail@kyburadio.org. \n 
URL:https://mac.roundvalley.org/event/kybu-anniversary-party/
LOCATION:Round Valley Library Commons\, 23925 Howard Street\, Covelo\, 95428
END:VEVENT
BEGIN:VEVENT
DTSTART;TZID=America/Los_Angeles:20231209T100000
DTEND;TZID=America/Los_Angeles:20231209T150000
DTSTAMP:20260425T073108
CREATED:20231129T211127Z
LAST-MODIFIED:20231129T211127Z
UID:1174-1702116000-1702134000@mac.roundvalley.org
SUMMARY:Christmas Bazaar:  Round Valley United Methodist Church
DESCRIPTION:
URL:https://mac.roundvalley.org/event/christmas-bazaar-round-valley-united-methodist-church/
LOCATION:Round Valley United Methodist Church\, 77834 Covelo Road\, Covelo\, CA\, 95428
END:VEVENT
BEGIN:VEVENT
DTSTART;TZID=America/Los_Angeles:20231207T090000
DTEND;TZID=America/Los_Angeles:20231207T153000
DTSTAMP:20260425T073108
CREATED:20231129T211345Z
LAST-MODIFIED:20231204T182003Z
UID:1177-1701939600-1701963000@mac.roundvalley.org
SUMMARY:Christmas Craft Fair: Northern Builders Supply
DESCRIPTION:
URL:https://mac.roundvalley.org/event/christmas-craft-fair-northern-builders-supply/
LOCATION:Northern Builders Supply\, 76450 Covelo Road\, Covelo\, CA\, 95428
END:VEVENT
BEGIN:VEVENT
DTSTART;TZID=America/Los_Angeles:20231202T100000
DTEND;TZID=America/Los_Angeles:20231202T150000
DTSTAMP:20260425T073108
CREATED:20231018T020640Z
LAST-MODIFIED:20231115T145252Z
UID:1043-1701511200-1701529200@mac.roundvalley.org
SUMMARY:Annual Christmas Bazaar
DESCRIPTION:$15 per booth space and ornament donation for Christmas tree raffle. CVFD Auxiliary has taken on hosting this event at the request Round Valley Lionesses\, as they are not able to continue to host the bazaar.
URL:https://mac.roundvalley.org/event/annual-christmas-bazaar/
LOCATION:Covelo Rec Center\, 22830 South Airport Road\, Covelo\, 95428
END:VEVENT
BEGIN:VEVENT
DTSTART;TZID=America/Los_Angeles:20231201T120000
DTEND;TZID=America/Los_Angeles:20231201T170000
DTSTAMP:20260425T073108
CREATED:20231115T150524Z
LAST-MODIFIED:20231115T150739Z
UID:1119-1701432000-1701450000@mac.roundvalley.org
SUMMARY:Holiday Bazaar at the Farmer's Market
DESCRIPTION:
URL:https://mac.roundvalley.org/event/holiday-bazaar-at-the-farmers-market/
LOCATION:Round Valley Library Commons\, 23925 Howard Street\, Covelo\, 95428
END:VEVENT
BEGIN:VEVENT
DTSTART;VALUE=DATE:20231201
DTEND;VALUE=DATE:20240101
DTSTAMP:20260425T073108
CREATED:20231129T205750Z
LAST-MODIFIED:20231129T205857Z
UID:1162-1701388800-1704067199@mac.roundvalley.org
SUMMARY:Holiday Art Exhibition and Sale
DESCRIPTION:Call for artists! Message Carol Borden on Facebook or call her at 707 354-1297 or email commonsmanager@gmail.com if you would like to submit something for this show.
URL:https://mac.roundvalley.org/event/holiday-art-exhibition-and-sale/
LOCATION:Round Valley Library Commons\, 23925 Howard Street\, Covelo\, 95428
END:VEVENT
BEGIN:VEVENT
DTSTART;TZID=America/Los_Angeles:20231130T151500
DTEND;TZID=America/Los_Angeles:20231130T163000
DTSTAMP:20260425T073108
CREATED:20231027T171316Z
LAST-MODIFIED:20231027T171316Z
UID:1084-1701357300-1701361800@mac.roundvalley.org
SUMMARY:Senior Power!
DESCRIPTION:Older adults: would you like to improve your strength\, balance\, and conditioning? The library\, in partnership with the awesome physical therapists at the Round Valley Indian Health Center\, is offering a weekly class for seniors of all fitness levels at 3:30 PM on Thursdays in November (except Thanksgiving)\, in the Community Room at the Library Commons. Dress in loose\, comfy clothes and good shoes so you can easily stretch and move. Senior Power will begin on Thursday\, November 2nd. Please arrive 15 minutes early\, at 3:15\, so we can check in and get ready to move.\n \n3:15-4:30\n \nNovember 2\, 9\, 16\, 30\, 2023
URL:https://mac.roundvalley.org/event/senior-power-4/
LOCATION:Round Valley Library Commons\, 23925 Howard Street\, Covelo\, 95428
END:VEVENT
BEGIN:VEVENT
DTSTART;TZID=America/Los_Angeles:20231130T160000
DTEND;TZID=America/Los_Angeles:20231130T160000
DTSTAMP:20260425T073108
CREATED:20231109T172540Z
LAST-MODIFIED:20231109T172642Z
UID:1115-1701360000-1701360000@mac.roundvalley.org
SUMMARY:Colts Basketball at Eagle Peak
DESCRIPTION:
URL:https://mac.roundvalley.org/event/colts-basketball-at-eagle-peak/
END:VEVENT
BEGIN:VEVENT
DTSTART;TZID=America/Los_Angeles:20231129T171500
DTEND;TZID=America/Los_Angeles:20231129T171500
DTSTAMP:20260425T073108
CREATED:20231117T173608Z
LAST-MODIFIED:20231117T173728Z
UID:1136-1701278100-1701278100@mac.roundvalley.org
SUMMARY:Round Valley Skatepark Project Meeting
DESCRIPTION:
URL:https://mac.roundvalley.org/event/round-valley-skatepark-project-meeting/
LOCATION:Round Valley Library Commons\, 23925 Howard Street\, Covelo\, 95428
END:VEVENT
BEGIN:VEVENT
DTSTART;TZID=America/Los_Angeles:20231219T160000
DTEND;TZID=America/Los_Angeles:20231219T160000
DTSTAMP:20260425T073108
CREATED:20231129T214440Z
LAST-MODIFIED:20231129T214440Z
UID:1192-1703001600-1703001600@mac.roundvalley.org
SUMMARY:Colts Basketball:  Girls & Boys Home Game v. Willits Charter
DESCRIPTION:
URL:https://mac.roundvalley.org/event/colts-basketball-girls-boys-home-game-v-willits-charter/
LOCATION:Round Valley High School\, 76270 High School Street\, Covelo\, 95428
END:VEVENT
BEGIN:VEVENT
DTSTART;TZID=America/Los_Angeles:20231205T163000
DTEND;TZID=America/Los_Angeles:20231205T163000
DTSTAMP:20260425T073108
CREATED:20231129T213708Z
LAST-MODIFIED:20231129T213708Z
UID:1182-1701793800-1701793800@mac.roundvalley.org
SUMMARY:Colts Basketball Home Game - Girls A & B v. Lower Lake
DESCRIPTION:
URL:https://mac.roundvalley.org/event/colts-basketball-home-game-girls-a-b-v-lower-lake/
LOCATION:Round Valley High School\, 76270 High School Street\, Covelo\, 95428
END:VEVENT
BEGIN:VEVENT
DTSTART;TZID=America/Los_Angeles:20231128T170000
DTEND;TZID=America/Los_Angeles:20231128T193000
DTSTAMP:20260425T073108
CREATED:20231115T151433Z
LAST-MODIFIED:20231115T151433Z
UID:1125-1701190800-1701199800@mac.roundvalley.org
SUMMARY:Community Session for Mendocino National Forest Recovery
DESCRIPTION:
URL:https://mac.roundvalley.org/event/community-session-for-mendocino-national-forest-recovery/
LOCATION:Round Valley Library Commons\, 23925 Howard Street\, Covelo\, 95428
END:VEVENT
BEGIN:VEVENT
DTSTART;TZID=America/Los_Angeles:20231120T080000
DTEND;TZID=America/Los_Angeles:20231124T170000
DTSTAMP:20260425T073108
CREATED:20231109T172445Z
LAST-MODIFIED:20231109T172445Z
UID:1113-1700467200-1700845200@mac.roundvalley.org
SUMMARY:Thanksgiving Break
DESCRIPTION:
URL:https://mac.roundvalley.org/event/thanksgiving-break/
LOCATION:Round Valley Elementary/Middle School\, Airport & Foothill Road\, Covelo
END:VEVENT
BEGIN:VEVENT
DTSTART;TZID=America/Los_Angeles:20231116T151500
DTEND;TZID=America/Los_Angeles:20231116T163000
DTSTAMP:20260425T073108
CREATED:20231027T171218Z
LAST-MODIFIED:20231027T171218Z
UID:1082-1700147700-1700152200@mac.roundvalley.org
SUMMARY:Senior Power!
DESCRIPTION:Older adults: would you like to improve your strength\, balance\, and conditioning? The library\, in partnership with the awesome physical therapists at the Round Valley Indian Health Center\, is offering a weekly class for seniors of all fitness levels at 3:30 PM on Thursdays in November (except Thanksgiving)\, in the Community Room at the Library Commons. Dress in loose\, comfy clothes and good shoes so you can easily stretch and move. Senior Power will begin on Thursday\, November 2nd. Please arrive 15 minutes early\, at 3:15\, so we can check in and get ready to move.\n \n3:15-4:30\n \nNovember 2\, 9\, 16\, 30\, 2023
URL:https://mac.roundvalley.org/event/senior-power-3/
LOCATION:Round Valley Library Commons\, 23925 Howard Street\, Covelo\, 95428
END:VEVENT
BEGIN:VEVENT
DTSTART;TZID=America/Los_Angeles:20231116T074500
DTEND;TZID=America/Los_Angeles:20231116T081500
DTSTAMP:20260425T073108
CREATED:20231109T172228Z
LAST-MODIFIED:20231109T172228Z
UID:1109-1700120700-1700122500@mac.roundvalley.org
SUMMARY:Special Breakfast for RVEMS
DESCRIPTION:
URL:https://mac.roundvalley.org/event/special-breakfast-for-rvems/
LOCATION:Round Valley Elementary/Middle School\, Airport & Foothill Road\, Covelo
END:VEVENT
BEGIN:VEVENT
DTSTART;VALUE=DATE:20231113
DTEND;VALUE=DATE:20231114
DTSTAMP:20260425T073108
CREATED:20231109T171956Z
LAST-MODIFIED:20231109T171956Z
UID:1104-1699833600-1699919999@mac.roundvalley.org
SUMMARY:Second Grade Field Trip
DESCRIPTION:
URL:https://mac.roundvalley.org/event/second-grade-field-trip/
LOCATION:Round Valley Elementary/Middle School\, Airport & Foothill Road\, Covelo
END:VEVENT
BEGIN:VEVENT
DTSTART;TZID=America/Los_Angeles:20231111T160000
DTEND;TZID=America/Los_Angeles:20231111T180000
DTSTAMP:20260425T073108
CREATED:20231026T222927Z
LAST-MODIFIED:20231026T222927Z
UID:1072-1699718400-1699725600@mac.roundvalley.org
SUMMARY:Fundraiser for Hunter Guerra - Drive-thru tri-tip dinner
DESCRIPTION:
URL:https://mac.roundvalley.org/event/fundraiser-for-hunter-guerra-drive-thru-tri-tip-dinner/
LOCATION:RVIT Health & Safety Complex\, 76300 Grange Street\, Covelo\, 95428
END:VEVENT
BEGIN:VEVENT
DTSTART;TZID=America/Los_Angeles:20231110T184500
DTEND;TZID=America/Los_Angeles:20231110T203000
DTSTAMP:20260425T073108
CREATED:20231004T194012Z
LAST-MODIFIED:20231004T210324Z
UID:965-1699641900-1699648200@mac.roundvalley.org
SUMMARY:Free Documentary Films at the Library - "Fire Tender" and "Elemental\, Reimagining Wildfire"
DESCRIPTION:Free Documentary Films in the Library’s Community Room about fire: Fire Tender (a short film) and Elemental\, Reimagining Wildfire
URL:https://mac.roundvalley.org/event/free-documentary-films-at-the-library/
LOCATION:Round Valley Library Commons\, 23925 Howard Street\, Covelo\, 95428
END:VEVENT
BEGIN:VEVENT
DTSTART;VALUE=DATE:20231110
DTEND;VALUE=DATE:20231111
DTSTAMP:20260425T073108
CREATED:20231109T171924Z
LAST-MODIFIED:20231109T171924Z
UID:1102-1699574400-1699660799@mac.roundvalley.org
SUMMARY:Veteran's Day observed -- No school!
DESCRIPTION:
URL:https://mac.roundvalley.org/event/veterans-day-observed-no-school/
LOCATION:Round Valley Elementary/Middle School\, Airport & Foothill Road\, Covelo
END:VEVENT
BEGIN:VEVENT
DTSTART;TZID=America/Los_Angeles:20231109T151500
DTEND;TZID=America/Los_Angeles:20231109T163000
DTSTAMP:20260425T073108
CREATED:20231027T171126Z
LAST-MODIFIED:20231027T171126Z
UID:1080-1699542900-1699547400@mac.roundvalley.org
SUMMARY:Senior Power!
DESCRIPTION:Older adults: would you like to improve your strength\, balance\, and conditioning? The library\, in partnership with the awesome physical therapists at the Round Valley Indian Health Center\, is offering a weekly class for seniors of all fitness levels at 3:30 PM on Thursdays in November (except Thanksgiving)\, in the Community Room at the Library Commons. Dress in loose\, comfy clothes and good shoes so you can easily stretch and move. Senior Power will begin on Thursday\, November 2nd. Please arrive 15 minutes early\, at 3:15\, so we can check in and get ready to move.\n \n3:15-4:30\n \nNovember 2\, 9\, 16\, 30\, 2023
URL:https://mac.roundvalley.org/event/senior-power-2/
LOCATION:Round Valley Library Commons\, 23925 Howard Street\, Covelo\, 95428
END:VEVENT
BEGIN:VEVENT
DTSTART;TZID=America/Los_Angeles:20231109T120000
DTEND;TZID=America/Los_Angeles:20231109T130000
DTSTAMP:20260425T073108
CREATED:20231012T133356Z
LAST-MODIFIED:20231012T133356Z
UID:1039-1699531200-1699534800@mac.roundvalley.org
SUMMARY:Mendo Food & Nutrition Program  Food Pop-Up
DESCRIPTION:
URL:https://mac.roundvalley.org/event/mendo-food-nutrition-program-food-pop-up-2/
LOCATION:RVIT Health & Safety Complex\, 76300 Grange Street\, Covelo\, 95428
END:VEVENT
BEGIN:VEVENT
DTSTART;TZID=America/Los_Angeles:20231109T110000
DTEND;TZID=America/Los_Angeles:20231109T120000
DTSTAMP:20260425T073108
CREATED:20231109T171829Z
LAST-MODIFIED:20231109T171829Z
UID:1100-1699527600-1699531200@mac.roundvalley.org
SUMMARY:Wildthing's Animal Assemblies at RVEMS
DESCRIPTION:At 11am and 12pm
URL:https://mac.roundvalley.org/event/wildthings-animal-assemblies-at-rvems/
LOCATION:Round Valley Elementary/Middle School\, Airport & Foothill Road\, Covelo
END:VEVENT
BEGIN:VEVENT
DTSTART;TZID=America/Los_Angeles:20231104T110000
DTEND;TZID=America/Los_Angeles:20231104T140000
DTSTAMP:20260425T073108
CREATED:20231004T193804Z
LAST-MODIFIED:20231004T210539Z
UID:962-1699095600-1699106400@mac.roundvalley.org
SUMMARY:Seed Savers at the Library
DESCRIPTION:
URL:https://mac.roundvalley.org/event/seed-savers-at-the-library/
LOCATION:Round Valley Library Commons\, 23925 Howard Street\, Covelo\, 95428
END:VEVENT
BEGIN:VEVENT
DTSTART;TZID=America/Los_Angeles:20231103T180000
DTEND;TZID=America/Los_Angeles:20231103T200000
DTSTAMP:20260425T073108
CREATED:20230919T183205Z
LAST-MODIFIED:20230919T183552Z
UID:926-1699034400-1699041600@mac.roundvalley.org
SUMMARY:RVHS Football:  Open Date for Mustangs
DESCRIPTION:Possible game day
URL:https://mac.roundvalley.org/event/rvhs-football-open-date-for-mustangs/
LOCATION:Round Valley High School\, 76270 High School Street\, Covelo\, 95428
END:VEVENT
END:VCALENDAR