BEGIN:VCALENDAR
VERSION:2.0
PRODID:-//Round Valley Area Municipal Advisory Council - ECPv6.15.3//NONSGML v1.0//EN
CALSCALE:GREGORIAN
METHOD:PUBLISH
X-WR-CALNAME:Round Valley Area Municipal Advisory Council
X-ORIGINAL-URL:https://mac.roundvalley.org
X-WR-CALDESC:Events for Round Valley Area Municipal Advisory Council
REFRESH-INTERVAL;VALUE=DURATION:PT1H
X-Robots-Tag:noindex
X-PUBLISHED-TTL:PT1H
BEGIN:VTIMEZONE
TZID:America/Los_Angeles
BEGIN:DAYLIGHT
TZOFFSETFROM:-0800
TZOFFSETTO:-0700
TZNAME:PDT
DTSTART:20240310T100000
END:DAYLIGHT
BEGIN:STANDARD
TZOFFSETFROM:-0700
TZOFFSETTO:-0800
TZNAME:PST
DTSTART:20241103T090000
END:STANDARD
END:VTIMEZONE
BEGIN:VEVENT
DTSTART;TZID=America/Los_Angeles:20240207T180000
DTEND;TZID=America/Los_Angeles:20240207T200000
DTSTAMP:20260425T042415
CREATED:20240112T183349Z
LAST-MODIFIED:20240112T183349Z
UID:1394-1707328800-1707336000@mac.roundvalley.org
SUMMARY:Round Valley MAC Meeting
DESCRIPTION:The agenda will be posted on the Agenda page (see above menu bar)
URL:https://mac.roundvalley.org/event/round-valley-mac-meeting/
LOCATION:Round Valley Library Commons\, 23925 Howard Street\, Covelo\, 95428
END:VEVENT
BEGIN:VEVENT
DTSTART;TZID=America/Los_Angeles:20240207T160000
DTEND;TZID=America/Los_Angeles:20240207T180000
DTSTAMP:20260425T042415
CREATED:20231129T215138Z
LAST-MODIFIED:20240106T011247Z
UID:1205-1707321600-1707328800@mac.roundvalley.org
SUMMARY:Colts Basketball Home Game -- TBA v. River Oak
DESCRIPTION:
URL:https://mac.roundvalley.org/event/colts-basketball-home-game-tba-v-river-oak/
LOCATION:Round Valley High School\, 76270 High School Street\, Covelo\, 95428
END:VEVENT
BEGIN:VEVENT
DTSTART;TZID=America/Los_Angeles:20240206T160000
DTEND;TZID=America/Los_Angeles:20240206T180000
DTSTAMP:20260425T042415
CREATED:20231222T000538Z
LAST-MODIFIED:20240106T005738Z
UID:1294-1707235200-1707242400@mac.roundvalley.org
SUMMARY:Round Valley HS Mustangs Basketball
DESCRIPTION:Away v. Anderson Valley
URL:https://mac.roundvalley.org/event/round-valley-hs-mustangs-basketball-9/
END:VEVENT
BEGIN:VEVENT
DTSTART;TZID=America/Los_Angeles:20240205T160000
DTEND;TZID=America/Los_Angeles:20240205T180000
DTSTAMP:20260425T042415
CREATED:20231129T215012Z
LAST-MODIFIED:20240106T011224Z
UID:1203-1707148800-1707156000@mac.roundvalley.org
SUMMARY:Colts Basketball: Girls & Boys Home Game v. Eagle Peak
DESCRIPTION:
URL:https://mac.roundvalley.org/event/colts-basketball-girls-boys-home-game-v-eagle-peak/
LOCATION:Round Valley High School\, 76270 High School Street\, Covelo\, 95428
END:VEVENT
BEGIN:VEVENT
DTSTART;TZID=America/Los_Angeles:20240202T160000
DTEND;TZID=America/Los_Angeles:20240202T180000
DTSTAMP:20260425T042415
CREATED:20231222T000453Z
LAST-MODIFIED:20240106T005805Z
UID:1292-1706889600-1706896800@mac.roundvalley.org
SUMMARY:Round Valley HS Mustangs Basketball
DESCRIPTION:Home game v. Point Arena
URL:https://mac.roundvalley.org/event/round-valley-hs-mustangs-basketball-8/
LOCATION:Round Valley High School\, 76270 High School Street\, Covelo\, 95428
END:VEVENT
BEGIN:VEVENT
DTSTART;TZID=America/Los_Angeles:20240201T170000
DTEND;TZID=America/Los_Angeles:20240201T193000
DTSTAMP:20260425T042415
CREATED:20240106T012151Z
LAST-MODIFIED:20240108T225842Z
UID:1312-1706806800-1706815800@mac.roundvalley.org
SUMMARY:Skate Night at the Rec Center
DESCRIPTION:
URL:https://mac.roundvalley.org/event/skate-night-at-the-rec-center/
LOCATION:Covelo Rec Center\, 22830 South Airport Road\, Covelo\, 95428
END:VEVENT
BEGIN:VEVENT
DTSTART;TZID=America/Los_Angeles:20240201T153000
DTEND;TZID=America/Los_Angeles:20240201T163000
DTSTAMP:20260425T042415
CREATED:20240129T223644Z
LAST-MODIFIED:20240129T223644Z
UID:1406-1706801400-1706805000@mac.roundvalley.org
SUMMARY:Senior Power! New location
DESCRIPTION:New location!! \n \n 
URL:https://mac.roundvalley.org/event/senior-power-new-location/
LOCATION:New Life Community Church\, 76210 Perry Street\, Covelo\, CA\, 95428\, United States
END:VEVENT
BEGIN:VEVENT
DTSTART;TZID=America/Los_Angeles:20240131T170000
DTEND;TZID=America/Los_Angeles:20240131T190000
DTSTAMP:20260425T042415
CREATED:20231129T220658Z
LAST-MODIFIED:20240130T233816Z
UID:1222-1706720400-1706727600@mac.roundvalley.org
SUMMARY:2nd Quarter RVHS Awards Night and Potluck Dinner
DESCRIPTION:Come out to support our students — and bring along your best dish to share!\nIn the new HS gym.
URL:https://mac.roundvalley.org/event/2nd-quarter-rvhs-awards-night-and-potluck-dinner/
LOCATION:Round Valley High School\, 76270 High School Street\, Covelo\, 95428
END:VEVENT
BEGIN:VEVENT
DTSTART;TZID=America/Los_Angeles:20240131T160000
DTEND;TZID=America/Los_Angeles:20240131T180000
DTSTAMP:20260425T042415
CREATED:20231129T214858Z
LAST-MODIFIED:20240106T010009Z
UID:1201-1706716800-1706724000@mac.roundvalley.org
SUMMARY:Colts Basketball: Girls & Boys Home Game v. Point Arena
DESCRIPTION:
URL:https://mac.roundvalley.org/event/colts-basketball-girls-boys-home-game-v-point-arena/
LOCATION:Round Valley High School\, 76270 High School Street\, Covelo\, 95428
END:VEVENT
BEGIN:VEVENT
DTSTART;TZID=America/Los_Angeles:20240130T160000
DTEND;TZID=America/Los_Angeles:20240130T180000
DTSTAMP:20260425T042415
CREATED:20231222T000338Z
LAST-MODIFIED:20240106T005852Z
UID:1289-1706630400-1706637600@mac.roundvalley.org
SUMMARY:Round Valley HS Mustangs Basketball
DESCRIPTION:Home game v. Mendocino
URL:https://mac.roundvalley.org/event/round-valley-hs-mustangs-basketball-7/
LOCATION:Round Valley High School\, 76270 High School Street\, Covelo\, 95428
END:VEVENT
BEGIN:VEVENT
DTSTART;TZID=America/Los_Angeles:20240129T160000
DTEND;TZID=America/Los_Angeles:20240129T180000
DTSTAMP:20260425T042415
CREATED:20231129T214743Z
LAST-MODIFIED:20240106T010051Z
UID:1197-1706544000-1706551200@mac.roundvalley.org
SUMMARY:Colts Basketball:  Girls & Boys Home Game v. Potter Valley
DESCRIPTION:
URL:https://mac.roundvalley.org/event/colts-basketball-girls-boys-home-game-v-potter-valley/
LOCATION:Round Valley High School\, 76270 High School Street\, Covelo\, 95428
END:VEVENT
BEGIN:VEVENT
DTSTART;TZID=America/Los_Angeles:20240126T160000
DTEND;TZID=America/Los_Angeles:20240126T180000
DTSTAMP:20260425T042415
CREATED:20231222T000215Z
LAST-MODIFIED:20240106T010129Z
UID:1287-1706284800-1706292000@mac.roundvalley.org
SUMMARY:Round Valley HS Mustangs Basketball
DESCRIPTION:Home game v. Laytonville
URL:https://mac.roundvalley.org/event/round-valley-hs-mustangs-basketball-6/
LOCATION:Round Valley High School\, 76270 High School Street\, Covelo\, 95428
END:VEVENT
BEGIN:VEVENT
DTSTART;TZID=America/Los_Angeles:20240126T081500
DTEND;TZID=America/Los_Angeles:20240126T143000
DTSTAMP:20260425T042415
CREATED:20240106T014851Z
LAST-MODIFIED:20240106T014851Z
UID:1336-1706256900-1706279400@mac.roundvalley.org
SUMMARY:Class Color Day at RVEMS
DESCRIPTION:
URL:https://mac.roundvalley.org/event/class-color-day-at-rvems/
LOCATION:Round Valley Elementary/Middle School\, Airport & Foothill Road\, Covelo
END:VEVENT
BEGIN:VEVENT
DTSTART;TZID=America/Los_Angeles:20240125T153000
DTEND;TZID=America/Los_Angeles:20240125T163000
DTSTAMP:20260425T042415
CREATED:20240110T183516Z
LAST-MODIFIED:20240110T184153Z
UID:1360-1706196600-1706200200@mac.roundvalley.org
SUMMARY:Senior Power!
DESCRIPTION:Older adults: would you like to improve your strength\, balance\, and conditioning? The library\, in partnership with the awesome physical therapists at the Round Valley Indian Health Center\, is offering a weekly class for seniors of all fitness levels at 3:30 PM on Thursdays in January\, in the Community Room at the Library Commons. Dress in loose\, comfy clothes and good shoes so you can easily stretch and move.  Please arrive 15 minutes early\, at 3:15\, so we can check in and get ready to move.
URL:https://mac.roundvalley.org/event/senior-power-7/
LOCATION:Round Valley Library Commons\, 23925 Howard Street\, Covelo\, 95428
END:VEVENT
BEGIN:VEVENT
DTSTART;TZID=America/Los_Angeles:20240125T081500
DTEND;TZID=America/Los_Angeles:20240125T143000
DTSTAMP:20260425T042415
CREATED:20240108T231238Z
LAST-MODIFIED:20240108T231238Z
UID:1349-1706170500-1706193000@mac.roundvalley.org
SUMMARY:Inside Out Day at RVEMS
DESCRIPTION:
URL:https://mac.roundvalley.org/event/inside-out-day-at-rvems-2/
LOCATION:Round Valley Elementary/Middle School\, Airport & Foothill Road\, Covelo
END:VEVENT
BEGIN:VEVENT
DTSTART;TZID=America/Los_Angeles:20240124T160000
DTEND;TZID=America/Los_Angeles:20240124T180000
DTSTAMP:20260425T042415
CREATED:20231129T214609Z
LAST-MODIFIED:20240106T010205Z
UID:1195-1706112000-1706119200@mac.roundvalley.org
SUMMARY:Colts Basketball:  Girls &  Boys Home Game v. Anderson Valley
DESCRIPTION:
URL:https://mac.roundvalley.org/event/colts-basketball-girls-boys-home-game-v-anderson-valley/
LOCATION:Round Valley High School\, 76270 High School Street\, Covelo\, 95428
END:VEVENT
BEGIN:VEVENT
DTSTART;TZID=America/Los_Angeles:20240124T081500
DTEND;TZID=America/Los_Angeles:20240124T143000
DTSTAMP:20260425T042415
CREATED:20240106T014801Z
LAST-MODIFIED:20240106T015608Z
UID:1334-1706084100-1706106600@mac.roundvalley.org
SUMMARY:Inside Out Day at RVEMS
DESCRIPTION:
URL:https://mac.roundvalley.org/event/inside-out-day-at-rvems/
LOCATION:Round Valley Elementary/Middle School\, Airport & Foothill Road\, Covelo
END:VEVENT
BEGIN:VEVENT
DTSTART;TZID=America/Los_Angeles:20240124T081500
DTEND;TZID=America/Los_Angeles:20240124T143000
DTSTAMP:20260425T042415
CREATED:20240106T014703Z
LAST-MODIFIED:20240106T014703Z
UID:1332-1706084100-1706106600@mac.roundvalley.org
SUMMARY:Jersey Day at RVEMS
DESCRIPTION:
URL:https://mac.roundvalley.org/event/jersey-day-at-rvems/
LOCATION:Round Valley Elementary/Middle School\, Airport & Foothill Road\, Covelo
END:VEVENT
BEGIN:VEVENT
DTSTART;TZID=America/Los_Angeles:20240123T171500
DTEND;TZID=America/Los_Angeles:20240123T190000
DTSTAMP:20260425T042415
CREATED:20240108T230212Z
LAST-MODIFIED:20240108T230310Z
UID:1344-1706030100-1706036400@mac.roundvalley.org
SUMMARY:RV Skate Park Community Meeting
DESCRIPTION:
URL:https://mac.roundvalley.org/event/rv-skate-park-community-meeting/
LOCATION:Round Valley Library Commons\, 23925 Howard Street\, Covelo\, 95428
END:VEVENT
BEGIN:VEVENT
DTSTART;TZID=America/Los_Angeles:20240123T160000
DTEND;TZID=America/Los_Angeles:20240123T180000
DTSTAMP:20260425T042415
CREATED:20231222T000102Z
LAST-MODIFIED:20240106T005709Z
UID:1285-1706025600-1706032800@mac.roundvalley.org
SUMMARY:Round Valley HS Mustangs Basketball
DESCRIPTION:Away v. Potter Valley
URL:https://mac.roundvalley.org/event/round-valley-hs-mustangs-basketball-5/
END:VEVENT
BEGIN:VEVENT
DTSTART;TZID=America/Los_Angeles:20240123T081500
DTEND;TZID=America/Los_Angeles:20240123T143000
DTSTAMP:20260425T042415
CREATED:20240106T014602Z
LAST-MODIFIED:20240106T014602Z
UID:1330-1705997700-1706020200@mac.roundvalley.org
SUMMARY:Crazy Hair Day at RVEMS
DESCRIPTION:
URL:https://mac.roundvalley.org/event/crazy-hair-day-at-rvems/
LOCATION:Round Valley Elementary/Middle School\, Airport & Foothill Road\, Covelo
END:VEVENT
BEGIN:VEVENT
DTSTART;TZID=America/Los_Angeles:20240122T081500
DTEND;TZID=America/Los_Angeles:20240122T143000
DTSTAMP:20260425T042415
CREATED:20240106T014455Z
LAST-MODIFIED:20240106T014455Z
UID:1328-1705911300-1705933800@mac.roundvalley.org
SUMMARY:Pajama Day at RVEMS
DESCRIPTION:
URL:https://mac.roundvalley.org/event/pajama-day-at-rvems/
LOCATION:Round Valley Elementary/Middle School\, Airport & Foothill Road\, Covelo
END:VEVENT
BEGIN:VEVENT
DTSTART;TZID=America/Los_Angeles:20240122T080000
DTEND;TZID=America/Los_Angeles:20240126T170000
DTSTAMP:20260425T042415
CREATED:20240106T014938Z
LAST-MODIFIED:20240106T014938Z
UID:1338-1705910400-1706288400@mac.roundvalley.org
SUMMARY:Spirit Week at RVEMS
DESCRIPTION:
URL:https://mac.roundvalley.org/event/spirit-week-at-rvems/
END:VEVENT
BEGIN:VEVENT
DTSTART;TZID=America/Los_Angeles:20240120T110000
DTEND;TZID=America/Los_Angeles:20240120T140000
DTSTAMP:20260425T042415
CREATED:20231221T234354Z
LAST-MODIFIED:20231221T234609Z
UID:1270-1705748400-1705759200@mac.roundvalley.org
SUMMARY:Round Valley Library: Seed Library Work Party
DESCRIPTION:If you are interested in this event\, here’s another:
URL:https://mac.roundvalley.org/event/1270/
LOCATION:Round Valley Library Commons\, 23925 Howard Street\, Covelo\, 95428
END:VEVENT
BEGIN:VEVENT
DTSTART;TZID=America/Los_Angeles:20240119T160000
DTEND;TZID=America/Los_Angeles:20240119T180000
DTSTAMP:20260425T042415
CREATED:20231222T000008Z
LAST-MODIFIED:20240106T010411Z
UID:1283-1705680000-1705687200@mac.roundvalley.org
SUMMARY:Round Valley HS Mustangs Basketball
DESCRIPTION:Home game v. Anderson Valley
URL:https://mac.roundvalley.org/event/round-valley-hs-mustangs-basketball-4/
LOCATION:Round Valley High School\, 76270 High School Street\, Covelo\, 95428
END:VEVENT
BEGIN:VEVENT
DTSTART;TZID=America/Los_Angeles:20240118T153000
DTEND;TZID=America/Los_Angeles:20240118T163000
DTSTAMP:20260425T042415
CREATED:20240110T183426Z
LAST-MODIFIED:20240110T184228Z
UID:1358-1705591800-1705595400@mac.roundvalley.org
SUMMARY:Senior Power!
DESCRIPTION:Older adults: would you like to improve your strength\, balance\, and conditioning? The library\, in partnership with the awesome physical therapists at the Round Valley Indian Health Center\, is offering a weekly class for seniors of all fitness levels at 3:30 PM on Thursdays in January\, in the Community Room at the Library Commons. Dress in loose\, comfy clothes and good shoes so you can easily stretch and move.  Please arrive 15 minutes early\, at 3:15\, so we can check in and get ready to move.
URL:https://mac.roundvalley.org/event/senior-power-6/
LOCATION:Round Valley Library Commons\, 23925 Howard Street\, Covelo\, 95428
END:VEVENT
BEGIN:VEVENT
DTSTART;TZID=America/Los_Angeles:20240118T074500
DTEND;TZID=America/Los_Angeles:20240118T081500
DTSTAMP:20260425T042415
CREATED:20240106T013115Z
LAST-MODIFIED:20240106T013115Z
UID:1319-1705563900-1705565700@mac.roundvalley.org
SUMMARY:RVEMS Special Breakfast
DESCRIPTION:
URL:https://mac.roundvalley.org/event/rvems-special-breakfast/
LOCATION:Round Valley Elementary/Middle School\, Airport & Foothill Road\, Covelo
END:VEVENT
BEGIN:VEVENT
DTSTART;TZID=America/Los_Angeles:20240117T120000
DTEND;TZID=America/Los_Angeles:20240117T133000
DTSTAMP:20260425T042415
CREATED:20240112T182017Z
LAST-MODIFIED:20240112T182017Z
UID:1370-1705492800-1705498200@mac.roundvalley.org
SUMMARY:Sheriff's Community Meeting in Round Valley
DESCRIPTION:
URL:https://mac.roundvalley.org/event/sheriffs-community-meeting-in-round-valley/
LOCATION:Covelo Rec Center\, 22830 South Airport Road\, Covelo\, 95428
END:VEVENT
BEGIN:VEVENT
DTSTART;TZID=America/Los_Angeles:20240116T160000
DTEND;TZID=America/Los_Angeles:20240116T180000
DTSTAMP:20260425T042415
CREATED:20231221T235903Z
LAST-MODIFIED:20240106T010442Z
UID:1281-1705420800-1705428000@mac.roundvalley.org
SUMMARY:Round Valley HS Mustangs Basketball
DESCRIPTION:Away  v. Point Arena
URL:https://mac.roundvalley.org/event/round-valley-hs-mustangs-basketball-3/
END:VEVENT
BEGIN:VEVENT
DTSTART;TZID=America/Los_Angeles:20240116T144500
DTEND;TZID=America/Los_Angeles:20240116T170000
DTSTAMP:20260425T042415
CREATED:20240106T013404Z
LAST-MODIFIED:20240106T013404Z
UID:1324-1705416300-1705424400@mac.roundvalley.org
SUMMARY:DELAC Meeting
DESCRIPTION:
URL:https://mac.roundvalley.org/event/delac-meeting-2/
LOCATION:Round Valley Elementary/Middle School\, Airport & Foothill Road\, Covelo
END:VEVENT
END:VCALENDAR