BEGIN:VCALENDAR
VERSION:2.0
PRODID:-//Round Valley Area Municipal Advisory Council - ECPv6.15.3//NONSGML v1.0//EN
CALSCALE:GREGORIAN
METHOD:PUBLISH
X-WR-CALNAME:Round Valley Area Municipal Advisory Council
X-ORIGINAL-URL:https://mac.roundvalley.org
X-WR-CALDESC:Events for Round Valley Area Municipal Advisory Council
REFRESH-INTERVAL;VALUE=DURATION:PT1H
X-Robots-Tag:noindex
X-PUBLISHED-TTL:PT1H
BEGIN:VTIMEZONE
TZID:America/Los_Angeles
BEGIN:DAYLIGHT
TZOFFSETFROM:-0800
TZOFFSETTO:-0700
TZNAME:PDT
DTSTART:20240310T100000
END:DAYLIGHT
BEGIN:STANDARD
TZOFFSETFROM:-0700
TZOFFSETTO:-0800
TZNAME:PST
DTSTART:20241103T090000
END:STANDARD
END:VTIMEZONE
BEGIN:VEVENT
DTSTART;TZID=America/Los_Angeles:20240320T120000
DTEND;TZID=America/Los_Angeles:20240320T133000
DTSTAMP:20260425T055727
CREATED:20240112T182323Z
LAST-MODIFIED:20240112T182323Z
UID:1374-1710936000-1710941400@mac.roundvalley.org
SUMMARY:Sheriff's Community Meeting in Round Valley
DESCRIPTION:
URL:https://mac.roundvalley.org/event/sheriffs-community-meeting-in-round-valley-3/
LOCATION:Covelo Rec Center\, 22830 South Airport Road\, Covelo\, 95428
END:VEVENT
BEGIN:VEVENT
DTSTART;TZID=America/Los_Angeles:20240403T180000
DTEND;TZID=America/Los_Angeles:20240403T203000
DTSTAMP:20260425T055727
CREATED:20240112T183555Z
LAST-MODIFIED:20240112T183555Z
UID:1398-1712167200-1712176200@mac.roundvalley.org
SUMMARY:Round Valley MAC Meeting
DESCRIPTION:The agenda will be posted on the Agenda page (see above menu bar)
URL:https://mac.roundvalley.org/event/round-valley-mac-meeting-3/
LOCATION:Round Valley Library Commons\, 23925 Howard Street\, Covelo\, 95428
END:VEVENT
BEGIN:VEVENT
DTSTART;TZID=America/Los_Angeles:20240410T120000
DTEND;TZID=America/Los_Angeles:20240410T133000
DTSTAMP:20260425T055727
CREATED:20240405T232416Z
LAST-MODIFIED:20240405T232416Z
UID:1498-1712750400-1712755800@mac.roundvalley.org
SUMMARY:Covelo Public Cemetery District Meeting
DESCRIPTION:Monthly meeting
URL:https://mac.roundvalley.org/event/covelo-public-cemetery-district-meeting/
LOCATION:Round Valley Library Commons\, 23925 Howard Street\, Covelo\, 95428
END:VEVENT
BEGIN:VEVENT
DTSTART;TZID=America/Los_Angeles:20240410T160000
DTEND;TZID=America/Los_Angeles:20240410T170000
DTSTAMP:20260425T055727
CREATED:20240410T174627Z
LAST-MODIFIED:20240410T174627Z
UID:1531-1712764800-1712768400@mac.roundvalley.org
SUMMARY:RVHS Site Council Meeting 4pm
DESCRIPTION:
URL:https://mac.roundvalley.org/event/rvhs-site-council-meeting-4pm/
LOCATION:Round Valley High School\, 76270 High School Street\, Covelo\, 95428
END:VEVENT
BEGIN:VEVENT
DTSTART;TZID=America/Los_Angeles:20240411T074500
DTEND;TZID=America/Los_Angeles:20240411T081500
DTSTAMP:20260425T055727
CREATED:20240410T174755Z
LAST-MODIFIED:20240410T174755Z
UID:1533-1712821500-1712823300@mac.roundvalley.org
SUMMARY:RVEMS Special Breakfast
DESCRIPTION:
URL:https://mac.roundvalley.org/event/rvems-special-breakfast-2/
LOCATION:Round Valley Elementary/Middle School\, Airport & Foothill Road\, Covelo
END:VEVENT
BEGIN:VEVENT
DTSTART;TZID=America/Los_Angeles:20240413T080000
DTEND;TZID=America/Los_Angeles:20240413T170000
DTSTAMP:20260425T055727
CREATED:20240410T175056Z
LAST-MODIFIED:20240410T175056Z
UID:1536-1712995200-1713027600@mac.roundvalley.org
SUMMARY:Ruby Sky Memorial Co-Ed Basketball Tournament
DESCRIPTION:
URL:https://mac.roundvalley.org/event/ruby-sky-memorial-co-ed-basketball-tournament/
LOCATION:Round Valley High School\, 76270 High School Street\, Covelo\, 95428
END:VEVENT
BEGIN:VEVENT
DTSTART;TZID=America/Los_Angeles:20240415T171500
DTEND;TZID=America/Los_Angeles:20240415T193000
DTSTAMP:20260425T055727
CREATED:20240410T175318Z
LAST-MODIFIED:20240410T175318Z
UID:1541-1713201300-1713209400@mac.roundvalley.org
SUMMARY:RVUSD Board Meeting
DESCRIPTION:
URL:https://mac.roundvalley.org/event/rvusd-board-meeting-2/
LOCATION:Round Valley High School\, 76270 High School Street\, Covelo\, 95428
END:VEVENT
BEGIN:VEVENT
DTSTART;TZID=America/Los_Angeles:20240416T150000
DTEND;TZID=America/Los_Angeles:20240416T163000
DTSTAMP:20260425T055727
CREATED:20240410T175400Z
LAST-MODIFIED:20240410T175400Z
UID:1543-1713279600-1713285000@mac.roundvalley.org
SUMMARY:RVEMS Site Council Meeting
DESCRIPTION:
URL:https://mac.roundvalley.org/event/rvems-site-council-meeting-2/
LOCATION:Round Valley Elementary/Middle School\, Airport & Foothill Road\, Covelo
END:VEVENT
BEGIN:VEVENT
DTSTART;TZID=America/Los_Angeles:20240417T120000
DTEND;TZID=America/Los_Angeles:20240417T133000
DTSTAMP:20260425T055727
CREATED:20240112T182409Z
LAST-MODIFIED:20240112T182409Z
UID:1376-1713355200-1713360600@mac.roundvalley.org
SUMMARY:Sheriff's Community Meeting in Round Valley
DESCRIPTION:
URL:https://mac.roundvalley.org/event/sheriffs-community-meeting-in-round-valley-4/
LOCATION:Covelo Rec Center\, 22830 South Airport Road\, Covelo\, 95428
END:VEVENT
BEGIN:VEVENT
DTSTART;TZID=America/Los_Angeles:20240418T170000
DTEND;TZID=America/Los_Angeles:20240418T183000
DTSTAMP:20260425T055727
CREATED:20240410T175447Z
LAST-MODIFIED:20240410T175447Z
UID:1545-1713459600-1713465000@mac.roundvalley.org
SUMMARY:RVEMS Science Family Night
DESCRIPTION:
URL:https://mac.roundvalley.org/event/rvems-science-family-night/
LOCATION:Round Valley Elementary/Middle School\, Airport & Foothill Road\, Covelo
END:VEVENT
BEGIN:VEVENT
DTSTART;TZID=America/Los_Angeles:20240420T110000
DTEND;TZID=America/Los_Angeles:20240420T190000
DTSTAMP:20260425T055727
CREATED:20240405T233952Z
LAST-MODIFIED:20240413T213529Z
UID:1518-1713610800-1713639600@mac.roundvalley.org
SUMMARY:Round Valley Earth Day
DESCRIPTION:The Seed Library\, Clothing Swap Fabric Dying\, Woodworking booth\, Butterfly Booth\, Bee Hives booth \,Facepainting\, Recycled Art activity\, Scavenger hunt….\n\nTaiko Drummers from Ten Thousand Buddha’s will perform on Earth Day Celebration at 12 noon.\nDon’t miss it.\n\nThese are just some of the activities that await you on Earth Day Celebration.\nApril 20th 11:00- Dark.\nCoveloWalnut grove Library Commons
URL:https://mac.roundvalley.org/event/1518/
END:VEVENT
BEGIN:VEVENT
DTSTART;TZID=America/Los_Angeles:20240423T144000
DTEND;TZID=America/Los_Angeles:20240423T160000
DTSTAMP:20260425T055727
CREATED:20240410T175547Z
LAST-MODIFIED:20240410T175547Z
UID:1547-1713883200-1713888000@mac.roundvalley.org
SUMMARY:RVUSD DELAC Meeting
DESCRIPTION:
URL:https://mac.roundvalley.org/event/rvusd-delac-meeting/
LOCATION:Round Valley High School\, 76270 High School Street\, Covelo\, 95428
END:VEVENT
BEGIN:VEVENT
DTSTART;TZID=America/Los_Angeles:20240423T163000
DTEND;TZID=America/Los_Angeles:20240423T183000
DTSTAMP:20260425T055727
CREATED:20240421T171220Z
LAST-MODIFIED:20240421T171220Z
UID:1568-1713889800-1713897000@mac.roundvalley.org
SUMMARY:RVEMS 8th Grade Fundraiser - Mexican Food!
DESCRIPTION:
URL:https://mac.roundvalley.org/event/rvems-8th-grade-fundraiser-mexican-food/
LOCATION:Round Valley Elementary/Middle School\, Airport & Foothill Road\, Covelo
END:VEVENT
BEGIN:VEVENT
DTSTART;TZID=America/Los_Angeles:20240423T171500
DTEND;TZID=America/Los_Angeles:20240423T183000
DTSTAMP:20260425T055727
CREATED:20240421T171731Z
LAST-MODIFIED:20240421T171731Z
UID:1571-1713892500-1713897000@mac.roundvalley.org
SUMMARY:Round Valley Skatepark Project Meeting
DESCRIPTION:
URL:https://mac.roundvalley.org/event/round-valley-skatepark-project-meeting-2/
LOCATION:Round Valley Library Commons\, 23925 Howard Street\, Covelo\, 95428
END:VEVENT
BEGIN:VEVENT
DTSTART;TZID=America/Los_Angeles:20240426T100000
DTEND;TZID=America/Los_Angeles:20240426T150000
DTSTAMP:20260425T055727
CREATED:20240410T175621Z
LAST-MODIFIED:20240425T033523Z
UID:1549-1714125600-1714143600@mac.roundvalley.org
SUMMARY:RVHS Big Time  2024
DESCRIPTION:
URL:https://mac.roundvalley.org/event/rvusd-big-time/
LOCATION:Round Valley High School\, 76270 High School Street\, Covelo\, 95428
END:VEVENT
BEGIN:VEVENT
DTSTART;TZID=America/Los_Angeles:20240426T130000
DTEND;TZID=America/Los_Angeles:20240426T170000
DTSTAMP:20260425T055727
CREATED:20240421T192310Z
LAST-MODIFIED:20240421T192658Z
UID:1575-1714136400-1714150800@mac.roundvalley.org
SUMMARY:California DOJ Meeting in Round Valley about MMIP - RVIT Staff/Employee Day
DESCRIPTION:From Tribal Council President Lewis “Bill” Whipple: \nOn April 26th & 27th the California Department of Justice will be at the Buffalo room to talk to people from Round Valley about MMIP. Friday will be for the staff and employees of the RVIT. Saturday the 27th will be for the people of Round Valley to share their thoughts\, ideas and experiences with MMIP. So please save the date and come out and talk to the DOJ
URL:https://mac.roundvalley.org/event/california-doj-meeting-in-round-valley-about-mmip-tribal-member-day/
LOCATION:RVIT Buffalo Room\, 77826 Covelo Road\, Covelo\, California\, 95428
END:VEVENT
BEGIN:VEVENT
DTSTART;TZID=America/Los_Angeles:20240427T100000
DTEND;TZID=America/Los_Angeles:20240427T150000
DTSTAMP:20260425T055727
CREATED:20240421T192537Z
LAST-MODIFIED:20240421T192537Z
UID:1578-1714212000-1714230000@mac.roundvalley.org
SUMMARY:California DOJ Meeting in Round Valley about MMIP - Community-Wide
DESCRIPTION:From Tribal Council President Lewis “Bill” Whipple: \nOn April 26th & 27th the California Department of Justice will be at the Buffalo room to talk to people from Round Valley about MMIP. Friday will be for the staff and employees of the RVIT. Saturday the 27th will be for the people of Round Valley to share their thoughts\, ideas and experiences with MMIP. So please save the date and come out and talk to the DOJ.
URL:https://mac.roundvalley.org/event/california-doj-meeting-in-round-valley-about-mmip-community-wide/
LOCATION:RVIT Buffalo Room\, 77826 Covelo Road\, Covelo\, California\, 95428
END:VEVENT
BEGIN:VEVENT
DTSTART;TZID=America/Los_Angeles:20240501T180000
DTEND;TZID=America/Los_Angeles:20240501T200000
DTSTAMP:20260425T055727
CREATED:20240112T183719Z
LAST-MODIFIED:20240112T183719Z
UID:1400-1714586400-1714593600@mac.roundvalley.org
SUMMARY:Round Valley MAC Meeting
DESCRIPTION:The agenda will be posted on the Agenda page (see above menu bar)
URL:https://mac.roundvalley.org/event/round-valley-mac-meeting-4/
LOCATION:Round Valley Library Commons\, 23925 Howard Street\, Covelo\, 95428
END:VEVENT
BEGIN:VEVENT
DTSTART;TZID=America/Los_Angeles:20240504T100000
DTEND;TZID=America/Los_Angeles:20240504T160000
DTSTAMP:20260425T055727
CREATED:20240430T000150Z
LAST-MODIFIED:20240430T000150Z
UID:1609-1714816800-1714838400@mac.roundvalley.org
SUMMARY:Free Comic Book Day at the Library
DESCRIPTION:  \n\nThis Saturday\, May 4th\, 10 AM – 4 PM\, is Free Comic Book Day at the Round Valley Branch Library. Free comics for everyone\, while supplies last.
URL:https://mac.roundvalley.org/event/free-comic-book-day-at-the-library/
LOCATION:Round Valley Public Library\, Covelo\, 95428
END:VEVENT
BEGIN:VEVENT
DTSTART;TZID=America/Los_Angeles:20240504T100000
DTEND;TZID=America/Los_Angeles:20240504T170000
DTSTAMP:20260425T055727
CREATED:20240410T232901Z
LAST-MODIFIED:20240410T232901Z
UID:1558-1714816800-1714842000@mac.roundvalley.org
SUMMARY:Round Valley History Day
DESCRIPTION:
URL:https://mac.roundvalley.org/event/round-valley-history-day/
LOCATION:Round Valley United Methodist Church\, 77834 Covelo Road\, Covelo\, CA\, 95428
END:VEVENT
BEGIN:VEVENT
DTSTART;TZID=America/Los_Angeles:20240508T120000
DTEND;TZID=America/Los_Angeles:20240508T133000
DTSTAMP:20260425T055727
CREATED:20240405T232517Z
LAST-MODIFIED:20240405T232517Z
UID:1500-1715169600-1715175000@mac.roundvalley.org
SUMMARY:Covelo Public Cemetery District Meeting
DESCRIPTION:Monthly meeting
URL:https://mac.roundvalley.org/event/covelo-public-cemetery-district-meeting-2/
LOCATION:Round Valley Library Commons\, 23925 Howard Street\, Covelo\, 95428
END:VEVENT
BEGIN:VEVENT
DTSTART;TZID=America/Los_Angeles:20240510T184500
DTEND;TZID=America/Los_Angeles:20240510T200000
DTSTAMP:20260425T055727
CREATED:20240430T000257Z
LAST-MODIFIED:20240430T000404Z
UID:1612-1715366700-1715371200@mac.roundvalley.org
SUMMARY:Free Documentary at the Library
DESCRIPTION:THE STREET PROJECT is an inspiring story about the global\, citizen-led fight to make our streets safer places for kids\, and pedestrians and cyclists of all ages. We will have flyers available about the Safe Routes to School survey available for all attendees.\n\nSee the trailer for the film\, here: https://www.thestreetproject.com/videos/
URL:https://mac.roundvalley.org/event/free-documentary-at-the-library/
LOCATION:Round Valley Public Library\, Covelo\, 95428
END:VEVENT
BEGIN:VEVENT
DTSTART;TZID=America/Los_Angeles:20240511T100000
DTEND;TZID=America/Los_Angeles:20240511T170000
DTSTAMP:20260425T055727
CREATED:20240427T224001Z
LAST-MODIFIED:20240427T224026Z
UID:1587-1715421600-1715446800@mac.roundvalley.org
SUMMARY:Covelo FFA Field Day Rodeo
DESCRIPTION:
URL:https://mac.roundvalley.org/event/covelo-ffa-field-day-rodeo/
LOCATION:Covelo Rodeo Ground\, 22830 S. Airport Road\, Covelo\, California\, 95428
END:VEVENT
BEGIN:VEVENT
DTSTART;TZID=America/Los_Angeles:20240515T120000
DTEND;TZID=America/Los_Angeles:20240515T133000
DTSTAMP:20260425T055727
CREATED:20240112T182517Z
LAST-MODIFIED:20240112T182517Z
UID:1378-1715774400-1715779800@mac.roundvalley.org
SUMMARY:Sheriff's Community Meeting in Round Valley
DESCRIPTION:
URL:https://mac.roundvalley.org/event/sheriffs-community-meeting-in-round-valley-5/
LOCATION:Covelo Rec Center\, 22830 South Airport Road\, Covelo\, 95428
END:VEVENT
BEGIN:VEVENT
DTSTART;TZID=America/Los_Angeles:20240527T110000
DTEND;TZID=America/Los_Angeles:20240527T150000
DTSTAMP:20260425T055727
CREATED:20240510T190142Z
LAST-MODIFIED:20240510T190142Z
UID:1620-1716807600-1716822000@mac.roundvalley.org
SUMMARY:Memorial Day at Valley View Cemetery
DESCRIPTION:
URL:https://mac.roundvalley.org/event/memorial-day-at-valley-view-cemetery/
LOCATION:Valley View Cemetery\, 23501 Cemetery Lane\, Covelo\, CA\, 95428
END:VEVENT
BEGIN:VEVENT
DTSTART;TZID=America/Los_Angeles:20240605T180000
DTEND;TZID=America/Los_Angeles:20240605T200000
DTSTAMP:20260425T055727
CREATED:20240112T183812Z
LAST-MODIFIED:20240112T183812Z
UID:1402-1717610400-1717617600@mac.roundvalley.org
SUMMARY:Round Valley MAC Meeting
DESCRIPTION:The agenda will be posted on the Agenda page (see above menu bar)
URL:https://mac.roundvalley.org/event/round-valley-mac-meeting-5/
LOCATION:Round Valley Library Commons\, 23925 Howard Street\, Covelo\, 95428
END:VEVENT
BEGIN:VEVENT
DTSTART;TZID=America/Los_Angeles:20240612T120000
DTEND;TZID=America/Los_Angeles:20240612T133000
DTSTAMP:20260425T055727
CREATED:20240405T232554Z
LAST-MODIFIED:20240405T232554Z
UID:1502-1718193600-1718199000@mac.roundvalley.org
SUMMARY:Covelo Public Cemetery District Meeting
DESCRIPTION:Monthly meeting
URL:https://mac.roundvalley.org/event/covelo-public-cemetery-district-meeting-3/
LOCATION:Round Valley Library Commons\, 23925 Howard Street\, Covelo\, 95428
END:VEVENT
BEGIN:VEVENT
DTSTART;TZID=America/Los_Angeles:20240618T080000
DTEND;TZID=America/Los_Angeles:20240618T170000
DTSTAMP:20260425T055727
CREATED:20240610T132625Z
LAST-MODIFIED:20240610T132625Z
UID:1648-1718697600-1718730000@mac.roundvalley.org
SUMMARY:Round Valley Chipper Day
DESCRIPTION:Mendocino County Fire Safe Council Community Chipping Program is coming to Round Valley on Tuesday\, June 18th. This program is designed to assist neighborhoods in creating and maintaining defensible space around their homes as well as creating and maintaining roadside ingress and egress in their neighborhoods.\nSigning up is easy to do on the Firesafe Council Website: firesafemendocino.org. Go to Community Programs and select Mendocino Community Chipping Program. Enter your address and your property will be added to the Chipper Day schedule. You can also sign up in-person at the Round Valley Branch Library.
URL:https://mac.roundvalley.org/event/round-valley-chipper-day/
END:VEVENT
BEGIN:VEVENT
DTSTART;TZID=America/Los_Angeles:20240619T120000
DTEND;TZID=America/Los_Angeles:20240619T133000
DTSTAMP:20260425T055727
CREATED:20240112T182632Z
LAST-MODIFIED:20240112T182632Z
UID:1380-1718798400-1718803800@mac.roundvalley.org
SUMMARY:Sheriff's Community Meeting in Round Valley
DESCRIPTION:
URL:https://mac.roundvalley.org/event/sheriffs-community-meeting-in-round-valley-6/
LOCATION:Covelo Rec Center\, 22830 South Airport Road\, Covelo\, 95428
END:VEVENT
BEGIN:VEVENT
DTSTART;TZID=America/Los_Angeles:20240621T170000
DTEND;TZID=America/Los_Angeles:20240621T220000
DTSTAMP:20260425T055727
CREATED:20240606T205944Z
LAST-MODIFIED:20240606T205944Z
UID:1644-1718989200-1719007200@mac.roundvalley.org
SUMMARY:Skate Park Fundraiser
DESCRIPTION:
URL:https://mac.roundvalley.org/event/skate-park-fundraiser/
LOCATION:Covelo Rec Center\, 22830 South Airport Road\, Covelo\, 95428
END:VEVENT
END:VCALENDAR