BEGIN:VCALENDAR
VERSION:2.0
PRODID:-//Round Valley Area Municipal Advisory Council - ECPv6.15.3//NONSGML v1.0//EN
CALSCALE:GREGORIAN
METHOD:PUBLISH
X-WR-CALNAME:Round Valley Area Municipal Advisory Council
X-ORIGINAL-URL:https://mac.roundvalley.org
X-WR-CALDESC:Events for Round Valley Area Municipal Advisory Council
REFRESH-INTERVAL;VALUE=DURATION:PT1H
X-Robots-Tag:noindex
X-PUBLISHED-TTL:PT1H
BEGIN:VTIMEZONE
TZID:America/Los_Angeles
BEGIN:DAYLIGHT
TZOFFSETFROM:-0800
TZOFFSETTO:-0700
TZNAME:PDT
DTSTART:20240310T100000
END:DAYLIGHT
BEGIN:STANDARD
TZOFFSETFROM:-0700
TZOFFSETTO:-0800
TZNAME:PST
DTSTART:20241103T090000
END:STANDARD
END:VTIMEZONE
BEGIN:VEVENT
DTSTART;TZID=America/Los_Angeles:20240831T100000
DTEND;TZID=America/Los_Angeles:20240901T210000
DTSTAMP:20260425T042140
CREATED:20240818T011850Z
LAST-MODIFIED:20240818T014949Z
UID:1734-1725098400-1725224400@mac.roundvalley.org
SUMMARY:35th Annual Labor Day RV Community Rodeo
DESCRIPTION: 
URL:https://mac.roundvalley.org/event/rodeo/
LOCATION:Covelo Rodeo Ground\, 22830 S. Airport Road\, Covelo\, California\, 95428
END:VEVENT
BEGIN:VEVENT
DTSTART;TZID=America/Los_Angeles:20240831T170000
DTEND;TZID=America/Los_Angeles:20240831T230000
DTSTAMP:20260425T042140
CREATED:20240828T225829Z
LAST-MODIFIED:20240828T225829Z
UID:1768-1725123600-1725145200@mac.roundvalley.org
SUMMARY:Community Rodeo Saturday Night Goin's-On
DESCRIPTION:
URL:https://mac.roundvalley.org/event/community-rodeo-saturday-night-goins-on/
LOCATION:Covelo Rodeo Ground\, 22830 S. Airport Road\, Covelo\, California\, 95428
END:VEVENT
BEGIN:VEVENT
DTSTART;TZID=America/Los_Angeles:20240904T180000
DTEND;TZID=America/Los_Angeles:20240904T193000
DTSTAMP:20260425T042140
CREATED:20240828T222850Z
LAST-MODIFIED:20240828T223106Z
UID:1759-1725472800-1725478200@mac.roundvalley.org
SUMMARY:Round Valley Municipal Advisory Council Meeting
DESCRIPTION:Monthly MAC meeting.  Send in your agenda items by the prior Saturday 5pm to admin@mac.roundvalley.org
URL:https://mac.roundvalley.org/event/round-valley-municipal-advisory-council-meeting/
LOCATION:Round Valley Library Commons\, 23925 Howard Street\, Covelo\, 95428
END:VEVENT
BEGIN:VEVENT
DTSTART;TZID=America/Los_Angeles:20240906T120000
DTEND;TZID=America/Los_Angeles:20240906T160000
DTSTAMP:20260425T042140
CREATED:20240818T005851Z
LAST-MODIFIED:20240818T005851Z
UID:1718-1725624000-1725638400@mac.roundvalley.org
SUMMARY:Round Valley Farmer's Market
DESCRIPTION:In the Walnut Grove behind the Library and Radio Station every Friday 12-4pm \n 
URL:https://mac.roundvalley.org/event/round-valley-farmers-market-3/
LOCATION:Round Valley Public Library\, Covelo\, 95428
END:VEVENT
BEGIN:VEVENT
DTSTART;TZID=America/Los_Angeles:20240911T120000
DTEND;TZID=America/Los_Angeles:20240911T133000
DTSTAMP:20260425T042140
CREATED:20240405T232811Z
LAST-MODIFIED:20240405T232811Z
UID:1508-1726056000-1726061400@mac.roundvalley.org
SUMMARY:Covelo Public Cemetery District Meeting
DESCRIPTION:Monthly meeting
URL:https://mac.roundvalley.org/event/covelo-public-cemetery-district-meeting-6/
LOCATION:Round Valley Library Commons\, 23925 Howard Street\, Covelo\, 95428
END:VEVENT
BEGIN:VEVENT
DTSTART;TZID=America/Los_Angeles:20240913T120000
DTEND;TZID=America/Los_Angeles:20240913T160000
DTSTAMP:20260425T042140
CREATED:20240818T005943Z
LAST-MODIFIED:20240818T005943Z
UID:1720-1726228800-1726243200@mac.roundvalley.org
SUMMARY:Round Valley Farmer's Market
DESCRIPTION:In the Walnut Grove behind the Library and Radio Station every Friday 12-4pm \n 
URL:https://mac.roundvalley.org/event/round-valley-farmers-market-4/
LOCATION:Round Valley Public Library\, Covelo\, 95428
END:VEVENT
BEGIN:VEVENT
DTSTART;TZID=America/Los_Angeles:20240914T130000
DTEND;TZID=America/Los_Angeles:20240914T150000
DTSTAMP:20260425T042140
CREATED:20240912T215019Z
LAST-MODIFIED:20240912T215109Z
UID:1783-1726318800-1726326000@mac.roundvalley.org
SUMMARY:Reception for the Round Valley Library
DESCRIPTION:
URL:https://mac.roundvalley.org/event/reception-for-the-round-valley-library/
LOCATION:Round Valley Public Library\, Covelo\, 95428
END:VEVENT
BEGIN:VEVENT
DTSTART;TZID=America/Los_Angeles:20240918T120000
DTEND;TZID=America/Los_Angeles:20240918T133000
DTSTAMP:20260425T042140
CREATED:20240112T182903Z
LAST-MODIFIED:20240112T182903Z
UID:1386-1726660800-1726666200@mac.roundvalley.org
SUMMARY:Sheriff's Community Meeting in Round Valley
DESCRIPTION:
URL:https://mac.roundvalley.org/event/sheriffs-community-meeting-in-round-valley-9/
LOCATION:Covelo Rec Center\, 22830 South Airport Road\, Covelo\, 95428
END:VEVENT
BEGIN:VEVENT
DTSTART;TZID=America/Los_Angeles:20240920T120000
DTEND;TZID=America/Los_Angeles:20240920T140000
DTSTAMP:20260425T042140
CREATED:20240820T194927Z
LAST-MODIFIED:20240820T195332Z
UID:1750-1726833600-1726840800@mac.roundvalley.org
SUMMARY:Round Valley Food Pantry
DESCRIPTION:
URL:https://mac.roundvalley.org/event/round-valley-food-pantry/
LOCATION:RVIT Health & Safety Complex\, 76300 Grange Street\, Covelo\, 95428
END:VEVENT
BEGIN:VEVENT
DTSTART;TZID=America/Los_Angeles:20240920T120000
DTEND;TZID=America/Los_Angeles:20240920T160000
DTSTAMP:20260425T042140
CREATED:20240818T010021Z
LAST-MODIFIED:20240818T010021Z
UID:1722-1726833600-1726848000@mac.roundvalley.org
SUMMARY:Round Valley Farmer's Market
DESCRIPTION:In the Walnut Grove behind the Library and Radio Station every Friday 12-4pm \n 
URL:https://mac.roundvalley.org/event/round-valley-farmers-market-5/
END:VEVENT
BEGIN:VEVENT
DTSTART;TZID=America/Los_Angeles:20240921T150000
DTEND;TZID=America/Los_Angeles:20240921T165000
DTSTAMP:20260425T042140
CREATED:20240817T232706Z
LAST-MODIFIED:20240817T233023Z
UID:1691-1726930800-1726937400@mac.roundvalley.org
SUMMARY:Saturday Movie Matinee at the Library:  "The Garfield Movie"
DESCRIPTION:The Garfield Movie is a 2024 animated adventure/comedy film based on the comic strip\, Garfield\, created by Jim Davis. In the film\, Garfield is reunited with his long-lost father\, a street cat named Vic\, and is forced into joining him on a high-stakes adventure. The film is rated PG. \nEnjoy this movie with friends and family in the library’s community room. Popcorn and water provided. \nPlease arrive a few minutes early as we will start the film on time.\nRemember\, children under 9 years of age may not be let unattended anywhere in the library and must be accompanied and directly supervised by a responsible adult. \nGarfield: The Movie
URL:https://mac.roundvalley.org/event/saturday-movie-matinee-at-the-library-the-garfield-movie/
END:VEVENT
BEGIN:VEVENT
DTSTART;TZID=America/Los_Angeles:20240927T100000
DTEND;TZID=America/Los_Angeles:20240927T150000
DTSTAMP:20260425T042140
CREATED:20240410T231404Z
LAST-MODIFIED:20240410T231934Z
UID:1554-1727431200-1727449200@mac.roundvalley.org
SUMMARY:RVIHC Annual Health Fair
DESCRIPTION:
URL:https://mac.roundvalley.org/event/rvihc-annual-health-fair/
LOCATION:Round Valley Indian Health Center\, 162 & Biggar Lane\, Covelo
END:VEVENT
BEGIN:VEVENT
DTSTART;TZID=America/Los_Angeles:20240927T120000
DTEND;TZID=America/Los_Angeles:20240927T160000
DTSTAMP:20260425T042140
CREATED:20240818T010106Z
LAST-MODIFIED:20240818T010106Z
UID:1724-1727438400-1727452800@mac.roundvalley.org
SUMMARY:Round Valley Farmer's Market
DESCRIPTION:In the Walnut Grove behind the Library and Radio Station every Friday 12-4pm \n 
URL:https://mac.roundvalley.org/event/round-valley-farmers-market-6/
LOCATION:Round Valley Public Library\, Covelo\, 95428
END:VEVENT
BEGIN:VEVENT
DTSTART;TZID=America/Los_Angeles:20241002T180000
DTEND;TZID=America/Los_Angeles:20241002T193000
DTSTAMP:20260425T042140
CREATED:20240828T223010Z
LAST-MODIFIED:20240828T223010Z
UID:1761-1727892000-1727897400@mac.roundvalley.org
SUMMARY:Round Valley Area Municipal Advisory Council Meeting
DESCRIPTION:Monthly MAC meeting.  Send in your agenda items by the prior Saturday 5pm to admin@mac.roundvalley.org
URL:https://mac.roundvalley.org/event/round-valley-area-municipal-advisory-council-meeting/
LOCATION:Round Valley Library Commons\, 23925 Howard Street\, Covelo\, 95428
END:VEVENT
BEGIN:VEVENT
DTSTART;TZID=America/Los_Angeles:20241004T120000
DTEND;TZID=America/Los_Angeles:20241004T160000
DTSTAMP:20260425T042140
CREATED:20240818T010157Z
LAST-MODIFIED:20240818T010157Z
UID:1726-1728043200-1728057600@mac.roundvalley.org
SUMMARY:Round Valley Farmer's Market
DESCRIPTION:In the Walnut Grove behind the Library and Radio Station every Friday 12-4pm \n 
URL:https://mac.roundvalley.org/event/round-valley-farmers-market-7/
LOCATION:Round Valley Public Library\, Covelo\, 95428
END:VEVENT
BEGIN:VEVENT
DTSTART;TZID=America/Los_Angeles:20241008T170000
DTEND;TZID=America/Los_Angeles:20241008T190000
DTSTAMP:20260425T042140
CREATED:20241001T005455Z
LAST-MODIFIED:20241001T005455Z
UID:1795-1728406800-1728414000@mac.roundvalley.org
SUMMARY:Round Valley Candidates Forum
DESCRIPTION:
URL:https://mac.roundvalley.org/event/round-valley-candidates-forum/
LOCATION:Round Valley Library Commons\, 23925 Howard Street\, Covelo\, 95428
END:VEVENT
BEGIN:VEVENT
DTSTART;TZID=America/Los_Angeles:20241009T120000
DTEND;TZID=America/Los_Angeles:20241009T133000
DTSTAMP:20260425T042140
CREATED:20240405T232856Z
LAST-MODIFIED:20240405T232856Z
UID:1510-1728475200-1728480600@mac.roundvalley.org
SUMMARY:Covelo Public Cemetery District Meeting
DESCRIPTION:Monthly meeting
URL:https://mac.roundvalley.org/event/covelo-public-cemetery-district-meeting-7/
LOCATION:Round Valley Library Commons\, 23925 Howard Street\, Covelo\, 95428
END:VEVENT
BEGIN:VEVENT
DTSTART;TZID=America/Los_Angeles:20241011T120000
DTEND;TZID=America/Los_Angeles:20241011T160000
DTSTAMP:20260425T042140
CREATED:20240818T010301Z
LAST-MODIFIED:20240818T010301Z
UID:1728-1728648000-1728662400@mac.roundvalley.org
SUMMARY:Round Valley Farmer's Market
DESCRIPTION:In the Walnut Grove behind the Library and Radio Station every Friday 12-4pm \n 
URL:https://mac.roundvalley.org/event/round-valley-farmers-market-8/
LOCATION:Round Valley Public Library\, Covelo\, 95428
END:VEVENT
BEGIN:VEVENT
DTSTART;TZID=America/Los_Angeles:20241011T190000
DTEND;TZID=America/Los_Angeles:20241011T210000
DTSTAMP:20260425T042140
CREATED:20240817T231913Z
LAST-MODIFIED:20240817T232318Z
UID:1697-1728673200-1728680400@mac.roundvalley.org
SUMMARY:Documentary Film Series at the Library: "Common Ground"
DESCRIPTION:     From the filmmakers of ‘Kiss the Ground’ comes the follow-up documentary Common Ground\, recipient of the Tribeca Film Festival 2023 Human/Nature Award.  Sobering yet hopeful\, Common Ground exposes the interconnections of American farming policy\, politics\, and health\, and shares moving stories of how regenerative agriculture and soil health play vitally important roles in changing these systems for the better. \n\nDoors open at 6:45\, film begins promptly at 7:00 PM\nCommon Ground
URL:https://mac.roundvalley.org/event/documentary-film-series-at-the-library-common-ground/
LOCATION:Round Valley Public Library\, Covelo\, 95428
END:VEVENT
BEGIN:VEVENT
DTSTART;TZID=America/Los_Angeles:20241016T120000
DTEND;TZID=America/Los_Angeles:20241016T133000
DTSTAMP:20260425T042140
CREATED:20240112T182949Z
LAST-MODIFIED:20240112T182949Z
UID:1388-1729080000-1729085400@mac.roundvalley.org
SUMMARY:Sheriff's Community Meeting in Round Valley
DESCRIPTION:
URL:https://mac.roundvalley.org/event/sheriffs-community-meeting-in-round-valley-10/
LOCATION:Covelo Rec Center\, 22830 South Airport Road\, Covelo\, 95428
END:VEVENT
BEGIN:VEVENT
DTSTART;TZID=America/Los_Angeles:20241016T173000
DTEND;TZID=America/Los_Angeles:20241016T193000
DTSTAMP:20260425T042140
CREATED:20241014T170751Z
LAST-MODIFIED:20241014T170751Z
UID:1822-1729099800-1729107000@mac.roundvalley.org
SUMMARY:Tribal Community's October  Birthday Dinner
DESCRIPTION:
URL:https://mac.roundvalley.org/event/tribal-communitys-october-birthday-dinner/
LOCATION:RVIT Buffalo Room\, 77826 Covelo Road\, Covelo\, California\, 95428
END:VEVENT
BEGIN:VEVENT
DTSTART;TZID=America/Los_Angeles:20241017T170000
DTEND;TZID=America/Los_Angeles:20241017T190000
DTSTAMP:20260425T042140
CREATED:20241014T215736Z
LAST-MODIFIED:20241014T215736Z
UID:1825-1729184400-1729191600@mac.roundvalley.org
SUMMARY:RVEMS Family Game Night
DESCRIPTION:
URL:https://mac.roundvalley.org/event/rvems-family-game-night/
LOCATION:Round Valley Elementary/Middle School\, Airport & Foothill Road\, Covelo
END:VEVENT
BEGIN:VEVENT
DTSTART;TZID=America/Los_Angeles:20241017T190000
DTEND;TZID=America/Los_Angeles:20241017T210000
DTSTAMP:20260425T042140
CREATED:20241007T163212Z
LAST-MODIFIED:20241007T170323Z
UID:1806-1729191600-1729198800@mac.roundvalley.org
SUMMARY:3d Thursday Mic Night at the Library
DESCRIPTION:
URL:https://mac.roundvalley.org/event/3d-thursay-mic-night-at-the-library/
LOCATION:Round Valley Library Commons\, 23925 Howard Street\, Covelo\, 95428
END:VEVENT
BEGIN:VEVENT
DTSTART;TZID=America/Los_Angeles:20241018T100000
DTEND;TZID=America/Los_Angeles:20241018T140000
DTSTAMP:20260425T042140
CREATED:20240820T195040Z
LAST-MODIFIED:20240820T195118Z
UID:1752-1729245600-1729260000@mac.roundvalley.org
SUMMARY:Round Valley Food Pantry
DESCRIPTION:
URL:https://mac.roundvalley.org/event/round-valley-food-pantry-2/
LOCATION:RVIT Health & Safety Complex\, 76300 Grange Street\, Covelo\, 95428
END:VEVENT
BEGIN:VEVENT
DTSTART;TZID=America/Los_Angeles:20241018T120000
DTEND;TZID=America/Los_Angeles:20241018T160000
DTSTAMP:20260425T042140
CREATED:20240818T010346Z
LAST-MODIFIED:20240818T010346Z
UID:1730-1729252800-1729267200@mac.roundvalley.org
SUMMARY:Round Valley Farmer's Market
DESCRIPTION:In the Walnut Grove behind the Library and Radio Station every Friday 12-4pm \n 
URL:https://mac.roundvalley.org/event/round-valley-farmers-market-9/
LOCATION:Round Valley Public Library\, Covelo\, 95428
END:VEVENT
BEGIN:VEVENT
DTSTART;TZID=America/Los_Angeles:20241019T150000
DTEND;TZID=America/Los_Angeles:20241019T165000
DTSTAMP:20260425T042140
CREATED:20240817T231714Z
LAST-MODIFIED:20240817T231714Z
UID:1695-1729350000-1729356600@mac.roundvalley.org
SUMMARY:Saturday Movie Matinee at the Library:  "Despicable Me 4"
DESCRIPTION:Despicable Me 4 is a 2024 American animated comedy film. In the film\, Gru and his family are forced to relocate to a safe house to hide from Maxime Le Mal\, an old schoolmate and rival of Gru’s. The film is rated PG.\nEnjoy this movie with friends and family in the library’s community room.  Popcorn and water provided.\nPlease arrive a few minutes early as we will start the film on time.\nRemember\, children under 9 years of age may not be let unattended anywhere in the library and must be accompanied and directly supervised by a responsible adult.\nOctober 19 Movie
URL:https://mac.roundvalley.org/event/saturday-movie-matinee-at-the-library-despicable-me-4/
LOCATION:Round Valley Public Library\, Covelo\, 95428
END:VEVENT
BEGIN:VEVENT
DTSTART;TZID=America/Los_Angeles:20241025T120000
DTEND;TZID=America/Los_Angeles:20241025T160000
DTSTAMP:20260425T042140
CREATED:20240818T010505Z
LAST-MODIFIED:20240818T010505Z
UID:1732-1729857600-1729872000@mac.roundvalley.org
SUMMARY:Round Valley Farmer's Market
DESCRIPTION:In the Walnut Grove behind the Library and Radio Station every Friday 12-4pm \n 
URL:https://mac.roundvalley.org/event/round-valley-farmers-market-10/
LOCATION:Round Valley Public Library\, Covelo\, 95428
END:VEVENT
BEGIN:VEVENT
DTSTART;TZID=America/Los_Angeles:20241029T150000
DTEND;TZID=America/Los_Angeles:20241029T180000
DTSTAMP:20260425T042140
CREATED:20241025T144227Z
LAST-MODIFIED:20241025T172108Z
UID:1835-1730214000-1730224800@mac.roundvalley.org
SUMMARY:Spooky Trails Harvest Carnival at Yuki Trails
DESCRIPTION:
URL:https://mac.roundvalley.org/event/spooky-trails-at-yuki-trails/
LOCATION:Yuki Trails\, 23000 Henderson Road\, Covelo\, CA\, 95428\, United States
END:VEVENT
BEGIN:VEVENT
DTSTART;TZID=America/Los_Angeles:20241030T160000
DTEND;TZID=America/Los_Angeles:20241030T190000
DTSTAMP:20260425T042140
CREATED:20241025T145132Z
LAST-MODIFIED:20241030T183202Z
UID:1840-1730304000-1730314800@mac.roundvalley.org
SUMMARY:RVHS Senior Class Fundraiser
DESCRIPTION:
URL:https://mac.roundvalley.org/event/rvhs-senior-class-fundraiser/
LOCATION:Round Valley High School\, 76270 High School Street\, Covelo\, 95428
END:VEVENT
BEGIN:VEVENT
DTSTART;TZID=America/Los_Angeles:20241031T083000
DTEND;TZID=America/Los_Angeles:20241031T120000
DTSTAMP:20260425T042140
CREATED:20241030T162406Z
LAST-MODIFIED:20241030T162406Z
UID:1846-1730363400-1730376000@mac.roundvalley.org
SUMMARY:RVEMS Halloween Carnival
DESCRIPTION:The 8th grade class will be hosting our annual Halloween Carnival on Thursday\, October 31st. There will also be a costume parade for students.
URL:https://mac.roundvalley.org/event/rvems-halloween-carnival/
LOCATION:Round Valley Elementary/Middle School\, Airport & Foothill Road\, Covelo
END:VEVENT
END:VCALENDAR