BEGIN:VCALENDAR
VERSION:2.0
PRODID:-//Round Valley Area Municipal Advisory Council - ECPv6.15.3//NONSGML v1.0//EN
CALSCALE:GREGORIAN
METHOD:PUBLISH
X-WR-CALNAME:Round Valley Area Municipal Advisory Council
X-ORIGINAL-URL:https://mac.roundvalley.org
X-WR-CALDESC:Events for Round Valley Area Municipal Advisory Council
REFRESH-INTERVAL;VALUE=DURATION:PT1H
X-Robots-Tag:noindex
X-PUBLISHED-TTL:PT1H
BEGIN:VTIMEZONE
TZID:America/Los_Angeles
BEGIN:DAYLIGHT
TZOFFSETFROM:-0800
TZOFFSETTO:-0700
TZNAME:PDT
DTSTART:20240310T100000
END:DAYLIGHT
BEGIN:STANDARD
TZOFFSETFROM:-0700
TZOFFSETTO:-0800
TZNAME:PST
DTSTART:20241103T090000
END:STANDARD
BEGIN:DAYLIGHT
TZOFFSETFROM:-0800
TZOFFSETTO:-0700
TZNAME:PDT
DTSTART:20250309T100000
END:DAYLIGHT
BEGIN:STANDARD
TZOFFSETFROM:-0700
TZOFFSETTO:-0800
TZNAME:PST
DTSTART:20251102T090000
END:STANDARD
END:VTIMEZONE
BEGIN:VEVENT
DTSTART;TZID=America/Los_Angeles:20241211T120000
DTEND;TZID=America/Los_Angeles:20241211T133000
DTSTAMP:20260425T063852
CREATED:20240405T233033Z
LAST-MODIFIED:20240405T233033Z
UID:1514-1733918400-1733923800@mac.roundvalley.org
SUMMARY:Covelo Public Cemetery District Meeting
DESCRIPTION:Monthly meeting
URL:https://mac.roundvalley.org/event/covelo-public-cemetery-district-meeting-9/
LOCATION:Round Valley Library Commons\, 23925 Howard Street\, Covelo\, 95428
END:VEVENT
BEGIN:VEVENT
DTSTART;TZID=America/Los_Angeles:20241213T120000
DTEND;TZID=America/Los_Angeles:20241213T160000
DTSTAMP:20260425T063852
CREATED:20241212T215354Z
LAST-MODIFIED:20241212T215354Z
UID:1905-1734091200-1734105600@mac.roundvalley.org
SUMMARY:Art in the Market in Covelo
DESCRIPTION:
URL:https://mac.roundvalley.org/event/art-in-the-market-in-covelo/
LOCATION:Round Valley Library Commons\, 23925 Howard Street\, Covelo\, 95428
END:VEVENT
BEGIN:VEVENT
DTSTART;TZID=America/Los_Angeles:20241214T100000
DTEND;TZID=America/Los_Angeles:20241214T160000
DTSTAMP:20260425T063852
CREATED:20241212T215729Z
LAST-MODIFIED:20241212T215729Z
UID:1909-1734170400-1734192000@mac.roundvalley.org
SUMMARY:Christmas Bazaar
DESCRIPTION:
URL:https://mac.roundvalley.org/event/christmas-bazaar/
LOCATION:Round Valley United Methodist Church\, 77834 Covelo Road\, Covelo\, CA\, 95428
END:VEVENT
BEGIN:VEVENT
DTSTART;TZID=America/Los_Angeles:20241214T183000
DTEND;TZID=America/Los_Angeles:20241214T190000
DTSTAMP:20260425T063852
CREATED:20241212T233654Z
LAST-MODIFIED:20241215T010412Z
UID:1919-1734201000-1734202800@mac.roundvalley.org
SUMMARY:Town Christmas Light Parade
DESCRIPTION:
URL:https://mac.roundvalley.org/event/town-christmas-light-parade/
END:VEVENT
BEGIN:VEVENT
DTSTART;TZID=America/Los_Angeles:20241218T120000
DTEND;TZID=America/Los_Angeles:20241218T133000
DTSTAMP:20260425T063852
CREATED:20240112T183132Z
LAST-MODIFIED:20240112T183132Z
UID:1392-1734523200-1734528600@mac.roundvalley.org
SUMMARY:Sheriff's Community Meeting in Round Valley
DESCRIPTION:
URL:https://mac.roundvalley.org/event/sheriffs-community-meeting-in-round-valley-12/
LOCATION:Covelo Rec Center\, 22830 South Airport Road\, Covelo\, 95428
END:VEVENT
BEGIN:VEVENT
DTSTART;TZID=America/Los_Angeles:20241219T190000
DTEND;TZID=America/Los_Angeles:20241219T210000
DTSTAMP:20260425T063852
CREATED:20241212T215526Z
LAST-MODIFIED:20241212T215526Z
UID:1907-1734634800-1734642000@mac.roundvalley.org
SUMMARY:Mic Night Cafe
DESCRIPTION:
URL:https://mac.roundvalley.org/event/mic-night-cafe/
LOCATION:Round Valley Library Commons\, 23925 Howard Street\, Covelo\, 95428
END:VEVENT
BEGIN:VEVENT
DTSTART;TZID=America/Los_Angeles:20241220T120000
DTEND;TZID=America/Los_Angeles:20241220T170000
DTSTAMP:20260425T063852
CREATED:20241212T220204Z
LAST-MODIFIED:20241212T220204Z
UID:1912-1734696000-1734714000@mac.roundvalley.org
SUMMARY:Farmers Market Holiday Bazaar
DESCRIPTION:
URL:https://mac.roundvalley.org/event/farmers-market-holiday-bazaar/
LOCATION:Round Valley Library Commons\, 23925 Howard Street\, Covelo\, 95428
END:VEVENT
BEGIN:VEVENT
DTSTART;TZID=America/Los_Angeles:20241227T120000
DTEND;TZID=America/Los_Angeles:20241227T160000
DTSTAMP:20260425T063852
CREATED:20241212T220634Z
LAST-MODIFIED:20241212T220634Z
UID:1914-1735300800-1735315200@mac.roundvalley.org
SUMMARY:Farmers Market in Covelo
DESCRIPTION:
URL:https://mac.roundvalley.org/event/farmers-market-in-covelo/
LOCATION:Round Valley Library Commons\, 23925 Howard Street\, Covelo\, 95428
END:VEVENT
BEGIN:VEVENT
DTSTART;TZID=America/Los_Angeles:20250103T120000
DTEND;TZID=America/Los_Angeles:20250103T160000
DTSTAMP:20260425T063852
CREATED:20241212T220757Z
LAST-MODIFIED:20241212T220757Z
UID:1916-1735905600-1735920000@mac.roundvalley.org
SUMMARY:Farmers Market in Covelo
DESCRIPTION:
URL:https://mac.roundvalley.org/event/farmers-market-in-covelo-2/
LOCATION:Round Valley Library Commons\, 23925 Howard Street\, Covelo\, 95428
END:VEVENT
BEGIN:VEVENT
DTSTART;TZID=America/Los_Angeles:20250107T180000
DTEND;TZID=America/Los_Angeles:20250107T193000
DTSTAMP:20260425T063852
CREATED:20241212T214659Z
LAST-MODIFIED:20241212T214659Z
UID:1903-1736272800-1736278200@mac.roundvalley.org
SUMMARY:Round Valley Area Municipal Advisory Council Meeting
DESCRIPTION:
URL:https://mac.roundvalley.org/event/round-valley-area-municipal-advisory-council-meeting-3/
LOCATION:Round Valley Library Commons\, 23925 Howard Street\, Covelo\, 95428
END:VEVENT
BEGIN:VEVENT
DTSTART;TZID=America/Los_Angeles:20250109T180000
DTEND;TZID=America/Los_Angeles:20250109T190000
DTSTAMP:20260425T063852
CREATED:20250109T152233Z
LAST-MODIFIED:20250109T152233Z
UID:1959-1736445600-1736449200@mac.roundvalley.org
SUMMARY:Round Valley Skatepark Meeting
DESCRIPTION:
URL:https://mac.roundvalley.org/event/round-valley-skatepark-meeting/
LOCATION:Round Valley Library Commons\, 23925 Howard Street\, Covelo\, 95428
END:VEVENT
BEGIN:VEVENT
DTSTART;TZID=America/Los_Angeles:20250111T110000
DTEND;TZID=America/Los_Angeles:20250111T140000
DTSTAMP:20260425T063852
CREATED:20250103T223225Z
LAST-MODIFIED:20250103T223950Z
UID:1943-1736593200-1736604000@mac.roundvalley.org
SUMMARY:Round Valley Seed Library Work Parties
DESCRIPTION:Seed Library Work Parties\nSaturday January 11th and 25th\, February 15th 11 AM – 2 PM\nIn the Library Commons Community Room\n\nPlease come help the seed library get ready for the coming season. We’ll be “weeding” the collection of older seed\, and packaging up new seed to add to the catalog. Tea\, cookies\, and conversation with friendly folks. You don’t need to stay the entire three hours\, come for as long as you can.
URL:https://mac.roundvalley.org/event/round-valley-seed-library-work-parties/
LOCATION:Round Valley Library Commons\, 23925 Howard Street\, Covelo\, 95428
END:VEVENT
BEGIN:VEVENT
DTSTART;TZID=America/Los_Angeles:20250116T170000
DTEND;TZID=America/Los_Angeles:20250116T190000
DTSTAMP:20260425T063852
CREATED:20250114T002142Z
LAST-MODIFIED:20250114T002142Z
UID:1969-1737046800-1737054000@mac.roundvalley.org
SUMMARY:Round Valley Skate Night
DESCRIPTION:Skate Night this Thursday! Scan the QR code and volunteer for a shift  Many hands make light work.
URL:https://mac.roundvalley.org/event/round-valley-skate-night/
LOCATION:Covelo Rec Center\, 22830 South Airport Road\, Covelo\, 95428
END:VEVENT
BEGIN:VEVENT
DTSTART;TZID=America/Los_Angeles:20250116T190000
DTEND;TZID=America/Los_Angeles:20250116T210000
DTSTAMP:20260425T063852
CREATED:20250107T150119Z
LAST-MODIFIED:20250107T150119Z
UID:1957-1737054000-1737061200@mac.roundvalley.org
SUMMARY:Mic Night Cafe
DESCRIPTION:
URL:https://mac.roundvalley.org/event/mic-night-cafe-2/
LOCATION:Round Valley Library Commons\, 23925 Howard Street\, Covelo\, 95428
END:VEVENT
BEGIN:VEVENT
DTSTART;TZID=America/Los_Angeles:20250117T070000
DTEND;TZID=America/Los_Angeles:20250117T203000
DTSTAMP:20260425T063852
CREATED:20250103T223054Z
LAST-MODIFIED:20250103T223907Z
UID:1941-1737097200-1737145800@mac.roundvalley.org
SUMMARY:Library Documentary Film:  Mission: JOY\, Finding Happiness in Troubled Times
DESCRIPTION:Round Valley Public Library Documentary Series\nPlease arrive by 6:45pm as the film starts promptly at 7pm. Thanks!!\n\n\nMission: JOY is the moving and laugh-out-loud funny documentary about the Dalai Lama and Desmond Tutu’s friendship and their secrets of finding joy in troubled times. With genuine affection\, mutual respect and a healthy dose of teasing\, these unlikely friends impart lessons gleaned from lived experience\, ancient traditions\, and the latest cutting-edge science regarding how to live with joy in the face of all of life’s challenges from the extraordinary to the mundane. Mission: Joy is an antidote for the times.\nThe showing of Mission: JOY is free and all are welcome.
URL:https://mac.roundvalley.org/event/library-documentary-film-mission-joy-finding-happiness-in-troubled-times/
LOCATION:Round Valley Public Library\, Covelo\, 95428
END:VEVENT
BEGIN:VEVENT
DTSTART;TZID=America/Los_Angeles:20250121T163000
DTEND;TZID=America/Los_Angeles:20250121T190000
DTSTAMP:20260425T063852
CREATED:20250111T173637Z
LAST-MODIFIED:20250111T173637Z
UID:1961-1737477000-1737486000@mac.roundvalley.org
SUMMARY:S-212 Wildland Fire Chainsaw Training
DESCRIPTION:
URL:https://mac.roundvalley.org/event/s-212-wildland-fire-chainsaw-training/
LOCATION:Covelo Rec Center\, 22830 South Airport Road\, Covelo\, 95428
END:VEVENT
BEGIN:VEVENT
DTSTART;TZID=America/Los_Angeles:20250122T163000
DTEND;TZID=America/Los_Angeles:20250122T190000
DTSTAMP:20260425T063852
CREATED:20250111T173735Z
LAST-MODIFIED:20250111T173735Z
UID:1963-1737563400-1737572400@mac.roundvalley.org
SUMMARY:S-212 Wildland Fire Chainsaw Training
DESCRIPTION:
URL:https://mac.roundvalley.org/event/s-212-wildland-fire-chainsaw-training-2/
LOCATION:Covelo Rec Center\, 22830 South Airport Road\, Covelo\, 95428
END:VEVENT
BEGIN:VEVENT
DTSTART;TZID=America/Los_Angeles:20250123T163000
DTEND;TZID=America/Los_Angeles:20250123T190000
DTSTAMP:20260425T063852
CREATED:20250111T173832Z
LAST-MODIFIED:20250111T173832Z
UID:1965-1737649800-1737658800@mac.roundvalley.org
SUMMARY:S-212 Wildland Fire Chainsaw Training
DESCRIPTION:
URL:https://mac.roundvalley.org/event/s-212-wildland-fire-chainsaw-training-3/
LOCATION:Covelo Rec Center\, 22830 South Airport Road\, Covelo\, 95428
END:VEVENT
BEGIN:VEVENT
DTSTART;TZID=America/Los_Angeles:20250124T163000
DTEND;TZID=America/Los_Angeles:20250124T190000
DTSTAMP:20260425T063852
CREATED:20250111T173933Z
LAST-MODIFIED:20250111T173933Z
UID:1967-1737736200-1737745200@mac.roundvalley.org
SUMMARY:S-212 Wildland Fire Chainsaw Training
DESCRIPTION:
URL:https://mac.roundvalley.org/event/s-212-wildland-fire-chainsaw-training-4/
LOCATION:Covelo Rec Center\, 22830 South Airport Road\, Covelo\, 95428
END:VEVENT
BEGIN:VEVENT
DTSTART;TZID=America/Los_Angeles:20250129T180000
DTEND;TZID=America/Los_Angeles:20250129T190000
DTSTAMP:20260425T063852
CREATED:20241212T213425Z
LAST-MODIFIED:20241212T213425Z
UID:1879-1738173600-1738177200@mac.roundvalley.org
SUMMARY:Round Valley County Water District Board Meeting
DESCRIPTION:
URL:https://mac.roundvalley.org/event/round-valley-county-water-district-board-meeting/
LOCATION:District Building\, 23950 Grange Street\, Covelo\, CA\, 95428
END:VEVENT
BEGIN:VEVENT
DTSTART;TZID=America/Los_Angeles:20250206T170000
DTEND;TZID=America/Los_Angeles:20250206T170000
DTSTAMP:20260425T063852
CREATED:20250202T172420Z
LAST-MODIFIED:20250203T190903Z
UID:2017-1738861200-1738861200@mac.roundvalley.org
SUMMARY:Round Valley Skate Night
DESCRIPTION: 
URL:https://mac.roundvalley.org/event/round-valley-skate-night-2/
END:VEVENT
BEGIN:VEVENT
DTSTART;TZID=America/Los_Angeles:20250208T080000
DTEND;TZID=America/Los_Angeles:20250208T170000
DTSTAMP:20260425T063852
CREATED:20241230T184404Z
LAST-MODIFIED:20241230T184404Z
UID:1929-1739001600-1739034000@mac.roundvalley.org
SUMMARY:County Mobile Spay/Neuter Van in Laytonville or Hopland?
DESCRIPTION:
URL:https://mac.roundvalley.org/event/county-mobile-spay-neuter-van-in-laytonville-or-hopland/
END:VEVENT
BEGIN:VEVENT
DTSTART;TZID=America/Los_Angeles:20250208T120000
DTEND;TZID=America/Los_Angeles:20250208T160000
DTSTAMP:20260425T063852
CREATED:20250203T190335Z
LAST-MODIFIED:20250203T190515Z
UID:2021-1739016000-1739030400@mac.roundvalley.org
SUMMARY:The Second Saturday Sales Market in Covelo
DESCRIPTION:“Hello Round Valley!! We began a new market in Saturday’s we hope it will grow and flourish . It’s called the Second Saturday Sales . We are encouraging vendors . Baked treats \, yard sale items \, arts crafts used clothes services wood \, play music \, cook lunches anything !! The weather promises to be clear. The booth fees are 5$ per market noon to 4 on the library patio .” from Deb Bauer. \nLet Deb Bauer know if you are interested.
URL:https://mac.roundvalley.org/event/saturday-farmers-market-in-covelo/
LOCATION:Round Valley Library Commons\, 23925 Howard Street\, Covelo\, 95428
END:VEVENT
BEGIN:VEVENT
DTSTART;TZID=America/Los_Angeles:20250211T080000
DTEND;TZID=America/Los_Angeles:20250211T170000
DTSTAMP:20260425T063852
CREATED:20241230T184706Z
LAST-MODIFIED:20241230T184706Z
UID:1933-1739260800-1739293200@mac.roundvalley.org
SUMMARY:County Mobile Spay/Neuter in Willits
DESCRIPTION:
URL:https://mac.roundvalley.org/event/county-mobile-spay-neuter-in-willits/
LOCATION:JD Redhouse\, 212 S. Main Street\, Willits\, 95490\, United States
END:VEVENT
BEGIN:VEVENT
DTSTART;TZID=America/Los_Angeles:20250214T130000
DTEND;TZID=America/Los_Angeles:20250214T180000
DTSTAMP:20260425T063852
CREATED:20250206T232406Z
LAST-MODIFIED:20250207T161546Z
UID:2054-1739538000-1739556000@mac.roundvalley.org
SUMMARY:Valentine's Day Spaghetti Dinner at the American Legion
DESCRIPTION:  \n \nThe Covelo American Legion will be hosting a Spaghetti Dinner on Valentine’s Day\, 14 FEB 2025\, from 1-6 PM\, at the American Legion building\, 23900 Howard Street. $10.00 a plate. We look forward to seeing you!
URL:https://mac.roundvalley.org/event/valentines-day-spaghetti-dinner-at-the-american-legion/
LOCATION:American Legion Hall\, 23900 Howard Street\, Covelo\, California\, 95428
END:VEVENT
BEGIN:VEVENT
DTSTART;TZID=America/Los_Angeles:20250215T110000
DTEND;TZID=America/Los_Angeles:20250215T140000
DTSTAMP:20260425T063852
CREATED:20250103T223340Z
LAST-MODIFIED:20250103T224024Z
UID:1945-1739617200-1739628000@mac.roundvalley.org
SUMMARY:Round Valley Seed Library Work Parties
DESCRIPTION:Seed Library Work Parties\nSaturday January 11th and 25th\, February 15th 11 AM – 2 PM\nIn the Library Commons Community Room\n\n\nPlease come help the seed library get ready for the coming season. We’ll be “weeding” the collection of older seed\, and packaging up new seed to add to the catalog. Tea\, cookies\, and conversation with friendly folks. You don’t need to stay the entire three hours\, come for as long as you can.
URL:https://mac.roundvalley.org/event/round-valley-seed-library-work-parties-2/
LOCATION:Round Valley Library Commons\, 23925 Howard Street\, Covelo\, 95428
END:VEVENT
BEGIN:VEVENT
DTSTART;TZID=America/Los_Angeles:20250220T190000
DTEND;TZID=America/Los_Angeles:20250220T210000
DTSTAMP:20260425T063852
CREATED:20250129T194047Z
LAST-MODIFIED:20250129T194047Z
UID:1982-1740078000-1740085200@mac.roundvalley.org
SUMMARY:Mic Night Cafe
DESCRIPTION:
URL:https://mac.roundvalley.org/event/mic-night-cafe-3/
LOCATION:Round Valley Library Commons\, 23925 Howard Street\, Covelo\, 95428
END:VEVENT
BEGIN:VEVENT
DTSTART;TZID=America/Los_Angeles:20250221T080000
DTEND;TZID=America/Los_Angeles:20250221T170000
DTSTAMP:20260425T063852
CREATED:20241230T184505Z
LAST-MODIFIED:20241230T184505Z
UID:1931-1740124800-1740157200@mac.roundvalley.org
SUMMARY:County Mobile Spay/Neuter in Laytonville/Hopland?
DESCRIPTION:
URL:https://mac.roundvalley.org/event/county-mobile-spay-neuter-in-laytonville-hopland/
END:VEVENT
BEGIN:VEVENT
DTSTART;TZID=America/Los_Angeles:20250226T180000
DTEND;TZID=America/Los_Angeles:20250226T190000
DTSTAMP:20260425T063852
CREATED:20241212T213604Z
LAST-MODIFIED:20241212T213604Z
UID:1881-1740592800-1740596400@mac.roundvalley.org
SUMMARY:Round Valley County Water District Board Meeting
DESCRIPTION:
URL:https://mac.roundvalley.org/event/round-valley-county-water-district-board-meeting-2/
LOCATION:District Building\, 23950 Grange Street\, Covelo\, CA\, 95428
END:VEVENT
BEGIN:VEVENT
DTSTART;TZID=America/Los_Angeles:20250314T190000
DTEND;TZID=America/Los_Angeles:20250314T203000
DTSTAMP:20260425T063852
CREATED:20250119T183204Z
LAST-MODIFIED:20250119T183204Z
UID:1976-1741978800-1741984200@mac.roundvalley.org
SUMMARY:Movie at the Round Valley Public Library: Join or Die
DESCRIPTION:Think life was better when you were young? It was.\nFind out why and how  we can fix it.\n\nJoin or Die is about the importance of community\nto our satisfaction with our lives\, and how the decline\n in American community engagement over the past\ndecades affects us deeply and personally.\n\nThe film is free. Bring your family\, bring your friends.\n\n\nJoin or Die shows in the Library’s Community Room on\nFriday\, March 14th. Doors open at 6:45.
URL:https://mac.roundvalley.org/event/movie-at-the-round-valley-public-library-join-or-die/
LOCATION:Round Valley Library Commons\, 23925 Howard Street\, Covelo\, 95428
END:VEVENT
END:VCALENDAR