BEGIN:VCALENDAR
VERSION:2.0
PRODID:-//Round Valley Area Municipal Advisory Council - ECPv6.15.3//NONSGML v1.0//EN
CALSCALE:GREGORIAN
METHOD:PUBLISH
X-WR-CALNAME:Round Valley Area Municipal Advisory Council
X-ORIGINAL-URL:https://mac.roundvalley.org
X-WR-CALDESC:Events for Round Valley Area Municipal Advisory Council
REFRESH-INTERVAL;VALUE=DURATION:PT1H
X-Robots-Tag:noindex
X-PUBLISHED-TTL:PT1H
BEGIN:VTIMEZONE
TZID:America/Los_Angeles
BEGIN:DAYLIGHT
TZOFFSETFROM:-0800
TZOFFSETTO:-0700
TZNAME:PDT
DTSTART:20230312T100000
END:DAYLIGHT
BEGIN:STANDARD
TZOFFSETFROM:-0700
TZOFFSETTO:-0800
TZNAME:PST
DTSTART:20231105T090000
END:STANDARD
BEGIN:DAYLIGHT
TZOFFSETFROM:-0800
TZOFFSETTO:-0700
TZNAME:PDT
DTSTART:20240310T100000
END:DAYLIGHT
BEGIN:STANDARD
TZOFFSETFROM:-0700
TZOFFSETTO:-0800
TZNAME:PST
DTSTART:20241103T090000
END:STANDARD
END:VTIMEZONE
BEGIN:VEVENT
DTSTART;TZID=America/Los_Angeles:20240122T080000
DTEND;TZID=America/Los_Angeles:20240126T170000
DTSTAMP:20260425T065328
CREATED:20240106T014938Z
LAST-MODIFIED:20240106T014938Z
UID:1338-1705910400-1706288400@mac.roundvalley.org
SUMMARY:Spirit Week at RVEMS
DESCRIPTION:
URL:https://mac.roundvalley.org/event/spirit-week-at-rvems/
END:VEVENT
BEGIN:VEVENT
DTSTART;TZID=America/Los_Angeles:20240120T110000
DTEND;TZID=America/Los_Angeles:20240120T140000
DTSTAMP:20260425T065328
CREATED:20231221T234354Z
LAST-MODIFIED:20231221T234609Z
UID:1270-1705748400-1705759200@mac.roundvalley.org
SUMMARY:Round Valley Library: Seed Library Work Party
DESCRIPTION:If you are interested in this event\, here’s another:
URL:https://mac.roundvalley.org/event/1270/
LOCATION:Round Valley Library Commons\, 23925 Howard Street\, Covelo\, 95428
END:VEVENT
BEGIN:VEVENT
DTSTART;TZID=America/Los_Angeles:20240119T160000
DTEND;TZID=America/Los_Angeles:20240119T180000
DTSTAMP:20260425T065328
CREATED:20231222T000008Z
LAST-MODIFIED:20240106T010411Z
UID:1283-1705680000-1705687200@mac.roundvalley.org
SUMMARY:Round Valley HS Mustangs Basketball
DESCRIPTION:Home game v. Anderson Valley
URL:https://mac.roundvalley.org/event/round-valley-hs-mustangs-basketball-4/
LOCATION:Round Valley High School\, 76270 High School Street\, Covelo\, 95428
END:VEVENT
BEGIN:VEVENT
DTSTART;TZID=America/Los_Angeles:20240118T153000
DTEND;TZID=America/Los_Angeles:20240118T163000
DTSTAMP:20260425T065328
CREATED:20240110T183426Z
LAST-MODIFIED:20240110T184228Z
UID:1358-1705591800-1705595400@mac.roundvalley.org
SUMMARY:Senior Power!
DESCRIPTION:Older adults: would you like to improve your strength\, balance\, and conditioning? The library\, in partnership with the awesome physical therapists at the Round Valley Indian Health Center\, is offering a weekly class for seniors of all fitness levels at 3:30 PM on Thursdays in January\, in the Community Room at the Library Commons. Dress in loose\, comfy clothes and good shoes so you can easily stretch and move.  Please arrive 15 minutes early\, at 3:15\, so we can check in and get ready to move.
URL:https://mac.roundvalley.org/event/senior-power-6/
LOCATION:Round Valley Library Commons\, 23925 Howard Street\, Covelo\, 95428
END:VEVENT
BEGIN:VEVENT
DTSTART;TZID=America/Los_Angeles:20240118T074500
DTEND;TZID=America/Los_Angeles:20240118T081500
DTSTAMP:20260425T065328
CREATED:20240106T013115Z
LAST-MODIFIED:20240106T013115Z
UID:1319-1705563900-1705565700@mac.roundvalley.org
SUMMARY:RVEMS Special Breakfast
DESCRIPTION:
URL:https://mac.roundvalley.org/event/rvems-special-breakfast/
LOCATION:Round Valley Elementary/Middle School\, Airport & Foothill Road\, Covelo
END:VEVENT
BEGIN:VEVENT
DTSTART;TZID=America/Los_Angeles:20240117T120000
DTEND;TZID=America/Los_Angeles:20240117T133000
DTSTAMP:20260425T065328
CREATED:20240112T182017Z
LAST-MODIFIED:20240112T182017Z
UID:1370-1705492800-1705498200@mac.roundvalley.org
SUMMARY:Sheriff's Community Meeting in Round Valley
DESCRIPTION:
URL:https://mac.roundvalley.org/event/sheriffs-community-meeting-in-round-valley/
LOCATION:Covelo Rec Center\, 22830 South Airport Road\, Covelo\, 95428
END:VEVENT
BEGIN:VEVENT
DTSTART;TZID=America/Los_Angeles:20240116T160000
DTEND;TZID=America/Los_Angeles:20240116T180000
DTSTAMP:20260425T065328
CREATED:20231221T235903Z
LAST-MODIFIED:20240106T010442Z
UID:1281-1705420800-1705428000@mac.roundvalley.org
SUMMARY:Round Valley HS Mustangs Basketball
DESCRIPTION:Away  v. Point Arena
URL:https://mac.roundvalley.org/event/round-valley-hs-mustangs-basketball-3/
END:VEVENT
BEGIN:VEVENT
DTSTART;TZID=America/Los_Angeles:20240116T144500
DTEND;TZID=America/Los_Angeles:20240116T170000
DTSTAMP:20260425T065328
CREATED:20240106T013404Z
LAST-MODIFIED:20240106T013404Z
UID:1324-1705416300-1705424400@mac.roundvalley.org
SUMMARY:DELAC Meeting
DESCRIPTION:
URL:https://mac.roundvalley.org/event/delac-meeting-2/
LOCATION:Round Valley Elementary/Middle School\, Airport & Foothill Road\, Covelo
END:VEVENT
BEGIN:VEVENT
DTSTART;TZID=America/Los_Angeles:20240115T080000
DTEND;TZID=America/Los_Angeles:20240115T170000
DTSTAMP:20260425T065328
CREATED:20240106T013600Z
LAST-MODIFIED:20240106T013600Z
UID:1326-1705305600-1705338000@mac.roundvalley.org
SUMMARY:Martin Luther King\, Jr.\, Day -- No school
DESCRIPTION:
URL:https://mac.roundvalley.org/event/martin-luther-king-jr-day-no-school/
END:VEVENT
BEGIN:VEVENT
DTSTART;TZID=America/Los_Angeles:20240113T130000
DTEND;TZID=America/Los_Angeles:20240113T150000
DTSTAMP:20260425T065328
CREATED:20231004T194311Z
LAST-MODIFIED:20231004T205552Z
UID:970-1705150800-1705158000@mac.roundvalley.org
SUMMARY:Free Family Matinee at the Library - "Lightyear"
DESCRIPTION:Free Family Matinée in the Library’s Community Room: Lightyear (Kids must be accompanied by an adult)
URL:https://mac.roundvalley.org/event/free-family-matinee-at-the-library/
LOCATION:Round Valley Library Commons\, 23925 Howard Street\, Covelo\, 95428
END:VEVENT
BEGIN:VEVENT
DTSTART;TZID=America/Los_Angeles:20240112T184500
DTEND;TZID=America/Los_Angeles:20240112T203000
DTSTAMP:20260425T065328
CREATED:20231004T194149Z
LAST-MODIFIED:20231004T200751Z
UID:968-1705085100-1705091400@mac.roundvalley.org
SUMMARY:Free Documentary Film at the Library - "Exposure"
DESCRIPTION:Free Documentary Film in the Library’s Community Room\, about an all female expedition to the North Pole\, comprised of women from the Middle East and the West: Exposure
URL:https://mac.roundvalley.org/event/free-documentary-film-at-the-library/
LOCATION:Round Valley Library Commons\, 23925 Howard Street\, Covelo\, 95428
END:VEVENT
BEGIN:VEVENT
DTSTART;TZID=America/Los_Angeles:20240112T170000
DTEND;TZID=America/Los_Angeles:20240112T190000
DTSTAMP:20260425T065328
CREATED:20240106T012411Z
LAST-MODIFIED:20240106T012411Z
UID:1317-1705078800-1705086000@mac.roundvalley.org
SUMMARY:Earth Day Planning Meeting
DESCRIPTION:
URL:https://mac.roundvalley.org/event/earth-day-planning-meeting/
LOCATION:Round Valley Library Commons\, 23925 Howard Street\, Covelo\, 95428
END:VEVENT
BEGIN:VEVENT
DTSTART;TZID=America/Los_Angeles:20240112T160000
DTEND;TZID=America/Los_Angeles:20240112T180000
DTSTAMP:20260425T065328
CREATED:20231221T235802Z
LAST-MODIFIED:20240106T010910Z
UID:1279-1705075200-1705082400@mac.roundvalley.org
SUMMARY:Round Valley HS Mustangs Basketball
DESCRIPTION:Home game v. Mendocino
URL:https://mac.roundvalley.org/event/round-valley-hs-mustangs-basketball-2/
LOCATION:Round Valley High School\, 76270 High School Street\, Covelo\, 95428
END:VEVENT
BEGIN:VEVENT
DTSTART;TZID=America/Los_Angeles:20240111T153000
DTEND;TZID=America/Los_Angeles:20240111T163000
DTSTAMP:20260425T065328
CREATED:20240110T183328Z
LAST-MODIFIED:20240110T184116Z
UID:1356-1704987000-1704990600@mac.roundvalley.org
SUMMARY:Senior Power!
DESCRIPTION:Older adults: would you like to improve your strength\, balance\, and conditioning? The library\, in partnership with the awesome physical therapists at the Round Valley Indian Health Center\, is offering a weekly class for seniors of all fitness levels at 3:30 PM on Thursdays in January\, in the Community Room at the Library Commons. Dress in loose\, comfy clothes and good shoes so you can easily stretch and move.  Please arrive 15 minutes early\, at 3:15\, so we can check in and get ready to move.
URL:https://mac.roundvalley.org/event/senior-power-5/
LOCATION:Round Valley Library Commons\, 23925 Howard Street\, Covelo\, 95428
END:VEVENT
BEGIN:VEVENT
DTSTART;TZID=America/Los_Angeles:20240110T180000
DTEND;TZID=America/Los_Angeles:20240110T193000
DTSTAMP:20260425T065328
CREATED:20231127T213936Z
LAST-MODIFIED:20240106T010831Z
UID:1145-1704909600-1704915000@mac.roundvalley.org
SUMMARY:Covelo Community Services District Meeting
DESCRIPTION:Board meetings every second Wednesday of the month
URL:https://mac.roundvalley.org/event/covelo-community-services-district-meeting-2/
LOCATION:District Building\, 23950 Grange Street\, Covelo\, CA\, 95428
END:VEVENT
BEGIN:VEVENT
DTSTART;TZID=America/Los_Angeles:20240110T170000
DTEND;TZID=America/Los_Angeles:20240110T190000
DTSTAMP:20260425T065328
CREATED:20240106T012309Z
LAST-MODIFIED:20240106T012309Z
UID:1314-1704906000-1704913200@mac.roundvalley.org
SUMMARY:Fire & Disaster Preparedness Committee Meeting
DESCRIPTION:
URL:https://mac.roundvalley.org/event/fire-disaster-preparedness-committee-meeting/
LOCATION:Round Valley Library Commons\, 23925 Howard Street\, Covelo\, 95428
END:VEVENT
BEGIN:VEVENT
DTSTART;TZID=America/Los_Angeles:20240109T160000
DTEND;TZID=America/Los_Angeles:20240109T180000
DTSTAMP:20260425T065328
CREATED:20231221T235657Z
LAST-MODIFIED:20240106T010516Z
UID:1277-1704816000-1704823200@mac.roundvalley.org
SUMMARY:Round Valley HS Mustangs Basketball
DESCRIPTION:Away game at Laytonville
URL:https://mac.roundvalley.org/event/round-valley-hs-mustangs-basketball/
END:VEVENT
BEGIN:VEVENT
DTSTART;TZID=America/Los_Angeles:20240109T144500
DTEND;TZID=America/Los_Angeles:20240109T170000
DTSTAMP:20260425T065328
CREATED:20240106T013305Z
LAST-MODIFIED:20240106T013305Z
UID:1322-1704811500-1704819600@mac.roundvalley.org
SUMMARY:RVEMS School Site Council Meeting
DESCRIPTION:
URL:https://mac.roundvalley.org/event/rvems-school-site-council-meeting/
LOCATION:Round Valley Elementary/Middle School\, Airport & Foothill Road\, Covelo
END:VEVENT
BEGIN:VEVENT
DTSTART;TZID=America/Los_Angeles:20240108T130000
DTEND;TZID=America/Los_Angeles:20240108T140000
DTSTAMP:20260425T065328
CREATED:20231127T214631Z
LAST-MODIFIED:20240106T010708Z
UID:1155-1704718800-1704722400@mac.roundvalley.org
SUMMARY:Covelo Cemetery District Meeting
DESCRIPTION:Board meetings every second Monday of the month
URL:https://mac.roundvalley.org/event/covelo-cemetery-district-meeting/
LOCATION:Covelo Fire Department\, 77251 Covelo Road\, Covelo\, CA\, 95428
END:VEVENT
BEGIN:VEVENT
DTSTART;TZID=America/Los_Angeles:20240108T120000
DTEND;TZID=America/Los_Angeles:20240108T120000
DTSTAMP:20260425T065328
CREATED:20231222T233713Z
LAST-MODIFIED:20231222T234643Z
UID:1299-1704715200-1704715200@mac.roundvalley.org
SUMMARY:Tell the County you need money to rebuild!!! Public Meeting
DESCRIPTION:The county is asking for project ideas from our community to add to their request for the Community Block Development Grant coming soon.  Projects are housing\, community development\, infrastructure\, services and facilities that would improve “livability”. If you have property that can be developed for these goals\, but you need money\, why not at least check this out? \nPlease zoom in or attend in person if you can —
URL:https://mac.roundvalley.org/event/tell-the-county-you-need-money-to-rebuild/
END:VEVENT
BEGIN:VEVENT
DTSTART;TZID=America/Los_Angeles:20240106T110000
DTEND;TZID=America/Los_Angeles:20240106T140000
DTSTAMP:20260425T065328
CREATED:20231217T183824Z
LAST-MODIFIED:20231221T234727Z
UID:1259-1704538800-1704549600@mac.roundvalley.org
SUMMARY:Round Valley Library: Seed Library Work Party
DESCRIPTION:If you are interested in this event\, here’s another:
URL:https://mac.roundvalley.org/event/round-valley-library-seed-library-work-parties/
LOCATION:Round Valley Library Commons\, 23925 Howard Street\, Covelo\, 95428
END:VEVENT
BEGIN:VEVENT
DTSTART;TZID=America/Los_Angeles:20231222T080000
DTEND;TZID=America/Los_Angeles:20240107T170000
DTSTAMP:20260425T065328
CREATED:20231129T215835Z
LAST-MODIFIED:20231129T215858Z
UID:1216-1703232000-1704646800@mac.roundvalley.org
SUMMARY:Round Valley Unified School District Winter Break
DESCRIPTION:
URL:https://mac.roundvalley.org/event/round-valley-unified-school-district-break/
END:VEVENT
BEGIN:VEVENT
DTSTART;TZID=America/Los_Angeles:20231221T130000
DTEND;TZID=America/Los_Angeles:20231221T130000
DTSTAMP:20260425T065328
CREATED:20231129T215603Z
LAST-MODIFIED:20231129T220456Z
UID:1213-1703163600-1703163600@mac.roundvalley.org
SUMMARY:RVUSD Early Dismissal
DESCRIPTION:End of 2nd quarter
URL:https://mac.roundvalley.org/event/winter-concert-at-the-old-high-school-gym/
END:VEVENT
BEGIN:VEVENT
DTSTART;TZID=America/Los_Angeles:20231220T120000
DTEND;TZID=America/Los_Angeles:20231220T130000
DTSTAMP:20260425T065328
CREATED:20230919T185536Z
LAST-MODIFIED:20230919T185536Z
UID:930-1703073600-1703077200@mac.roundvalley.org
SUMMARY:Sheriff's Community Meeting
DESCRIPTION:
URL:https://mac.roundvalley.org/event/sheriffs-community-meeting-4/
LOCATION:Covelo Rec Center\, 22830 South Airport Road\, Covelo\, 95428
END:VEVENT
BEGIN:VEVENT
DTSTART;TZID=America/Los_Angeles:20231216T170000
DTEND;TZID=America/Los_Angeles:20231216T170000
DTSTAMP:20260425T065328
CREATED:20231207T131253Z
LAST-MODIFIED:20231217T005904Z
UID:1239-1702746000-1702746000@mac.roundvalley.org
SUMMARY:Trucker's Light Parade
DESCRIPTION:
URL:https://mac.roundvalley.org/event/covelo-christmas-light-parade/
END:VEVENT
BEGIN:VEVENT
DTSTART;TZID=America/Los_Angeles:20231215T130000
DTEND;TZID=America/Los_Angeles:20231215T140000
DTSTAMP:20260425T065328
CREATED:20231213T015736Z
LAST-MODIFIED:20231213T015818Z
UID:1247-1702645200-1702648800@mac.roundvalley.org
SUMMARY:CalTrans Ribbon-Cutting
DESCRIPTION:
URL:https://mac.roundvalley.org/event/caltrans-ribbon-cutting/
END:VEVENT
BEGIN:VEVENT
DTSTART;TZID=America/Los_Angeles:20231215T120000
DTEND;TZID=America/Los_Angeles:20231215T170000
DTSTAMP:20260425T065328
CREATED:20231115T150644Z
LAST-MODIFIED:20231115T150644Z
UID:1122-1702641600-1702659600@mac.roundvalley.org
SUMMARY:Holiday Bazaar at the Farmer's Market
DESCRIPTION:
URL:https://mac.roundvalley.org/event/holiday-bazaar-at-the-farmers-market-2/
LOCATION:Round Valley Library Commons\, 23925 Howard Street\, Covelo\, 95428
END:VEVENT
BEGIN:VEVENT
DTSTART;TZID=America/Los_Angeles:20231215T120000
DTEND;TZID=America/Los_Angeles:20231215T130000
DTSTAMP:20260425T065328
CREATED:20231213T015318Z
LAST-MODIFIED:20231213T015603Z
UID:1243-1702641600-1702645200@mac.roundvalley.org
SUMMARY:Our State Assembly Candidates Meet-and-Greet
DESCRIPTION:
URL:https://mac.roundvalley.org/event/our-state-assembly-candidates-meet-and-greet/
LOCATION:American Legion Hall\, 23900 Howard Street\, Covelo\, California\, 95428
END:VEVENT
BEGIN:VEVENT
DTSTART;TZID=America/Los_Angeles:20231214T120000
DTEND;TZID=America/Los_Angeles:20231214T130000
DTSTAMP:20260425T065328
CREATED:20231012T133455Z
LAST-MODIFIED:20231012T133455Z
UID:1041-1702555200-1702558800@mac.roundvalley.org
SUMMARY:Mendo Food & Nutrition Program  Food Pop-Up
DESCRIPTION:
URL:https://mac.roundvalley.org/event/mendo-food-nutrition-program-food-pop-up-3/
LOCATION:RVIT Health & Safety Complex\, 76300 Grange Street\, Covelo\, 95428
END:VEVENT
BEGIN:VEVENT
DTSTART;TZID=America/Los_Angeles:20231212T163000
DTEND;TZID=America/Los_Angeles:20231212T183000
DTSTAMP:20260425T065328
CREATED:20231129T210310Z
LAST-MODIFIED:20231129T210508Z
UID:1166-1702398600-1702405800@mac.roundvalley.org
SUMMARY:Holiday Bazaar: Round Valley Elementary and Middle School
DESCRIPTION:The community is welcome to join us at our RVEMS Holiday Bazaar on Tuesday\, December 12th from 4:30 – 6:30 PM in the Cafeteria.\n\n\nThe 8th grade class will be hosting the event and will also be selling dinner plates. Various RVEMS classes will be selling arts & crafts\, baked goods\, and more! We hope to see you there!
URL:https://mac.roundvalley.org/event/holiday-bazaar-round-valley-elementary-and-middle-school/
LOCATION:Round Valley Elementary/Middle School\, Airport & Foothill Road\, Covelo
END:VEVENT
END:VCALENDAR