BEGIN:VCALENDAR
VERSION:2.0
PRODID:-//Round Valley Area Municipal Advisory Council - ECPv6.15.3//NONSGML v1.0//EN
CALSCALE:GREGORIAN
METHOD:PUBLISH
X-WR-CALNAME:Round Valley Area Municipal Advisory Council
X-ORIGINAL-URL:https://mac.roundvalley.org
X-WR-CALDESC:Events for Round Valley Area Municipal Advisory Council
REFRESH-INTERVAL;VALUE=DURATION:PT1H
X-Robots-Tag:noindex
X-PUBLISHED-TTL:PT1H
BEGIN:VTIMEZONE
TZID:America/Los_Angeles
BEGIN:DAYLIGHT
TZOFFSETFROM:-0800
TZOFFSETTO:-0700
TZNAME:PDT
DTSTART:20240310T100000
END:DAYLIGHT
BEGIN:STANDARD
TZOFFSETFROM:-0700
TZOFFSETTO:-0800
TZNAME:PST
DTSTART:20241103T090000
END:STANDARD
END:VTIMEZONE
BEGIN:VEVENT
DTSTART;TZID=America/Los_Angeles:20241204T180000
DTEND;TZID=America/Los_Angeles:20241204T193000
DTSTAMP:20260424T082503
CREATED:20240828T223321Z
LAST-MODIFIED:20240828T223321Z
UID:1766-1733335200-1733340600@mac.roundvalley.org
SUMMARY:Round Valley Area Municipal Advisory Council Meeting
DESCRIPTION:Monthly MAC meeting.  Send in your agenda items by the prior Saturday 5pm to admin@mac.roundvalley.org
URL:https://mac.roundvalley.org/event/round-valley-area-municipal-advisory-council-meeting-2/
LOCATION:Round Valley Library Commons\, 23925 Howard Street\, Covelo\, 95428
END:VEVENT
BEGIN:VEVENT
DTSTART;TZID=America/Los_Angeles:20241211T120000
DTEND;TZID=America/Los_Angeles:20241211T133000
DTSTAMP:20260424T082503
CREATED:20240405T233033Z
LAST-MODIFIED:20240405T233033Z
UID:1514-1733918400-1733923800@mac.roundvalley.org
SUMMARY:Covelo Public Cemetery District Meeting
DESCRIPTION:Monthly meeting
URL:https://mac.roundvalley.org/event/covelo-public-cemetery-district-meeting-9/
LOCATION:Round Valley Library Commons\, 23925 Howard Street\, Covelo\, 95428
END:VEVENT
BEGIN:VEVENT
DTSTART;TZID=America/Los_Angeles:20241213T120000
DTEND;TZID=America/Los_Angeles:20241213T160000
DTSTAMP:20260424T082503
CREATED:20241212T215354Z
LAST-MODIFIED:20241212T215354Z
UID:1905-1734091200-1734105600@mac.roundvalley.org
SUMMARY:Art in the Market in Covelo
DESCRIPTION:
URL:https://mac.roundvalley.org/event/art-in-the-market-in-covelo/
LOCATION:Round Valley Library Commons\, 23925 Howard Street\, Covelo\, 95428
END:VEVENT
BEGIN:VEVENT
DTSTART;TZID=America/Los_Angeles:20241214T100000
DTEND;TZID=America/Los_Angeles:20241214T160000
DTSTAMP:20260424T082503
CREATED:20241212T215729Z
LAST-MODIFIED:20241212T215729Z
UID:1909-1734170400-1734192000@mac.roundvalley.org
SUMMARY:Christmas Bazaar
DESCRIPTION:
URL:https://mac.roundvalley.org/event/christmas-bazaar/
LOCATION:Round Valley United Methodist Church\, 77834 Covelo Road\, Covelo\, CA\, 95428
END:VEVENT
BEGIN:VEVENT
DTSTART;TZID=America/Los_Angeles:20241214T183000
DTEND;TZID=America/Los_Angeles:20241214T190000
DTSTAMP:20260424T082503
CREATED:20241212T233654Z
LAST-MODIFIED:20241215T010412Z
UID:1919-1734201000-1734202800@mac.roundvalley.org
SUMMARY:Town Christmas Light Parade
DESCRIPTION:
URL:https://mac.roundvalley.org/event/town-christmas-light-parade/
LOCATION:CA
END:VEVENT
BEGIN:VEVENT
DTSTART;TZID=America/Los_Angeles:20241218T120000
DTEND;TZID=America/Los_Angeles:20241218T133000
DTSTAMP:20260424T082503
CREATED:20240112T183132Z
LAST-MODIFIED:20240112T183132Z
UID:1392-1734523200-1734528600@mac.roundvalley.org
SUMMARY:Sheriff's Community Meeting in Round Valley
DESCRIPTION:
URL:https://mac.roundvalley.org/event/sheriffs-community-meeting-in-round-valley-12/
LOCATION:Covelo Rec Center\, 22830 South Airport Road\, Covelo\, 95428
END:VEVENT
BEGIN:VEVENT
DTSTART;TZID=America/Los_Angeles:20241219T190000
DTEND;TZID=America/Los_Angeles:20241219T210000
DTSTAMP:20260424T082503
CREATED:20241212T215526Z
LAST-MODIFIED:20241212T215526Z
UID:1907-1734634800-1734642000@mac.roundvalley.org
SUMMARY:Mic Night Cafe
DESCRIPTION:
URL:https://mac.roundvalley.org/event/mic-night-cafe/
LOCATION:Round Valley Library Commons\, 23925 Howard Street\, Covelo\, 95428
END:VEVENT
BEGIN:VEVENT
DTSTART;TZID=America/Los_Angeles:20241220T120000
DTEND;TZID=America/Los_Angeles:20241220T170000
DTSTAMP:20260424T082503
CREATED:20241212T220204Z
LAST-MODIFIED:20241212T220204Z
UID:1912-1734696000-1734714000@mac.roundvalley.org
SUMMARY:Farmers Market Holiday Bazaar
DESCRIPTION:
URL:https://mac.roundvalley.org/event/farmers-market-holiday-bazaar/
LOCATION:Round Valley Library Commons\, 23925 Howard Street\, Covelo\, 95428
END:VEVENT
BEGIN:VEVENT
DTSTART;TZID=America/Los_Angeles:20241227T120000
DTEND;TZID=America/Los_Angeles:20241227T160000
DTSTAMP:20260424T082503
CREATED:20241212T220634Z
LAST-MODIFIED:20241212T220634Z
UID:1914-1735300800-1735315200@mac.roundvalley.org
SUMMARY:Farmers Market in Covelo
DESCRIPTION:
URL:https://mac.roundvalley.org/event/farmers-market-in-covelo/
LOCATION:Round Valley Library Commons\, 23925 Howard Street\, Covelo\, 95428
END:VEVENT
END:VCALENDAR