BEGIN:VCALENDAR
VERSION:2.0
PRODID:-//Round Valley Area Municipal Advisory Council - ECPv6.15.3//NONSGML v1.0//EN
CALSCALE:GREGORIAN
METHOD:PUBLISH
X-ORIGINAL-URL:https://mac.roundvalley.org
X-WR-CALDESC:Events for Round Valley Area Municipal Advisory Council
REFRESH-INTERVAL;VALUE=DURATION:PT1H
X-Robots-Tag:noindex
X-PUBLISHED-TTL:PT1H
BEGIN:VTIMEZONE
TZID:America/Los_Angeles
BEGIN:DAYLIGHT
TZOFFSETFROM:-0800
TZOFFSETTO:-0700
TZNAME:PDT
DTSTART:20250309T100000
END:DAYLIGHT
BEGIN:STANDARD
TZOFFSETFROM:-0700
TZOFFSETTO:-0800
TZNAME:PST
DTSTART:20251102T090000
END:STANDARD
END:VTIMEZONE
BEGIN:VEVENT
DTSTART;TZID=America/Los_Angeles:20250314T190000
DTEND;TZID=America/Los_Angeles:20250314T203000
DTSTAMP:20260424T035031
CREATED:20250119T183204Z
LAST-MODIFIED:20250119T183204Z
UID:1976-1741978800-1741984200@mac.roundvalley.org
SUMMARY:Movie at the Round Valley Public Library: Join or Die
DESCRIPTION:Think life was better when you were young? It was.\nFind out why and how  we can fix it.\n\nJoin or Die is about the importance of community\nto our satisfaction with our lives\, and how the decline\n in American community engagement over the past\ndecades affects us deeply and personally.\n\nThe film is free. Bring your family\, bring your friends.\n\n\nJoin or Die shows in the Library’s Community Room on\nFriday\, March 14th. Doors open at 6:45.
URL:https://mac.roundvalley.org/event/movie-at-the-round-valley-public-library-join-or-die/
LOCATION:Round Valley Library Commons\, 23925 Howard Street\, Covelo\, 95428
END:VEVENT
BEGIN:VEVENT
DTSTART;TZID=America/Los_Angeles:20250317T130000
DTEND;TZID=America/Los_Angeles:20250317T180000
DTSTAMP:20260424T035031
CREATED:20250313T223650Z
LAST-MODIFIED:20250313T223650Z
UID:2123-1742216400-1742234400@mac.roundvalley.org
SUMMARY:St. Patrick's Day Dinner at the American Legion
DESCRIPTION:
URL:https://mac.roundvalley.org/event/st-patricks-day-dinner-at-the-american-legion/
LOCATION:American Legion Hall\, 23900 Howard Street\, Covelo\, California\, 95428
END:VEVENT
BEGIN:VEVENT
DTSTART;TZID=America/Los_Angeles:20250320T153000
DTEND;TZID=America/Los_Angeles:20250320T173000
DTSTAMP:20260424T035031
CREATED:20250319T183054Z
LAST-MODIFIED:20250319T183238Z
UID:2157-1742484600-1742491800@mac.roundvalley.org
SUMMARY:RV Skate Park Project - Teen Takeover Skateboard Club
DESCRIPTION:Teen Takeover Skate Club is every Thursday\, this is a great opportunity for teens grades 7-12. See more information below. Please share to spread the word.\n\n\nTeen Takeover Skateboard Club – This Thursday!\n\n\nHey teens! Join us for Teen Takeover Skateboard Club this Thursday from 3:30pm – 5:30pm at The Rec Center! Whether you want to learn to skate\, hang out\, or just be part of the scene\, this is the spot for you.\n\n\n For 7th-12th graders only\n Pizza + a chance to get your own skateboard\n Practice using a GoPro to film & make your own skate videos\n Next week: Video editing\, ‘zine-making\, and learning to create a radio show!\n\n\nLegal guardians must sign a waiver for you to skate. Email us for more info!\n\n\nBe part of the movement and help us get a skatepark built in Round Valley! See you there!
URL:https://mac.roundvalley.org/event/rv-skate-park-project-teen-takeover-skateboard-club/
LOCATION:Covelo Rec Center\, 22830 South Airport Road\, Covelo\, 95428
END:VEVENT
BEGIN:VEVENT
DTSTART;TZID=America/Los_Angeles:20250320T190000
DTEND;TZID=America/Los_Angeles:20250320T210000
DTSTAMP:20260424T035031
CREATED:20250129T194152Z
LAST-MODIFIED:20250129T195626Z
UID:1984-1742497200-1742504400@mac.roundvalley.org
SUMMARY:Mic Night Cafe
DESCRIPTION:
URL:https://mac.roundvalley.org/event/mic-night-cafe-4/
LOCATION:Round Valley Library Commons\, 23925 Howard Street\, Covelo\, 95428
END:VEVENT
BEGIN:VEVENT
DTSTART;TZID=America/Los_Angeles:20250326T180000
DTEND;TZID=America/Los_Angeles:20250326T183000
DTSTAMP:20260424T035031
CREATED:20241212T213653Z
LAST-MODIFIED:20241212T213653Z
UID:1883-1743012000-1743013800@mac.roundvalley.org
SUMMARY:Round Valley County Water District Board Meeting
DESCRIPTION:
URL:https://mac.roundvalley.org/event/round-valley-county-water-district-board-meeting-3/
LOCATION:District Building\, 23950 Grange Street\, Covelo\, CA\, 95428
END:VEVENT
BEGIN:VEVENT
DTSTART;TZID=America/Los_Angeles:20250329T100000
DTEND;TZID=America/Los_Angeles:20250329T180000
DTSTAMP:20260424T035031
CREATED:20250214T191706Z
LAST-MODIFIED:20250214T191706Z
UID:2071-1743242400-1743271200@mac.roundvalley.org
SUMMARY:Forest Health Extravaganza II
DESCRIPTION:
URL:https://mac.roundvalley.org/event/forest-health-extravaganza-ii/
LOCATION:Harwood Hall\, 44400 Willits Avenue\, Laytonville\, CA\, 95454\, United States
END:VEVENT
END:VCALENDAR