BEGIN:VCALENDAR
VERSION:2.0
PRODID:-//Round Valley Area Municipal Advisory Council - ECPv6.15.3//NONSGML v1.0//EN
CALSCALE:GREGORIAN
METHOD:PUBLISH
X-WR-CALNAME:Round Valley Area Municipal Advisory Council
X-ORIGINAL-URL:https://mac.roundvalley.org
X-WR-CALDESC:Events for Round Valley Area Municipal Advisory Council
REFRESH-INTERVAL;VALUE=DURATION:PT1H
X-Robots-Tag:noindex
X-PUBLISHED-TTL:PT1H
BEGIN:VTIMEZONE
TZID:America/Los_Angeles
BEGIN:DAYLIGHT
TZOFFSETFROM:-0800
TZOFFSETTO:-0700
TZNAME:PDT
DTSTART:20250309T100000
END:DAYLIGHT
BEGIN:STANDARD
TZOFFSETFROM:-0700
TZOFFSETTO:-0800
TZNAME:PST
DTSTART:20251102T090000
END:STANDARD
END:VTIMEZONE
BEGIN:VEVENT
DTSTART;TZID=America/Los_Angeles:20250503T110000
DTEND;TZID=America/Los_Angeles:20250503T170000
DTSTAMP:20260424T011829
CREATED:20250209T182311Z
LAST-MODIFIED:20250318T184901Z
UID:2059-1746270000-1746291600@mac.roundvalley.org
SUMMARY:Round Valley Earth Day Celebration
DESCRIPTION:
URL:https://mac.roundvalley.org/event/round-valley-earth-day-celebration/
LOCATION:The Walnut Grove\, 23925 Howard Street\, Covelo\, CA\, 95428\, United States
END:VEVENT
BEGIN:VEVENT
DTSTART;TZID=America/Los_Angeles:20250509T130000
DTEND;TZID=America/Los_Angeles:20250509T150000
DTSTAMP:20260424T011829
CREATED:20250410T015925Z
LAST-MODIFIED:20250410T015925Z
UID:2207-1746795600-1746802800@mac.roundvalley.org
SUMMARY:Seed Library Planting Party
DESCRIPTION:
URL:https://mac.roundvalley.org/event/seed-library-planting-party/
LOCATION:The Walnut Grove\, 23925 Howard Street\, Covelo\, CA\, 95428\, United States
END:VEVENT
BEGIN:VEVENT
DTSTART;TZID=America/Los_Angeles:20250510T100000
DTEND;TZID=America/Los_Angeles:20250510T170000
DTSTAMP:20260424T011829
CREATED:20250410T015528Z
LAST-MODIFIED:20250424T155613Z
UID:2201-1746871200-1746896400@mac.roundvalley.org
SUMMARY:Covelo FFA Field Day
DESCRIPTION:It’s almost that time of year again. Please join us for our Annual Mothers day weekend Field Day Rodeo Saturday May 10th!!!!! “Back to Our Roots in Cowboy Boots!” We look forward to see you there. \nhttps://www.facebook.com/events/1375688913569883/?acontext=%7B%22event_action_history%22%3A[%7B%22mechanism%22%3A%22attachment%22%2C%22surface%22%3A%22newsfeed%22%7D]%2C%22ref_notif_type%22%3Anull%7D \n 
URL:https://mac.roundvalley.org/event/covelo-ffa-field-day/
LOCATION:CA
END:VEVENT
BEGIN:VEVENT
DTSTART;TZID=America/Los_Angeles:20250515T190000
DTEND;TZID=America/Los_Angeles:20250515T210000
DTSTAMP:20260424T011829
CREATED:20250129T195825Z
LAST-MODIFIED:20250129T195825Z
UID:1988-1747335600-1747342800@mac.roundvalley.org
SUMMARY:Mic Night Cafe
DESCRIPTION:
URL:https://mac.roundvalley.org/event/mic-night-cafe-6/
LOCATION:Round Valley Library Commons\, 23925 Howard Street\, Covelo\, 95428
END:VEVENT
BEGIN:VEVENT
DTSTART;TZID=America/Los_Angeles:20250517T080000
DTEND;TZID=America/Los_Angeles:20250517T170000
DTSTAMP:20260424T011829
CREATED:20250410T014144Z
LAST-MODIFIED:20250415T164107Z
UID:2197-1747468800-1747501200@mac.roundvalley.org
SUMMARY:Volunteer Work Day at Valley View Cemetery
DESCRIPTION:
URL:https://mac.roundvalley.org/event/volunteer-work-day-at-valley-view-cemetery/
LOCATION:Valley View Cemetery\, 23501 Cemetery Lane\, Covelo\, CA\, 95428
END:VEVENT
BEGIN:VEVENT
DTSTART;TZID=America/Los_Angeles:20250521T120000
DTEND;TZID=America/Los_Angeles:20250521T130000
DTSTAMP:20260424T011829
CREATED:20250318T192907Z
LAST-MODIFIED:20250318T192907Z
UID:2134-1747828800-1747832400@mac.roundvalley.org
SUMMARY:MCSO Sheriff Community Meeting
DESCRIPTION:Monthly Sheriff’s meeting with the community
URL:https://mac.roundvalley.org/event/mcso-sheriff-community-meeting-2/
LOCATION:Covelo Rec Center\, 22830 South Airport Road\, Covelo\, 95428
END:VEVENT
BEGIN:VEVENT
DTSTART;TZID=America/Los_Angeles:20250523T090000
DTEND;TZID=America/Los_Angeles:20250523T150000
DTSTAMP:20260424T011829
CREATED:20250414T135506Z
LAST-MODIFIED:20250414T135546Z
UID:2209-1747990800-1748012400@mac.roundvalley.org
SUMMARY:RVHS Annual Bigtime
DESCRIPTION:RVHS Big Time May 23rd\nCalling all past and present pageant winners to wear your crowns\, sashes\, medallions etc. Please come out to show your support for this community event! We will have an itinerary soon! Hope to see you there
URL:https://mac.roundvalley.org/event/rvhs-annual-bigtime/
LOCATION:Round Valley High School\, 76270 High School Street\, Covelo\, 95428
END:VEVENT
BEGIN:VEVENT
DTSTART;TZID=America/Los_Angeles:20250526T100000
DTEND;TZID=America/Los_Angeles:20250526T150000
DTSTAMP:20260424T011829
CREATED:20250410T014312Z
LAST-MODIFIED:20250415T164001Z
UID:2199-1748253600-1748271600@mac.roundvalley.org
SUMMARY:Annual History Day and Potluck honoring our Veterans at Valley View Cemetery
DESCRIPTION:
URL:https://mac.roundvalley.org/event/annual-history-day-and-potluck-honoring-our-veterans-at-valley-view-cemetery/
LOCATION:Valley View Cemetery\, 23501 Cemetery Lane\, Covelo\, CA\, 95428
END:VEVENT
BEGIN:VEVENT
DTSTART;TZID=America/Los_Angeles:20250528T180000
DTEND;TZID=America/Los_Angeles:20250528T190000
DTSTAMP:20260424T011829
CREATED:20241212T213952Z
LAST-MODIFIED:20241212T213952Z
UID:1887-1748455200-1748458800@mac.roundvalley.org
SUMMARY:Round Valley County Water District Board Meeting
DESCRIPTION:
URL:https://mac.roundvalley.org/event/round-valley-county-water-district-board-meeting-5/
LOCATION:District Building\, 23950 Grange Street\, Covelo\, CA\, 95428
END:VEVENT
BEGIN:VEVENT
DTSTART;TZID=America/Los_Angeles:20250531T080000
DTEND;TZID=America/Los_Angeles:20250601T170000
DTSTAMP:20260424T011829
CREATED:20250318T184459Z
LAST-MODIFIED:20250417T215706Z
UID:2128-1748678400-1748797200@mac.roundvalley.org
SUMMARY:Ruby-Sky Memorial Co-Ed Basketball Tournament
DESCRIPTION:
URL:https://mac.roundvalley.org/event/rubysky-memorial-co-ed-basketball-tournament/
LOCATION:Round Valley High School\, 76270 High School Street\, Covelo\, 95428
END:VEVENT
END:VCALENDAR