BEGIN:VCALENDAR
VERSION:2.0
PRODID:-//Round Valley Area Municipal Advisory Council - ECPv6.15.3//NONSGML v1.0//EN
CALSCALE:GREGORIAN
METHOD:PUBLISH
X-WR-CALNAME:Round Valley Area Municipal Advisory Council
X-ORIGINAL-URL:https://mac.roundvalley.org
X-WR-CALDESC:Events for Round Valley Area Municipal Advisory Council
REFRESH-INTERVAL;VALUE=DURATION:PT1H
X-Robots-Tag:noindex
X-PUBLISHED-TTL:PT1H
BEGIN:VTIMEZONE
TZID:America/Los_Angeles
BEGIN:DAYLIGHT
TZOFFSETFROM:-0800
TZOFFSETTO:-0700
TZNAME:PDT
DTSTART:20250309T100000
END:DAYLIGHT
BEGIN:STANDARD
TZOFFSETFROM:-0700
TZOFFSETTO:-0800
TZNAME:PST
DTSTART:20251102T090000
END:STANDARD
END:VTIMEZONE
BEGIN:VEVENT
DTSTART;TZID=America/Los_Angeles:20250531T080000
DTEND;TZID=America/Los_Angeles:20250601T170000
DTSTAMP:20260423T235605
CREATED:20250318T184459Z
LAST-MODIFIED:20250417T215706Z
UID:2128-1748678400-1748797200@mac.roundvalley.org
SUMMARY:Ruby-Sky Memorial Co-Ed Basketball Tournament
DESCRIPTION:
URL:https://mac.roundvalley.org/event/rubysky-memorial-co-ed-basketball-tournament/
LOCATION:Round Valley High School\, 76270 High School Street\, Covelo\, 95428
END:VEVENT
BEGIN:VEVENT
DTSTART;TZID=America/Los_Angeles:20250607T080000
DTEND;TZID=America/Los_Angeles:20250607T170000
DTSTAMP:20260423T235605
CREATED:20250227T143929Z
LAST-MODIFIED:20250227T144053Z
UID:2095-1749283200-1749315600@mac.roundvalley.org
SUMMARY:Round Valley History Day
DESCRIPTION:MARK YOUR CALENDARS\nWe are excited to announce  the 4th Annual “Round Valley History Day” will be held in June this year!!\n\n\nBetter weather and road conditions for the travelers and the pass will be open!!\n\n\nVery excited that Willy Bauer will be back as our “special guest” speaker!!!\nMore details to follow!!
URL:https://mac.roundvalley.org/event/round-valley-history-day-2/
LOCATION:Round Valley United Methodist Church\, 77834 Covelo Road\, Covelo\, CA\, 95428
END:VEVENT
BEGIN:VEVENT
DTSTART;TZID=America/Los_Angeles:20250618T120000
DTEND;TZID=America/Los_Angeles:20250618T130000
DTSTAMP:20260423T235605
CREATED:20250318T192953Z
LAST-MODIFIED:20250318T192953Z
UID:2136-1750248000-1750251600@mac.roundvalley.org
SUMMARY:MCSO Sheriff Community Meeting
DESCRIPTION:Monthly Sheriff’s meeting with the community
URL:https://mac.roundvalley.org/event/mcso-sheriff-community-meeting-3/
LOCATION:CA
END:VEVENT
BEGIN:VEVENT
DTSTART;TZID=America/Los_Angeles:20250619T190000
DTEND;TZID=America/Los_Angeles:20250619T210000
DTSTAMP:20260423T235605
CREATED:20250129T195936Z
LAST-MODIFIED:20250129T195936Z
UID:1990-1750359600-1750366800@mac.roundvalley.org
SUMMARY:Mic Night Cafe
DESCRIPTION:
URL:https://mac.roundvalley.org/event/mic-night-cafe-7/
LOCATION:Round Valley Library Commons\, 23925 Howard Street\, Covelo\, 95428
END:VEVENT
BEGIN:VEVENT
DTSTART;TZID=America/Los_Angeles:20250625T180000
DTEND;TZID=America/Los_Angeles:20250625T190000
DTSTAMP:20260423T235605
CREATED:20241212T214039Z
LAST-MODIFIED:20241212T214039Z
UID:1889-1750874400-1750878000@mac.roundvalley.org
SUMMARY:Round Valley County Water District Board Meeting
DESCRIPTION:
URL:https://mac.roundvalley.org/event/round-valley-county-water-district-board-meeting-6/
LOCATION:District Building\, 23950 Grange Street\, Covelo\, CA\, 95428
END:VEVENT
END:VCALENDAR