BEGIN:VCALENDAR
VERSION:2.0
PRODID:-//Round Valley Area Municipal Advisory Council - ECPv6.15.3//NONSGML v1.0//EN
CALSCALE:GREGORIAN
METHOD:PUBLISH
X-ORIGINAL-URL:https://mac.roundvalley.org
X-WR-CALDESC:Events for Round Valley Area Municipal Advisory Council
REFRESH-INTERVAL;VALUE=DURATION:PT1H
X-Robots-Tag:noindex
X-PUBLISHED-TTL:PT1H
BEGIN:VTIMEZONE
TZID:America/Los_Angeles
BEGIN:DAYLIGHT
TZOFFSETFROM:-0800
TZOFFSETTO:-0700
TZNAME:PDT
DTSTART:20260308T100000
END:DAYLIGHT
BEGIN:STANDARD
TZOFFSETFROM:-0700
TZOFFSETTO:-0800
TZNAME:PST
DTSTART:20261101T090000
END:STANDARD
END:VTIMEZONE
BEGIN:VEVENT
DTSTART;TZID=America/Los_Angeles:20260502T080000
DTEND;TZID=America/Los_Angeles:20260502T170000
DTSTAMP:20260423T114418
CREATED:20260124T170813Z
LAST-MODIFIED:20260124T170813Z
UID:2596-1777708800-1777741200@mac.roundvalley.org
SUMMARY:Round Valley History Day
DESCRIPTION:
URL:https://mac.roundvalley.org/event/round-valley-history-day-3/
LOCATION:CA
END:VEVENT
BEGIN:VEVENT
DTSTART;TZID=America/Los_Angeles:20260506T180000
DTEND;TZID=America/Los_Angeles:20260506T200000
DTSTAMP:20260423T114418
CREATED:20260128T184005Z
LAST-MODIFIED:20260128T185456Z
UID:2658-1778090400-1778097600@mac.roundvalley.org
SUMMARY:Round Valley Area Municipal Advisory Council Regular Meeting
DESCRIPTION:The RVAMAC was formed to help our community by being the liaison between our community and the Mendocino County Board of Supervisors\, and County and State agencies\, by presenting our needs and ideas to better serve our community. \nYou can find the current meeting agenda on the “Home” page of this website\, and the previous meeting information on “Agendas\, Minutes and Zoom Recordings” page.
URL:https://mac.roundvalley.org/event/round-valley-area-municipal-advisory-council-regular-meeting-4/
LOCATION:Round Valley Library Commons\, 23925 Howard Street\, Covelo\, 95428
END:VEVENT
BEGIN:VEVENT
DTSTART;TZID=America/Los_Angeles:20260513T120000
DTEND;TZID=America/Los_Angeles:20260513T130000
DTSTAMP:20260423T114418
CREATED:20260124T171431Z
LAST-MODIFIED:20260124T171431Z
UID:2604-1778673600-1778677200@mac.roundvalley.org
SUMMARY:Covelo Cemetery District Board Meeting
DESCRIPTION:
URL:https://mac.roundvalley.org/event/covelo-cemetery-district-board-meeting-5/
LOCATION:Round Valley Library Commons\, 23925 Howard Street\, Covelo\, 95428
END:VEVENT
BEGIN:VEVENT
DTSTART;TZID=America/Los_Angeles:20260516T080000
DTEND;TZID=America/Los_Angeles:20260516T170000
DTSTAMP:20260423T114418
CREATED:20260226T145836Z
LAST-MODIFIED:20260226T145836Z
UID:2741-1778918400-1778950800@mac.roundvalley.org
SUMMARY:Red Cross to Install Free Smoke Alarms In Your Home
DESCRIPTION:Sound the Alarm!\n\nThe Red Cross is returning to Covelo to install free smoke alarms to all that need them!\nThey will visit Covelo/Round Valley on Saturday\, May 16th.\n\n\nTo schedule an appointment please call (707) 978-8269 and leave a message with your phone number.\nSomeone from the Red Cross will call you back and schedule a time on May 16th.
URL:https://mac.roundvalley.org/event/red-cross-to-install-free-smoke-alarms-in-your-home/
LOCATION:CA
END:VEVENT
BEGIN:VEVENT
DTSTART;TZID=America/Los_Angeles:20260520T120000
DTEND;TZID=America/Los_Angeles:20260520T130000
DTSTAMP:20260423T114418
CREATED:20260111T210359Z
LAST-MODIFIED:20260111T210359Z
UID:2518-1779278400-1779282000@mac.roundvalley.org
SUMMARY:Sheriff's Monthly Meeting
DESCRIPTION:May meeting with MCSO
URL:https://mac.roundvalley.org/event/sheriffs-monthly-meeting-5/
LOCATION:Covelo Rec Center\, 22830 South Airport Road\, Covelo\, 95428
END:VEVENT
BEGIN:VEVENT
DTSTART;TZID=America/Los_Angeles:20260521T190000
DTEND;TZID=America/Los_Angeles:20260521T210000
DTSTAMP:20260423T114418
CREATED:20260111T213733Z
LAST-MODIFIED:20260111T213733Z
UID:2568-1779390000-1779397200@mac.roundvalley.org
SUMMARY:Mic Night Covelo
DESCRIPTION:Every 3rd Thursday of the month
URL:https://mac.roundvalley.org/event/mic-night-covelo-5/
LOCATION:Round Valley Library Commons\, 23925 Howard Street\, Covelo\, 95428
END:VEVENT
BEGIN:VEVENT
DTSTART;TZID=America/Los_Angeles:20260527T180000
DTEND;TZID=America/Los_Angeles:20260527T190000
DTSTAMP:20260423T114418
CREATED:20260111T211818Z
LAST-MODIFIED:20260111T211818Z
UID:2542-1779904800-1779908400@mac.roundvalley.org
SUMMARY:Round Valley County Water District Board Meeting
DESCRIPTION:Regular Board Meeting
URL:https://mac.roundvalley.org/event/round-valley-county-water-district-board-meeting-17/
LOCATION:District Building\, 23950 Grange Street\, Covelo\, CA\, 95428
END:VEVENT
END:VCALENDAR