BEGIN:VCALENDAR
VERSION:2.0
PRODID:-//Round Valley Area Municipal Advisory Council - ECPv6.15.3//NONSGML v1.0//EN
CALSCALE:GREGORIAN
METHOD:PUBLISH
X-WR-CALNAME:Round Valley Area Municipal Advisory Council
X-ORIGINAL-URL:https://mac.roundvalley.org
X-WR-CALDESC:Events for Round Valley Area Municipal Advisory Council
REFRESH-INTERVAL;VALUE=DURATION:PT1H
X-Robots-Tag:noindex
X-PUBLISHED-TTL:PT1H
BEGIN:VTIMEZONE
TZID:America/Los_Angeles
BEGIN:DAYLIGHT
TZOFFSETFROM:-0800
TZOFFSETTO:-0700
TZNAME:PDT
DTSTART:20260308T100000
END:DAYLIGHT
BEGIN:STANDARD
TZOFFSETFROM:-0700
TZOFFSETTO:-0800
TZNAME:PST
DTSTART:20261101T090000
END:STANDARD
END:VTIMEZONE
BEGIN:VEVENT
DTSTART;TZID=America/Los_Angeles:20260603T180000
DTEND;TZID=America/Los_Angeles:20260603T200000
DTSTAMP:20260423T130333
CREATED:20260128T184043Z
LAST-MODIFIED:20260128T185435Z
UID:2660-1780509600-1780516800@mac.roundvalley.org
SUMMARY:Round Valley Area Municipal Advisory Council Regular Meeting
DESCRIPTION:The RVAMAC was formed to help our community by being the liaison between our community and the Mendocino County Board of Supervisors\, and County and State agencies\, by presenting our needs and ideas to better serve our community. \nYou can find the current meeting agenda on the “Home” page of this website\, and the previous meeting information on “Agendas\, Minutes and Zoom Recordings” page.
URL:https://mac.roundvalley.org/event/round-valley-area-municipal-advisory-council-regular-meeting-5/
LOCATION:Round Valley Library Commons\, 23925 Howard Street\, Covelo\, 95428
END:VEVENT
BEGIN:VEVENT
DTSTART;TZID=America/Los_Angeles:20260610T120000
DTEND;TZID=America/Los_Angeles:20260610T130000
DTSTAMP:20260423T130333
CREATED:20260124T171511Z
LAST-MODIFIED:20260124T171511Z
UID:2606-1781092800-1781096400@mac.roundvalley.org
SUMMARY:Covelo Cemetery District Board Meeting
DESCRIPTION:
URL:https://mac.roundvalley.org/event/covelo-cemetery-district-board-meeting-6/
LOCATION:Round Valley Library Commons\, 23925 Howard Street\, Covelo\, 95428
END:VEVENT
BEGIN:VEVENT
DTSTART;TZID=America/Los_Angeles:20260617T120000
DTEND;TZID=America/Los_Angeles:20260617T130000
DTSTAMP:20260423T130333
CREATED:20260111T210445Z
LAST-MODIFIED:20260111T210445Z
UID:2520-1781697600-1781701200@mac.roundvalley.org
SUMMARY:Sheriff's Monthly Meeting
DESCRIPTION:June meeting with MCSO
URL:https://mac.roundvalley.org/event/sheriffs-monthly-meeting-6/
LOCATION:Covelo Rec Center\, 22830 South Airport Road\, Covelo\, 95428
END:VEVENT
BEGIN:VEVENT
DTSTART;TZID=America/Los_Angeles:20260618T190000
DTEND;TZID=America/Los_Angeles:20260618T210000
DTSTAMP:20260423T130333
CREATED:20260111T213823Z
LAST-MODIFIED:20260111T213823Z
UID:2570-1781809200-1781816400@mac.roundvalley.org
SUMMARY:Mic Night Covelo
DESCRIPTION:Every 3rd Thursday of the month
URL:https://mac.roundvalley.org/event/mic-night-covelo-6/
LOCATION:Round Valley Library Commons\, 23925 Howard Street\, Covelo\, 95428
END:VEVENT
BEGIN:VEVENT
DTSTART;TZID=America/Los_Angeles:20260624T180000
DTEND;TZID=America/Los_Angeles:20260624T190000
DTSTAMP:20260423T130333
CREATED:20260111T211907Z
LAST-MODIFIED:20260111T211907Z
UID:2544-1782324000-1782327600@mac.roundvalley.org
SUMMARY:Round Valley County Water District Board Meeting
DESCRIPTION:Regular Board Meeting
URL:https://mac.roundvalley.org/event/round-valley-county-water-district-board-meeting-18/
LOCATION:District Building\, 23950 Grange Street\, Covelo\, CA\, 95428
END:VEVENT
END:VCALENDAR