BEGIN:VCALENDAR
VERSION:2.0
PRODID:-//Round Valley Area Municipal Advisory Council - ECPv6.15.3//NONSGML v1.0//EN
CALSCALE:GREGORIAN
METHOD:PUBLISH
X-WR-CALNAME:Round Valley Area Municipal Advisory Council
X-ORIGINAL-URL:https://mac.roundvalley.org
X-WR-CALDESC:Events for Round Valley Area Municipal Advisory Council
REFRESH-INTERVAL;VALUE=DURATION:PT1H
X-Robots-Tag:noindex
X-PUBLISHED-TTL:PT1H
BEGIN:VTIMEZONE
TZID:America/Los_Angeles
BEGIN:DAYLIGHT
TZOFFSETFROM:-0800
TZOFFSETTO:-0700
TZNAME:PDT
DTSTART:20260308T100000
END:DAYLIGHT
BEGIN:STANDARD
TZOFFSETFROM:-0700
TZOFFSETTO:-0800
TZNAME:PST
DTSTART:20261101T090000
END:STANDARD
END:VTIMEZONE
BEGIN:VEVENT
DTSTART;TZID=America/Los_Angeles:20260805T180000
DTEND;TZID=America/Los_Angeles:20260805T200000
DTSTAMP:20260423T154911
CREATED:20260128T184205Z
LAST-MODIFIED:20260128T185349Z
UID:2664-1785952800-1785960000@mac.roundvalley.org
SUMMARY:Round Valley Area Municipal Advisory Council Regular Meeting
DESCRIPTION:The RVAMAC was formed to help our community by being the liaison between our community and the Mendocino County Board of Supervisors\, and County and State agencies\, by presenting our needs and ideas to better serve our community. \nYou can find the current meeting agenda on the “Home” page of this website\, and the previous meeting information on “Agendas\, Minutes and Zoom Recordings” page.
URL:https://mac.roundvalley.org/event/round-valley-area-municipal-advisory-council-regular-meeting-7/
LOCATION:Round Valley Library Commons\, 23925 Howard Street\, Covelo\, 95428
END:VEVENT
BEGIN:VEVENT
DTSTART;TZID=America/Los_Angeles:20260812T120000
DTEND;TZID=America/Los_Angeles:20260812T130000
DTSTAMP:20260423T154911
CREATED:20260124T172059Z
LAST-MODIFIED:20260124T172059Z
UID:2610-1786536000-1786539600@mac.roundvalley.org
SUMMARY:Covelo Cemetery District Board Meeting
DESCRIPTION:
URL:https://mac.roundvalley.org/event/covelo-cemetery-district-board-meeting-8/
LOCATION:Round Valley Library Commons\, 23925 Howard Street\, Covelo\, 95428
END:VEVENT
BEGIN:VEVENT
DTSTART;TZID=America/Los_Angeles:20260819T120000
DTEND;TZID=America/Los_Angeles:20260819T130000
DTSTAMP:20260423T154911
CREATED:20260111T210630Z
LAST-MODIFIED:20260111T210630Z
UID:2524-1787140800-1787144400@mac.roundvalley.org
SUMMARY:Sheriff's Monthly Meeting
DESCRIPTION:August meeting with MCSO
URL:https://mac.roundvalley.org/event/sheriffs-monthly-meeting-8/
LOCATION:Covelo Rec Center\, 22830 South Airport Road\, Covelo\, 95428
END:VEVENT
BEGIN:VEVENT
DTSTART;TZID=America/Los_Angeles:20260820T190000
DTEND;TZID=America/Los_Angeles:20260820T210000
DTSTAMP:20260423T154911
CREATED:20260111T214005Z
LAST-MODIFIED:20260111T214005Z
UID:2574-1787252400-1787259600@mac.roundvalley.org
SUMMARY:Mic Night Covelo
DESCRIPTION:Every 3rd Thursday of the month
URL:https://mac.roundvalley.org/event/mic-night-covelo-8/
LOCATION:Round Valley Library Commons\, 23925 Howard Street\, Covelo\, 95428
END:VEVENT
BEGIN:VEVENT
DTSTART;TZID=America/Los_Angeles:20260826T180000
DTEND;TZID=America/Los_Angeles:20260826T190000
DTSTAMP:20260423T154911
CREATED:20260111T212102Z
LAST-MODIFIED:20260111T212102Z
UID:2548-1787767200-1787770800@mac.roundvalley.org
SUMMARY:Round Valley County Water District Board Meeting
DESCRIPTION:Regular Board Meeting
URL:https://mac.roundvalley.org/event/round-valley-county-water-district-board-meeting-20/
LOCATION:District Building\, 23950 Grange Street\, Covelo\, CA\, 95428
END:VEVENT
END:VCALENDAR