BEGIN:VCALENDAR
VERSION:2.0
PRODID:-//Round Valley Area Municipal Advisory Council - ECPv6.15.3//NONSGML v1.0//EN
CALSCALE:GREGORIAN
METHOD:PUBLISH
X-WR-CALNAME:Round Valley Area Municipal Advisory Council
X-ORIGINAL-URL:https://mac.roundvalley.org
X-WR-CALDESC:Events for Round Valley Area Municipal Advisory Council
REFRESH-INTERVAL;VALUE=DURATION:PT1H
X-Robots-Tag:noindex
X-PUBLISHED-TTL:PT1H
BEGIN:VTIMEZONE
TZID:America/Los_Angeles
BEGIN:DAYLIGHT
TZOFFSETFROM:-0800
TZOFFSETTO:-0700
TZNAME:PDT
DTSTART:20260308T100000
END:DAYLIGHT
BEGIN:STANDARD
TZOFFSETFROM:-0700
TZOFFSETTO:-0800
TZNAME:PST
DTSTART:20261101T090000
END:STANDARD
END:VTIMEZONE
BEGIN:VEVENT
DTSTART;TZID=America/Los_Angeles:20261007T180000
DTEND;TZID=America/Los_Angeles:20261007T200000
DTSTAMP:20260423T182247
CREATED:20260128T184420Z
LAST-MODIFIED:20260128T185241Z
UID:2670-1791396000-1791403200@mac.roundvalley.org
SUMMARY:Round Valley Area Municipal Advisory Council Regular Meeting
DESCRIPTION:The RVAMAC was formed to help our community by being the liaison between our community and the Mendocino County Board of Supervisors\, and County and State agencies\, by presenting our needs and ideas to better serve our community. \nYou can find the current meeting agenda on the “Home” page of this website\, and the previous meeting information on “Agendas\, Minutes and Zoom Recordings” page.
URL:https://mac.roundvalley.org/event/round-valley-area-municipal-advisory-council-regular-meeting-10/
LOCATION:Round Valley Library Commons\, 23925 Howard Street\, Covelo\, 95428
END:VEVENT
BEGIN:VEVENT
DTSTART;TZID=America/Los_Angeles:20261014T120000
DTEND;TZID=America/Los_Angeles:20261014T130000
DTSTAMP:20260423T182247
CREATED:20260124T172224Z
LAST-MODIFIED:20260124T172224Z
UID:2614-1791979200-1791982800@mac.roundvalley.org
SUMMARY:Covelo Cemetery District Board Meeting
DESCRIPTION:
URL:https://mac.roundvalley.org/event/covelo-cemetery-district-board-meeting-10/
LOCATION:Round Valley Library Commons\, 23925 Howard Street\, Covelo\, 95428
END:VEVENT
BEGIN:VEVENT
DTSTART;TZID=America/Los_Angeles:20261015T190000
DTEND;TZID=America/Los_Angeles:20261015T210000
DTSTAMP:20260423T182247
CREATED:20260111T214149Z
LAST-MODIFIED:20260111T214149Z
UID:2578-1792090800-1792098000@mac.roundvalley.org
SUMMARY:Mic Night Covelo
DESCRIPTION:Every 3rd Thursday
URL:https://mac.roundvalley.org/event/mic-night-covelo-10/
LOCATION:Round Valley Library Commons\, 23925 Howard Street\, Covelo\, 95428
END:VEVENT
BEGIN:VEVENT
DTSTART;TZID=America/Los_Angeles:20261021T120000
DTEND;TZID=America/Los_Angeles:20261021T130000
DTSTAMP:20260423T182247
CREATED:20260111T210817Z
LAST-MODIFIED:20260111T210817Z
UID:2528-1792584000-1792587600@mac.roundvalley.org
SUMMARY:Sheriff's Monthly Meeting
DESCRIPTION:October meeting with MCSO
URL:https://mac.roundvalley.org/event/sheriffs-monthly-meeting-10/
LOCATION:Covelo Rec Center\, 22830 South Airport Road\, Covelo\, 95428
END:VEVENT
BEGIN:VEVENT
DTSTART;TZID=America/Los_Angeles:20261028T180000
DTEND;TZID=America/Los_Angeles:20261028T190000
DTSTAMP:20260423T182247
CREATED:20260111T212225Z
LAST-MODIFIED:20260111T212225Z
UID:2552-1793210400-1793214000@mac.roundvalley.org
SUMMARY:Round Valley County Water District Board Meeting
DESCRIPTION:Regular Board Meeting
URL:https://mac.roundvalley.org/event/round-valley-county-water-district-board-meeting-22/
LOCATION:District Building\, 23950 Grange Street\, Covelo\, CA\, 95428
END:VEVENT
END:VCALENDAR